Workbook

Sheet Level 2 Scoping 
A1: SFRA Site Screening | AH1: Description | AI1: Number of sites | AJ1: Detailed Level 2 site summary required
AH2: 0% of the site is at risk from a certain source (surface water, fluvial and coastal) | AI2: =COUNTIF(AF13:AF170,"Most preferable") -> 36 | AJ2: No
AH3: >20% the site is at risk from a certain source (surface water, fluvial and coastal) | AI3: =COUNTIF(AF13:AF170,"Less preferable") -> 90 | AJ3: No
AH4: If greater than 20% of the site is at risk from a certain source (surface water, fluvial and coastal) | AI4: =COUNTIF(AF13:AF170,"Least preferable") -> 32 | AJ4: Yes
A8: Proportion of site shown to be at risk (%)
A10: Site Context | G10: Fluvial and Tidal Flood Zones | K10: NaFRA2 Proxy's (where no detailed modelling is available) | N10: Detailed modelling | R10: Flood Map for Planning - Surface Water Spatial Planning extents - Present Day | U10: Flood Map for Planning - Surface Water Spatial Planning extents - Climate Change | X10: Watercourse | Y10: EA Reservoir Flood Extent | AA10: Historic Flooding | AC10: JBA Groundwater Flood Map | AD10: Flood Alert and Warning Areas | AF10: Level 2 Scoping
G11: Flood Map for Planning | J11: Fluvial and Tidal models | K11: River and Sea present day 3.3% AEP | L11: Rivers and Sea 3.3% AEP - Climate Change | M11: Flood Map for Planning - Flood Zones plus Climate Change | N11: Fluvial models | P11: Tidal models
A12: Site Name/ Address | B12: Parish | C12: Site ID | D12: Area (ha) | E12: Size of indicative built area | F12: Undeveloped proportion | G12: % in Flood Zone 1 | H12: % in Flood Zone 2 | I12: % in Flood Zone 3a | J12: % in FZ3b | K12: % in defended 3.3% AEP | L12: % in defended 3.3% AEP - Climate Change | M12: % in Flood Zones plus Climate Change (2070 to 2125) | N12: % in FZ3a + Central CC | O12: % in FZ3a + Higher Central CC | P12: % in FZ3a + Higher Central CC | Q12: % in FZ3a + Upper End CC | R12: % in 0.1% AEP - 1 in 1000 (low) | S12: % in 1% AEP - 1 in 100 (medium) | T12: % in 3.33% AEP - 1 in 30 (high) | U12: % in 0.1% AEP - 1 in 1000 (low) | V12: % in 1% AEP - 1 in 100 (medium) | W12: % in 3.33% AEP - 1 in 30 (high) | X12: Is the site within 20m of a watercourse? (Y/N) | Y12: % in Dry Day | Z12: % in Wet Day | AA12: EA Historic Flood Map | AB12: Number of East Sussex County Council recorded flood incidents within 50m | AC12: Are groundwater emergence levels in the site within 0.5m of the surface? (Y/N) | AD12: Site located in a Flood Alert Area | AE12: Site located in a Flood Warning Area | AF12: Preferability (20%) | AG12: Preferability (undeveloped proportion) | AH12: Will require a detailed site summary assessment at the Level 2 stage if taken forward | AI12: Recommendations will be required in the main Level 2 SFRA report to address the reservoir flood risk | AJ12: Recommendations will be required in the main Level 2 SFRA report to address the groundwater flood risk | AK12: Site located withn model | AL12: Model Name | AM12: Does the site benefit from defences? | AN12: Is additional modelling required? | AO12: Is safe access and egress possible? | AP12: For least preferable sites - Level 2 SFRA required, if not why?
A13: Land at Sunny Rise, Battle | B13: Battle | C13: BAT0002 | D13: 0.58 | E13: =VLOOKUP(A13,Sheet1!$A$2:$G$148,7,FALSE) -> 0.35 | F13: =IF(ISNA(E13),20,IF(E13=0,20,(1-E13/D13)*100)) -> 39.655172 | G13: 100 | H13: 0 | I13: 0 | J13: 0 | K13: 0 | L13: 0 | M13: 0 | N13: 0 | O13: 0 | P13: 0 | Q13: 0 | R13: 2.7336135 | S13: 0 | T13: 0 | U13: 12.096629 | V13: 2.0159948 | W13: 0 | X13: No | Y13: 0 | Z13: 0 | AA13: 0 | AB13: 0 | AC13: No | AD13: No | AE13: No | AF13: =IF(AND(M13=0,V13=0),"Most preferable",IF(OR(M13>20,V13>20),"Least preferable","Less preferable")) -> Less preferable | AG13: =IF(AND(M13=0,V13=0),"Most preferable",IF(OR(M13>F13,V13>F13),"Least preferable","Less preferable")) -> Less preferable | AH13: =IF(OR((M13)>F13,V13>F13),"Yes","No") -> No | AI13: No | AJ13: No | AK13: N/A | AL13: N/A | AM13: N/A | AN13: N/A
A14: Land adjoining Little Brans, Battle | B14: Battle | C14: BAT0069 | D14: 5.08 | E14: =VLOOKUP(A14,Sheet1!$A$2:$G$148,7,FALSE) -> 2.29 | F14: =IF(ISNA(E14),20,IF(E14=0,20,(1-E14/D14)*100)) -> 54.92126 | G14: 100 | H14: 0 | I14: 0 | J14: 0 | K14: 0 | L14: 0 | M14: 0 | N14: 0 | O14: 0 | P14: 0 | Q14: 0 | R14: 8.0975725 | S14: 3.4203 | T14: 1.517001 | U14: 14.393931 | V14: 7.147306 | W14: 4.5001999 | X14: Yes | Y14: 0 | Z14: 0 | AA14: 0 | AB14: 3 | AC14: No | AD14: No | AE14: No | AF14: =IF(AND(M14=0,V14=0),"Most preferable",IF(OR(M14>20,V14>20),"Least preferable","Less preferable")) -> Less preferable | AG14: =IF(AND(M14=0,V14=0),"Most preferable",IF(OR(M14>F14,V14>F14),"Least preferable","Less preferable")) -> Less preferable | AH14: =IF(OR((M14)>F14,V14>F14),"Yes","No") -> No | AI14: No | AJ14: No | AK14: N/A | AL14: N/A | AM14: N/A | AN14: N/A
A15: Beech Farm, Battle | B15: Battle | C15: BAT0070 | D15: 0.91 | E15: =VLOOKUP(A15,Sheet1!$A$2:$G$148,7,FALSE) -> 0.2 | F15: =IF(ISNA(E15),20,IF(E15=0,20,(1-E15/D15)*100)) -> 78.021978 | G15: 100 | H15: 0 | I15: 0 | J15: 0 | K15: 0 | L15: 0 | M15: 0 | N15: 0 | O15: 0 | P15: 0 | Q15: 0 | R15: 0.10010126 | S15: 0 | T15: 0 | U15: 1.6520973 | V15: 0.060338582 | W15: 0.036607271 | X15: No | Y15: 0 | Z15: 0 | AA15: 0 | AB15: 0 | AC15: No | AD15: No | AE15: No | AF15: =IF(AND(M15=0,V15=0),"Most preferable",IF(OR(M15>20,V15>20),"Least preferable","Less preferable")) -> Less preferable | AG15: =IF(AND(M15=0,V15=0),"Most preferable",IF(OR(M15>F15,V15>F15),"Least preferable","Less preferable")) -> Less preferable | AH15: =IF(OR((M15)>F15,V15>F15),"Yes","No") -> No | AI15: No | AJ15: No | AK15: N/A | AL15: N/A | AM15: N/A | AN15: N/A
A16: Land adjacent to 1 Loose Farm Cottages, Battle | B16: Battle | C16: BAT0083 | D16: 0.79 | E16: =VLOOKUP(A16,Sheet1!$A$2:$G$148,7,FALSE) -> 0.11 | F16: =IF(ISNA(E16),20,IF(E16=0,20,(1-E16/D16)*100)) -> 86.075949 | G16: 100 | H16: 0 | I16: 0 | J16: 0 | K16: 0 | L16: 0 | M16: 0 | N16: 0 | O16: 0 | P16: 0 | Q16: 0 | R16: 0 | S16: 0 | T16: 0 | U16: 0 | V16: 0 | W16: 0 | X16: No | Y16: 0 | Z16: 0 | AA16: 0 | AB16: 0 | AC16: No | AD16: No | AE16: No | AF16: =IF(AND(M16=0,V16=0),"Most preferable",IF(OR(M16>20,V16>20),"Least preferable","Less preferable")) -> Most preferable | AG16: =IF(AND(M16=0,V16=0),"Most preferable",IF(OR(M16>F16,V16>F16),"Least preferable","Less preferable")) -> Most preferable | AH16: =IF(OR((M16)>F16,V16>F16),"Yes","No") -> No | AI16: No | AJ16: No | AK16: N/A | AL16: N/A | AM16: N/A | AN16: N/A
A17: Swallow Barn, Netherfield | B17: Battle | C17: BAT0088 | D17: 0.43 | E17: =VLOOKUP(A17,Sheet1!$A$2:$G$148,7,FALSE) -> 0.28 | F17: =IF(ISNA(E17),20,IF(E17=0,20,(1-E17/D17)*100)) -> 34.883721 | G17: 100 | H17: 0 | I17: 0 | J17: 0 | K17: 0 | L17: 0 | M17: 0 | N17: 0 | O17: 0 | P17: 0 | Q17: 0 | R17: 0 | S17: 0 | T17: 0 | U17: 0 | V17: 0 | W17: 0 | X17: No | Y17: 0 | Z17: 0 | AA17: 0 | AB17: 4 | AC17: No | AD17: No | AE17: No | AF17: =IF(AND(M17=0,V17=0),"Most preferable",IF(OR(M17>20,V17>20),"Least preferable","Less preferable")) -> Most preferable | AG17: =IF(AND(M17=0,V17=0),"Most preferable",IF(OR(M17>F17,V17>F17),"Least preferable","Less preferable")) -> Most preferable | AH17: =IF(OR((M17)>F17,V17>F17),"Yes","No") -> No | AI17: No | AJ17: No | AK17: N/A | AL17: N/A | AM17: N/A | AN17: N/A
A18: Battle Market Square, Battle | B18: Battle | C18: BAT0097 | D18: 0.87 | E18: =VLOOKUP(A18,Sheet1!$A$2:$G$148,7,FALSE) -> 0.8 | F18: =IF(ISNA(E18),20,IF(E18=0,20,(1-E18/D18)*100)) -> 8.045977 | G18: 100 | H18: 0 | I18: 0 | J18: 0 | K18: 0 | L18: 0 | M18: 0 | N18: 0 | O18: 0 | P18: 0 | Q18: 0 | R18: 2.6865485 | S18: 0.27009317 | T18: 0.083052352 | U18: 5.3832599 | V18: 2.2413088 | W18: 0.36235077 | X18: No | Y18: 0 | Z18: 0 | AA18: 0 | AB18: 6 | AC18: No | AD18: No | AE18: No | AF18: =IF(AND(M18=0,V18=0),"Most preferable",IF(OR(M18>20,V18>20),"Least preferable","Less preferable")) -> Less preferable | AG18: =IF(AND(M18=0,V18=0),"Most preferable",IF(OR(M18>F18,V18>F18),"Least preferable","Less preferable")) -> Less preferable | AH18: =IF(OR((M18)>F18,V18>F18),"Yes","No") -> No | AI18: No | AJ18: No | AK18: N/A | AL18: N/A | AM18: N/A | AN18: N/A
A19: White House Poultry Farm, Netherfield | B19: Battle | C19: BAT0108 | D19: 0.98 | E19: =VLOOKUP(A19,Sheet1!$A$2:$G$148,7,FALSE) -> 0.68 | F19: =IF(ISNA(E19),20,IF(E19=0,20,(1-E19/D19)*100)) -> 30.612245 | G19: 100 | H19: 0 | I19: 0 | J19: 0 | K19: 0 | L19: 0 | M19: 0 | N19: 0 | O19: 0 | P19: 0 | Q19: 0 | R19: 0.0018047551 | S19: 0 | T19: 0 | U19: 0.0018047551 | V19: 0.0018047551 | W19: 0 | X19: Yes | Y19: 0 | Z19: 0 | AA19: 0 | AB19: 0 | AC19: No | AD19: No | AE19: No | AF19: =IF(AND(M19=0,V19=0),"Most preferable",IF(OR(M19>20,V19>20),"Least preferable","Less preferable")) -> Less preferable | AG19: =IF(AND(M19=0,V19=0),"Most preferable",IF(OR(M19>F19,V19>F19),"Least preferable","Less preferable")) -> Less preferable | AH19: =IF(OR((M19)>F19,V19>F19),"Yes","No") -> No | AI19: No | AJ19: No | AK19: N/A | AL19: N/A | AM19: N/A | AN19: N/A
A20: Land at Caldbec House, Battle | B20: Battle | C20: BAT0109 | D20: 0.47 | E20: =VLOOKUP(A20,Sheet1!$A$2:$G$148,7,FALSE) -> 0.15 | F20: =IF(ISNA(E20),20,IF(E20=0,20,(1-E20/D20)*100)) -> 68.085106 | G20: 100 | H20: 0 | I20: 0 | J20: 0 | K20: 0 | L20: 0 | M20: 0 | N20: 0 | O20: 0 | P20: 0 | Q20: 0 | R20: 0 | S20: 0 | T20: 0 | U20: 0 | V20: 0 | W20: 0 | X20: No | Y20: 0 | Z20: 0 | AA20: 0 | AB20: 0 | AC20: No | AD20: No | AE20: No | AF20: =IF(AND(M20=0,V20=0),"Most preferable",IF(OR(M20>20,V20>20),"Least preferable","Less preferable")) -> Most preferable | AG20: =IF(AND(M20=0,V20=0),"Most preferable",IF(OR(M20>F20,V20>F20),"Least preferable","Less preferable")) -> Most preferable | AH20: =IF(OR((M20)>F20,V20>F20),"Yes","No") -> No | AI20: No | AJ20: No | AK20: N/A | AL20: N/A | AM20: N/A | AN20: N/A
A21: Land east of Coronation Gardens, Battle | B21: Battle | C21: BAT0121 | D21: 4.56 | E21: =VLOOKUP(A21,Sheet1!$A$2:$G$148,7,FALSE) -> 2.29 | F21: =IF(ISNA(E21),20,IF(E21=0,20,(1-E21/D21)*100)) -> 49.780702 | G21: 100 | H21: 0 | I21: 0 | J21: 0 | K21: 0 | L21: 0 | M21: 0 | N21: 0 | O21: 0 | P21: 0 | Q21: 0 | R21: 2.8173484 | S21: 2.5513323 | T21: 2.4364949 | U21: 3.162158 | V21: 2.7718939 | W21: 2.6094256 | X21: Yes | Y21: 0 | Z21: 0 | AA21: 0 | AB21: 1 | AC21: No | AD21: No | AE21: No | AF21: =IF(AND(M21=0,V21=0),"Most preferable",IF(OR(M21>20,V21>20),"Least preferable","Less preferable")) -> Less preferable | AG21: =IF(AND(M21=0,V21=0),"Most preferable",IF(OR(M21>F21,V21>F21),"Least preferable","Less preferable")) -> Less preferable | AH21: =IF(OR((M21)>F21,V21>F21),"Yes","No") -> No | AI21: No | AJ21: No | AK21: N/A | AL21: N/A | AM21: N/A | AN21: N/A
A22: Land at Almonry Farm, Battle | B22: Battle | C22: BAT0127 | D22: 4.8 | E22: =VLOOKUP(A22,Sheet1!$A$2:$G$148,7,FALSE) -> 2.4 | F22: =IF(ISNA(E22),20,IF(E22=0,20,(1-E22/D22)*100)) -> 50 | G22: 100 | H22: 0 | I22: 0 | J22: 0 | K22: 0 | L22: 0 | M22: 0 | N22: 0 | O22: 0 | P22: 0 | Q22: 0 | R22: 2.2172305 | S22: 0.94482541 | T22: 0.57778779 | U22: 4.183733 | V22: 1.8492659 | W22: 1.0699348 | X22: Yes | Y22: 0 | Z22: 0 | AA22: 0 | AB22: 18 | AC22: No | AD22: No | AE22: No | AF22: =IF(AND(M22=0,V22=0),"Most preferable",IF(OR(M22>20,V22>20),"Least preferable","Less preferable")) -> Less preferable | AG22: =IF(AND(M22=0,V22=0),"Most preferable",IF(OR(M22>F22,V22>F22),"Least preferable","Less preferable")) -> Less preferable | AH22: =IF(OR((M22)>F22,V22>F22),"Yes","No") -> No | AI22: No | AJ22: No | AK22: N/A | AL22: N/A | AM22: N/A | AN22: N/A
A23: Land south of Hastings Road, Battle | B23: Battle | C23: BAT0128 | D23: 10.26 | E23: =VLOOKUP(A23,Sheet1!$A$2:$G$148,7,FALSE) -> 5.54 | F23: =IF(ISNA(E23),20,IF(E23=0,20,(1-E23/D23)*100)) -> 46.003899 | G23: 100 | H23: 0 | I23: 0 | J23: 0 | K23: 0 | L23: 0 | M23: 0 | N23: 0 | O23: 0 | P23: 0 | Q23: 0 | R23: 2.1178311 | S23: 0.80181016 | T23: 0.60780063 | U23: 4.0440549 | V23: 1.9603713 | W23: 1.0370569 | X23: Yes | Y23: 0 | Z23: 0 | AA23: 0 | AB23: 1 | AC23: No | AD23: No | AE23: No | AF23: =IF(AND(M23=0,V23=0),"Most preferable",IF(OR(M23>20,V23>20),"Least preferable","Less preferable")) -> Less preferable | AG23: =IF(AND(M23=0,V23=0),"Most preferable",IF(OR(M23>F23,V23>F23),"Least preferable","Less preferable")) -> Less preferable | AH23: =IF(OR((M23)>F23,V23>F23),"Yes","No") -> No | AI23: No | AJ23: No | AK23: N/A | AL23: N/A | AM23: N/A | AN23: N/A
A24: Rutherfords Business Park, Marley Lane, Battle | B24: Battle | C24: BAT0129 | D24: 2.79 | E24: =VLOOKUP(A24,Sheet1!$A$2:$G$148,7,FALSE) -> 1.39 | F24: =IF(ISNA(E24),20,IF(E24=0,20,(1-E24/D24)*100)) -> 50.179211 | G24: 100 | H24: 0 | I24: 0 | J24: 0 | K24: 0 | L24: 0 | M24: 0 | N24: 0 | O24: 0 | P24: 0 | Q24: 0 | R24: 3.0475122 | S24: 0.53573744 | T24: 0.31510196 | U24: 6.4422154 | V24: 2.021992 | W24: 0.70824531 | X24: Yes | Y24: 0 | Z24: 0 | AA24: 0 | AB24: 1 | AC24: No | AD24: No | AE24: No | AF24: =IF(AND(M24=0,V24=0),"Most preferable",IF(OR(M24>20,V24>20),"Least preferable","Less preferable")) -> Less preferable | AG24: =IF(AND(M24=0,V24=0),"Most preferable",IF(OR(M24>F24,V24>F24),"Least preferable","Less preferable")) -> Less preferable | AH24: =IF(OR((M24)>F24,V24>F24),"Yes","No") -> No | AI24: No | AJ24: No | AK24: N/A | AL24: N/A | AM24: N/A | AN24: N/A
... A29: Land adjacent to 276 Turkey Road, Bexhill | B29: Bexhill | C29: BEX0005 | D29: 1.15 | E29: =VLOOKUP(A29,Sheet1!$A$2:$G$148,7,FALSE) -> 0.75 | F29: =IF(ISNA(E29),20,IF(E29=0,20,(1-E29/D29)*100)) -> 34.782609 | G29: 100 | H29: 0 | I29: 0 | J29: 0 | K29: 0 | L29: 0 | M29: 0 | N29: 0 | O29: 0 | P29: 0 | Q29: 0 | R29: 7.4611493 | S29: 2.3581706 | T29: 0 | U29: 24.947342 | V29: 6.383262 | W29: 2.5980415 | X29: No | Y29: 0 | Z29: 0 | AA29: 0 | AB29: 5 | AC29: No | AD29: No | AE29: No | AF29: =IF(AND(M29=0,V29=0),"Most preferable",IF(OR(M29>20,V29>20),"Least preferable","Less preferable")) -> Less preferable | AG29: =IF(AND(M29=0,V29=0),"Most preferable",IF(OR(M29>F29,V29>F29),"Least preferable","Less preferable")) -> Less preferable | AH29: =IF(OR((M29)>F29,V29>F29),"Yes","No") -> No | AI29: No | AJ29: No | AK29: N/A | AL29: N/A | AM29: N/A | AN29: N/A
A30: Land off Spindlewood Drive, Bexhill | B30: Bexhill | C30: BEX0006 | D30: 9.36 | E30: =VLOOKUP(A30,Sheet1!$A$2:$G$148,7,FALSE) -> 3.4 | F30: =IF(ISNA(E30),20,IF(E30=0,20,(1-E30/D30)*100)) -> 63.675214 | G30: 91.849621 | H30: 2.4475649 | I30: 5.7028141 | J30: 0 | K30: 1.0437221 | L30: 1.0701056 | M30: 23.924117 | N30: 0 | O30: 0 | P30: 11.564016 | Q30: 14.787767 | R30: 6.1842409 | S30: 2.950743 | T30: 1.3960639 | U30: 9.2123485 | V30: 5.5675901 | W30: 3.6361438 | X30: Yes | Y30: 0 | Z30: 0.081626475 | AA30: 0 | AB30: 2 | AC30: No | AD30: Yes | AE30: Yes | AF30: =IF(AND(M30=0,V30=0),"Most preferable",IF(OR(M30>20,V30>20),"Least preferable","Less preferable")) -> Least preferable | AG30: =IF(AND(M30=0,V30=0),"Most preferable",IF(OR(M30>F30,V30>F30),"Least preferable","Less preferable")) -> Less preferable | AH30: =IF(OR((M30)>F30,V30>F30),"Yes","No") -> No | AI30: N/A | AJ30: N/A | AK30: Yes | AL30: East Sussex Coastal Model - Eastbourne | AM30: No | AN30: Yes | AO30: Yes | AP30: No. Agreed with consultant that flood risk area can be accommodated in undeveloped portion of site.
A31: Land south-east of Beeching Road, Bexhill | B31: Bexhill | C31: BEX0008 | D31: 2.81 | E31: =VLOOKUP(A31,Sheet1!$A$2:$G$148,7,FALSE) -> 2 | F31: =IF(ISNA(E31),20,IF(E31=0,20,(1-E31/D31)*100)) -> 28.825623 | G31: 100 | H31: 0 | I31: 0 | J31: 0 | K31: 0 | L31: 0 | M31: 0 | N31: 0 | O31: 0 | P31: 0 | Q31: 0 | R31: 44.112679 | S31: 22.292787 | T31: 12.693923 | U31: 67.525686 | V31: 42.547376 | W31: 26.957472 | X31: Yes | Y31: 0 | Z31: 0 | AA31: 0 | AB31: 3 | AC31: No | AD31: No | AE31: No | AF31: =IF(AND(M31=0,V31=0),"Most preferable",IF(OR(M31>20,V31>20),"Least preferable","Less preferable")) -> Least preferable | AG31: =IF(AND(M31=0,V31=0),"Most preferable",IF(OR(M31>F31,V31>F31),"Least preferable","Less preferable")) -> Least preferable | AH31: =IF(OR((M31)>F31,V31>F31),"Yes","No") -> Yes | AI31: N/A | AJ31: N/A | AK31: N/A | AL31: N/A | AM31: N/A | AN31: N/A | AO31: Yes | AP31: Yes
A32: 2a Sackville Road, Bexhill | B32: Bexhill | C32: BEX0011 | D32: 0.03 | E32: =VLOOKUP(A32,Sheet1!$A$2:$G$148,7,FALSE) -> 0.03 | F32: =IF(ISNA(E32),20,IF(E32=0,20,(1-E32/D32)*100)) -> 0 | G32: 100 | H32: 0 | I32: 0 | J32: 0 | K32: 0 | L32: 0 | M32: 0 | N32: 0 | O32: 0 | P32: 0 | Q32: 0 | R32: 73.585663 | S32: 72.044363 | T32: 65.2851 | U32: 79.12883 | V32: 73.585663 | W32: 72.044363 | X32: No | Y32: 0 | Z32: 0 | AA32: 0 | AB32: 7 | AC32: No | AD32: No | AE32: No | AF32: =IF(AND(M32=0,V32=0),"Most preferable",IF(OR(M32>20,V32>20),"Least preferable","Less preferable")) -> Least preferable | AG32: =IF(AND(M32=0,V32=0),"Most preferable",IF(OR(M32>F32,V32>F32),"Least preferable","Less preferable")) -> Least preferable | AH32: =IF(OR((M32)>F32,V32>F32),"Yes","No") -> Yes | AI32: N/A | AJ32: N/A | AK32: N/A | AL32: N/A | AM32: N/A | AN32: N/A | AO32: No | AP32: Yes
A33: Land at Levetts Wood and Oaktree Farm, Bexhill | B33: Bexhill | C33: BEX0017 | D33: 9.33 | E33: =VLOOKUP(A33,Sheet1!$A$2:$G$148,7,FALSE) -> 0 | F33: =IF(ISNA(E33),20,IF(E33=0,20,(1-E33/D33)*100)) -> 20 | G33: 99.575145 | H33: 0.23601936 | I33: 0.18883526 | J33: 0 | K33: 0.075771407 | L33: 0.11103666 | M33: 0.67855244 | N33: 0 | O33: 0 | P33: 0 | Q33: 0 | R33: 3.9955188 | S33: 2.4924278 | T33: 1.8003367 | U33: 5.2179354 | V33: 3.8094269 | W33: 2.7048719 | X33: Yes | Y33: 0 | Z33: 0 | AA33: 0 | AB33: 0 | AC33: No | AD33: No | AE33: No | AF33: =IF(AND(M33=0,V33=0),"Most preferable",IF(OR(M33>20,V33>20),"Least preferable","Less preferable")) -> Less preferable | AG33: =IF(AND(M33=0,V33=0),"Most preferable",IF(OR(M33>F33,V33>F33),"Least preferable","Less preferable")) -> Less preferable | AH33: =IF(OR((M33)>F33,V33>F33),"Yes","No") -> No | AI33: No | AJ33: No | AK33: N/A | AL33: N/A | AM33: No | AN33: Yes
A34: Land at Barnhorn Green, Bexhill | B34: Bexhill | C34: BEX0021 | D34: 1.58 | E34: =VLOOKUP(A34,Sheet1!$A$2:$G$148,7,FALSE) -> 0 | F34: =IF(ISNA(E34),20,IF(E34=0,20,(1-E34/D34)*100)) -> 20 | G34: 100 | H34: 0 | I34: 0 | J34: 0 | K34: 0 | L34: 0 | M34: 0 | N34: 0 | O34: 0 | P34: 0 | Q34: 0 | R34: 0 | S34: 0 | T34: 0 | U34: 0 | V34: 0 | W34: 0 | X34: No | Y34: 0 | Z34: 0 | AA34: 0 | AB34: 0 | AC34: No | AD34: No | AE34: No | AF34: =IF(AND(M34=0,V34=0),"Most preferable",IF(OR(M34>20,V34>20),"Least preferable","Less preferable")) -> Most preferable | AG34: =IF(AND(M34=0,V34=0),"Most preferable",IF(OR(M34>F34,V34>F34),"Least preferable","Less preferable")) -> Most preferable | AH34: =IF(OR((M34)>F34,V34>F34),"Yes","No") -> No | AI34: No | AJ34: No | AK34: N/A | AL34: N/A | AM34: N/A | AN34: N/A
A35: Land at Freezeland Farm, Freezeland Lane, Bexhill | B35: Bexhill | C35: BEX0028 | D35: 0.5 | E35: =VLOOKUP(A35,Sheet1!$A$2:$G$148,7,FALSE) -> 0.25 | F35: =IF(ISNA(E35),20,IF(E35=0,20,(1-E35/D35)*100)) -> 50 | G35: 100 | H35: 0 | I35: 0 | J35: 0 | K35: 0 | L35: 0 | M35: 0 | N35: 0 | O35: 0 | P35: 0 | Q35: 0 | R35: 0 | S35: 0 | T35: 0 | U35: 0 | V35: 0 | W35: 0 | X35: No | Y35: 0 | Z35: 0 | AA35: 0 | AB35: 1 | AC35: No | AD35: No | AE35: No | AF35: =IF(AND(M35=0,V35=0),"Most preferable",IF(OR(M35>20,V35>20),"Least preferable","Less preferable")) -> Most preferable | AG35: =IF(AND(M35=0,V35=0),"Most preferable",IF(OR(M35>F35,V35>F35),"Least preferable","Less preferable")) -> Most preferable | AH35: =IF(OR((M35)>F35,V35>F35),"Yes","No") -> No | AI35: No | AJ35: No | AK35: N/A | AL35: N/A | AM35: N/A | AN35: N/A
A36: 30 Dorset Road, Bexhill | B36: Bexhill | C36: BEX0031 | D36: 0.08 | E36: =VLOOKUP(A36,Sheet1!$A$2:$G$148,7,FALSE) -> 0.06 | F36: =IF(ISNA(E36),20,IF(E36=0,20,(1-E36/D36)*100)) -> 25 | G36: 100 | H36: 0 | I36: 0 | J36: 0 | K36: 0 | L36: 0 | M36: 0 | N36: 0 | O36: 0 | P36: 0 | Q36: 0 | R36: 0 | S36: 0 | T36: 0 | U36: 0 | V36: 0 | W36: 0 | X36: No | Y36: 0 | Z36: 0 | AA36: 0 | AB36: 5 | AC36: No | AD36: No | AE36: No | AF36: =IF(AND(M36=0,V36=0),"Most preferable",IF(OR(M36>20,V36>20),"Least preferable","Less preferable")) -> Most preferable | AG36: =IF(AND(M36=0,V36=0),"Most preferable",IF(OR(M36>F36,V36>F36),"Least preferable","Less preferable")) -> Most preferable | AH36: =IF(OR((M36)>F36,V36>F36),"Yes","No") -> No | AI36: No | AJ36: No | AK36: N/A | AL36: N/A | AM36: N/A | AN36: N/A
A37: Former Sidley Sports Ground, Bexhill | B37: Bexhill | C37: BEX0032 | D37: 1.95 | E37: =VLOOKUP(A37,Sheet1!$A$2:$G$148,7,FALSE) -> 0.9 | F37: =IF(ISNA(E37),20,IF(E37=0,20,(1-E37/D37)*100)) -> 53.846154 | G37: 100 | H37: 0 | I37: 0 | J37: 0 | K37: 0 | L37: 0 | M37: 0 | N37: 0 | O37: 0 | P37: 0 | Q37: 0 | R37: 1.4570583 | S37: 1.0671412 | T37: 0.82087787 | U37: 1.9085411 | V37: 1.4160144 | W37: 1.1287071 | X37: No | Y37: 0 | Z37: 0 | AA37: 0 | AB37: 4 | AC37: No | AD37: No | AE37: No | AF37: =IF(AND(M37=0,V37=0),"Most preferable",IF(OR(M37>20,V37>20),"Least preferable","Less preferable")) -> Less preferable | AG37: =IF(AND(M37=0,V37=0),"Most preferable",IF(OR(M37>F37,V37>F37),"Least preferable","Less preferable")) -> Less preferable | AH37: =IF(OR((M37)>F37,V37>F37),"Yes","No") -> No | AI37: No | AJ37: No | AK37: N/A | AL37: N/A | AM37: N/A | AN37: N/A
A38: Cemetery Lodge, 250 Turkey Road, Bexhill | B38: Bexhill | C38: BEX0071 | D38: 0.08 | E38: =VLOOKUP(A38,Sheet1!$A$2:$G$148,7,FALSE) -> 0.07 | F38: =IF(ISNA(E38),20,IF(E38=0,20,(1-E38/D38)*100)) -> 12.5 | G38: 100 | H38: 0 | I38: 0 | J38: 0 | K38: 0 | L38: 0 | M38: 0 | N38: 0 | O38: 0 | P38: 0 | Q38: 0 | R38: 0.0303323 | S38: 0 | T38: 0 | U38: 5.8626428 | V38: 0 | W38: 0 | X38: No | Y38: 0 | Z38: 0 | AA38: 0 | AB38: 5 | AC38: No | AD38: No | AE38: No | AF38: =IF(AND(M38=0,V38=0),"Most preferable",IF(OR(M38>20,V38>20),"Least preferable","Less preferable")) -> Most preferable | AG38: =IF(AND(M38=0,V38=0),"Most preferable",IF(OR(M38>F38,V38>F38),"Least preferable","Less preferable")) -> Most preferable | AH38: =IF(OR((M38)>F38,V38>F38),"Yes","No") -> No | AI38: No | AJ38: No | AK38: N/A | AL38: N/A | AM38: N/A | AN38: N/A
A39: Land adjacent to Bexhill Town Hall, Bexhill | B39: Bexhill | C39: BEX0077 | D39: 0.59 | E39: =VLOOKUP(A39,Sheet1!$A$2:$G$148,7,FALSE) -> 0.1 | F39: =IF(ISNA(E39),20,IF(E39=0,20,(1-E39/D39)*100)) -> 83.050847 | G39: 100 | H39: 0 | I39: 0 | J39: 0 | K39: 0 | L39: 0 | M39: 0 | N39: 0 | O39: 0 | P39: 0 | Q39: 0 | R39: 9.7496908 | S39: 7.7188887 | T39: 5.9072382 | U39: 32.822903 | V39: 9.5433713 | W39: 8.0592699 | X39: No | Y39: 0 | Z39: 0 | AA39: 0 | AB39: 4 | AC39: No | AD39: No | AE39: No | AF39: =IF(AND(M39=0,V39=0),"Most preferable",IF(OR(M39>20,V39>20),"Least preferable","Less preferable")) -> Less preferable | AG39: =IF(AND(M39=0,V39=0),"Most preferable",IF(OR(M39>F39,V39>F39),"Least preferable","Less preferable")) -> Less preferable | AH39: =IF(OR((M39)>F39,V39>F39),"Yes","No") -> No | AI39: No | AJ39: No | AK39: N/A | AL39: N/A | AM39: N/A | AN39: N/A
A40: Sainsburys Site, 1 Buckhurst Place, Bexhill | B40: Bexhill | C40: BEX0078 | D40: 0.67 | E40: =VLOOKUP(A40,Sheet1!$A$2:$G$148,7,FALSE) -> 0.4 | F40: =IF(ISNA(E40),20,IF(E40=0,20,(1-E40/D40)*100)) -> 40.298507 | G40: 100 | H40: 0 | I40: 0 | J40: 0 | K40: 0 | L40: 0 | M40: 0 | N40: 0 | O40: 0 | P40: 0 | Q40: 0 | R40: 59.96425 | S40: 21.650694 | T40: 15.371883 | U40: 63.21162 | V40: 58.840037 | W40: 26.676276 | X40: No | Y40: 0 | Z40: 0 | AA40: 0 | AB40: 10 | AC40: No | AD40: No | AE40: No | AF40: =IF(AND(M40=0,V40=0),"Most preferable",IF(OR(M40>20,V40>20),"Least preferable","Less preferable")) -> Least preferable | AG40: =IF(AND(M40=0,V40=0),"Most preferable",IF(OR(M40>F40,V40>F40),"Least preferable","Less preferable")) -> Least preferable | AH40: =IF(OR((M40)>F40,V40>F40),"Yes","No") -> Yes | AI40: N/A | AJ40: N/A | AK40: N/A | AL40: N/A | AM40: N/A | AN40: N/A | AO40: Yes | AP40: Yes
A41: Land at Sidley Car Park, Ninfield Road, Bexhill | B41: Bexhill | C41: BEX0086 | D41: 0.33 | E41: =VLOOKUP(A41,Sheet1!$A$2:$G$148,7,FALSE) -> 0.1 | F41: =IF(ISNA(E41),20,IF(E41=0,20,(1-E41/D41)*100)) -> 69.69697 | G41: 100 | H41: 0 | I41: 0 | J41: 0 | K41: 0 | L41: 0 | M41: 0 | N41: 0 | O41: 0 | P41: 0 | Q41: 0 | R41: 12.231555 | S41: 7.762009 | T41: 4.4874116 | U41: 15.144385 | V41: 11.625148 | W41: 8.4896976 | X41: No | Y41: 0 | Z41: 0 | AA41: 0 | AB41: 5 | AC41: No | AD41: No | AE41: No | AF41: =IF(AND(M41=0,V41=0),"Most preferable",IF(OR(M41>20,V41>20),"Least preferable","Less preferable")) -> Less preferable | AG41: =IF(AND(M41=0,V41=0),"Most preferable",IF(OR(M41>F41,V41>F41),"Least preferable","Less preferable")) -> Less preferable | AH41: =IF(OR((M41)>F41,V41>F41),"Yes","No") -> No | AI41: No | AJ41: No | AK41: N/A | AL41: N/A | AM41: N/A | AN41: N/A
A42: Gorses Car Park and Open Space, The Gorses, Bexhill | B42: Bexhill | C42: BEX0089 | D42: 0.39 | E42: =VLOOKUP(A42,Sheet1!$A$2:$G$148,7,FALSE) -> 0.06 | F42: =IF(ISNA(E42),20,IF(E42=0,20,(1-E42/D42)*100)) -> 84.615385 | G42: 100 | H42: 0 | I42: 0 | J42: 0 | K42: 0 | L42: 0 | M42: 49.236203 | N42: 0 | O42: 0 | P42: 0 | Q42: 0 | R42: 11.100189 | S42: 0.020435441 | T42: 0 | U42: 22.122784 | V42: 9.5126102 | W42: 0.38431869 | X42: No | Y42: 0 | Z42: 0 | AA42: 0 | AB42: 0 | AC42: No | AD42: No | AE42: No | AF42: =IF(AND(M42=0,V42=0),"Most preferable",IF(OR(M42>20,V42>20),"Least preferable","Less preferable")) -> Least preferable | AG42: =IF(AND(M42=0,V42=0),"Most preferable",IF(OR(M42>F42,V42>F42),"Least preferable","Less preferable")) -> Less preferable | AH42: =IF(OR((M42)>F42,V42>F42),"Yes","No") -> No | AI42: N/A | AJ42: N/A | AK42: N/A | AL42: N/A | AM42: N/A | AN42: N/A | AO42: No | AP42: Yes. Developable area (car park) is at risk of flooding.
A43: Land west of Watermill Lane, Bexhill | B43: Bexhill | C43: BEX0115 | D43: 4.74 | E43: =VLOOKUP(A43,Sheet1!$A$2:$G$148,7,FALSE) -> 3 | F43: =IF(ISNA(E43),20,IF(E43=0,20,(1-E43/D43)*100)) -> 36.708861 | G43: 91.413738 | H43: 1.4899313 | I43: 7.0963303 | J43: 0 | K43: 2.3643625 | L43: 3.6891478 | M43: 8.7969053 | N43: 0 | O43: 0 | P43: 0 | Q43: 0 | R43: 1.6623045 | S43: 0.28735376 | T43: 0.00041731649 | U43: 3.6580059 | V43: 1.0045001 | W43: 0.31571791 | X43: Yes | Y43: 0 | Z43: 0 | AA43: 0 | AB43: 11 | AC43: No | AD43: No | AE43: No | AF43: =IF(AND(M43=0,V43=0),"Most preferable",IF(OR(M43>20,V43>20),"Least preferable","Less preferable")) -> Less preferable | AG43: =IF(AND(M43=0,V43=0),"Most preferable",IF(OR(M43>F43,V43>F43),"Least preferable","Less preferable")) -> Less preferable | AH43: =IF(OR((M43)>F43,V43>F43),"Yes","No") -> No | AI43: No | AJ43: No | AK43: N/A | AL43: N/A | AM43: No | AN43: Yes
A44: Land west of Fryatts Way, Bexhill | B44: Bexhill | C44: BEX0116 | D44: 11.56 | E44: =VLOOKUP(A44,Sheet1!$A$2:$G$148,7,FALSE) -> 11 | F44: =IF(ISNA(E44),20,IF(E44=0,20,(1-E44/D44)*100)) -> 4.8442907 | G44: 98.344883 | H44: 0.47728296 | I44: 1.1778336 | J44: 0.53089865 | K44: 0 | L44: 0 | M44: 1.6551165 | N44: 0.53089865 | O44: 0.53089865 | P44: 0 | Q44: 0 | R44: 4.7183367 | S44: 2.0510988 | T44: 1.1587569 | U44: 8.1520458 | V44: 4.3379069 | W44: 2.3178482 | X44: Yes | Y44: 0 | Z44: 0 | AA44: 0 | AB44: 1 | AC44: No | AD44: No | AE44: No | AF44: =IF(AND(M44=0,V44=0),"Most preferable",IF(OR(M44>20,V44>20),"Least preferable","Less preferable")) -> Less preferable | AG44: =IF(AND(M44=0,V44=0),"Most preferable",IF(OR(M44>F44,V44>F44),"Least preferable","Less preferable")) -> Less preferable | AH44: =IF(OR((M44)>F44,V44>F44),"Yes","No") -> No | AI44: No | AJ44: No | AK44: Yes | AL44: Picknell Green Stream | AM44: No | AN44: No
A45: Beeching Road Enhancement Area, Bexhill | B45: Bexhill | C45: BEX0141 | D45: 12.54 | E45: =VLOOKUP(A45,Sheet1!$A$2:$G$148,7,FALSE) -> #N/A | F45: =IF(ISNA(E45),20,IF(E45=0,20,(1-E45/D45)*100)) -> 20 | G45: 98.251207 | H45: 0.66677088 | I45: 1.0820226 | J45: 0 | K45: 1.0107083 | L45: 1.0107083 | M45: 2.0012602 | N45: 0 | O45: 0 | P45: 0 | Q45: 0 | R45: 23.001485 | S45: 10.675282 | T45: 6.0105162 | U45: 35.234746 | V45: 21.872544 | W45: 13.248972 | X45: Yes | Y45: 0 | Z45: 0 | AA45: 0 | AB45: 10 | AC45: No | AD45: No | AE45: No | AF45: =IF(AND(M45=0,V45=0),"Most preferable",IF(OR(M45>20,V45>20),"Least preferable","Less preferable")) -> Least preferable | AG45: =IF(AND(M45=0,V45=0),"Most preferable",IF(OR(M45>F45,V45>F45),"Least preferable","Less preferable")) -> Least preferable | AH45: =IF(OR((M45)>F45,V45>F45),"Yes","No") -> Yes | AI45: N/A | AJ45: N/A | AK45: N/A | AL45: N/A | AM45: No | AN45: Yes | AO45: Yes | AP45: No, this is not a site allocation policy.
A46: Eversley Road Car Park, Eversley Road, Bexhill | B46: Bexhill | C46: BEX0155 | D46: 0.07 | E46: =VLOOKUP(A46,Sheet1!$A$2:$G$148,7,FALSE) -> 0.05 | F46: =IF(ISNA(E46),20,IF(E46=0,20,(1-E46/D46)*100)) -> 28.571429 | G46: 100 | H46: 0 | I46: 0 | J46: 0 | K46: 0 | L46: 0 | M46: 0 | N46: 0 | O46: 0 | P46: 0 | Q46: 0 | R46: 0 | S46: 0 | T46: 0 | U46: 0.90515935 | V46: 0 | W46: 0 | X46: No | Y46: 0 | Z46: 0 | AA46: 0 | AB46: 4 | AC46: No | AD46: No | AE46: No | AF46: =IF(AND(M46=0,V46=0),"Most preferable",IF(OR(M46>20,V46>20),"Least preferable","Less preferable")) -> Most preferable | AG46: =IF(AND(M46=0,V46=0),"Most preferable",IF(OR(M46>F46,V46>F46),"Least preferable","Less preferable")) -> Most preferable | AH46: =IF(OR((M46)>F46,V46>F46),"Yes","No") -> No | AI46: No | AJ46: No | AK46: N/A | AL46: N/A | AM46: N/A | AN46: N/A
A47: Land west of Pages Lane, Bexhill | B47: Bexhill | C47: BEX0158 | D47: 1.22 | E47: =VLOOKUP(A47,Sheet1!$A$2:$G$148,7,FALSE) -> 0.7 | F47: =IF(ISNA(E47),20,IF(E47=0,20,(1-E47/D47)*100)) -> 42.622951 | G47: 100 | H47: 0 | I47: 0 | J47: 0 | K47: 0 | L47: 0 | M47: 0 | N47: 0 | O47: 0 | P47: 0 | Q47: 0 | R47: 4.9699354 | S47: 0.36475767 | T47: 0.094229299 | U47: 10.467647 | V47: 3.8398802 | W47: 0.40819369 | X47: No | Y47: 0 | Z47: 0 | AA47: 0 | AB47: 0 | AC47: No | AD47: No | AE47: No | AF47: =IF(AND(M47=0,V47=0),"Most preferable",IF(OR(M47>20,V47>20),"Least preferable","Less preferable")) -> Less preferable | AG47: =IF(AND(M47=0,V47=0),"Most preferable",IF(OR(M47>F47,V47>F47),"Least preferable","Less preferable")) -> Less preferable | AH47: =IF(OR((M47)>F47,V47>F47),"Yes","No") -> No | AI47: No | AJ47: No | AK47: N/A | AL47: N/A | AM47: N/A | AN47: N/A
A48: Land north of Broadoak Lane, Bexhill | B48: Bexhill | C48: BEX0161 | D48: 1.26 | E48: =VLOOKUP(A48,Sheet1!$A$2:$G$148,7,FALSE) -> 1 | F48: =IF(ISNA(E48),20,IF(E48=0,20,(1-E48/D48)*100)) -> 20.634921 | G48: 100 | H48: 0 | I48: 0 | J48: 0 | K48: 0 | L48: 0 | M48: 0 | N48: 0 | O48: 0 | P48: 0 | Q48: 0 | R48: 0 | S48: 0 | T48: 0 | U48: 0.22231616 | V48: 0 | W48: 0 | X48: Yes | Y48: 0 | Z48: 0 | AA48: 0 | AB48: 3 | AC48: No | AD48: No | AE48: No | AF48: =IF(AND(M48=0,V48=0),"Most preferable",IF(OR(M48>20,V48>20),"Least preferable","Less preferable")) -> Most preferable | AG48: =IF(AND(M48=0,V48=0),"Most preferable",IF(OR(M48>F48,V48>F48),"Least preferable","Less preferable")) -> Most preferable | AH48: =IF(OR((M48)>F48,V48>F48),"Yes","No") -> No | AI48: No | AJ48: No | AK48: N/A | AL48: N/A | AM48: N/A | AN48: N/A
A49: Plot 7, Bexhill Enterprise Park, Mount View Street, Bexhill | B49: Bexhill | C49: BEX0169 | D49: 6.5 | E49: =VLOOKUP(A49,Sheet1!$A$2:$G$148,7,FALSE) -> 0 | F49: =IF(ISNA(E49),20,IF(E49=0,20,(1-E49/D49)*100)) -> 20 | G49: 100 | H49: 0 | I49: 0 | J49: 0 | K49: 0 | L49: 0 | M49: 0 | N49: 0 | O49: 0 | P49: 0 | Q49: 0 | R49: 2.9819415 | S49: 2.11435 | T49: 1.5874387 | U49: 4.0195349 | V49: 2.8944635 | W49: 2.31964 | X49: Yes | Y49: 0 | Z49: 0 | AA49: 0 | AB49: 0 | AC49: No | AD49: No | AE49: No | AF49: =IF(AND(M49=0,V49=0),"Most preferable",IF(OR(M49>20,V49>20),"Least preferable","Less preferable")) -> Less preferable | AG49: =IF(AND(M49=0,V49=0),"Most preferable",IF(OR(M49>F49,V49>F49),"Least preferable","Less preferable")) -> Less preferable | AH49: =IF(OR((M49)>F49,V49>F49),"Yes","No") -> No | AI49: No | AJ49: No | AK49: N/A | AL49: N/A | AM49: N/A | AN49: N/A
A50: Land east of Sandhurst Lane, Bexhill | B50: Bexhill | C50: BEX0177 | D50: 3.34 | E50: =VLOOKUP(A50,Sheet1!$A$2:$G$148,7,FALSE) -> 1.7 | F50: =IF(ISNA(E50),20,IF(E50=0,20,(1-E50/D50)*100)) -> 49.101796 | G50: 100 | H50: 0 | I50: 0 | J50: 0 | K50: 0 | L50: 0 | M50: 1.8915654 | N50: 0 | O50: 0 | P50: 0 | Q50: 0 | R50: 11.622027 | S50: 5.4788576 | T50: 3.5048284 | U50: 15.546283 | V50: 11.1709 | W50: 9.0660897 | X50: Yes | Y50: 0 | Z50: 0 | AA50: 0 | AB50: 1 | AC50: No | AD50: No | AE50: No | AF50: =IF(AND(M50=0,V50=0),"Most preferable",IF(OR(M50>20,V50>20),"Least preferable","Less preferable")) -> Less preferable | AG50: =IF(AND(M50=0,V50=0),"Most preferable",IF(OR(M50>F50,V50>F50),"Least preferable","Less preferable")) -> Less preferable | AH50: =IF(OR((M50)>F50,V50>F50),"Yes","No") -> No | AI50: No | AJ50: No | AK50: N/A | AL50: N/A | AM50: N/A | AN50: N/A
A51: 81 Cooden Drive, Bexhill | B51: Bexhill | C51: BEX0188 | D51: 0.14 | E51: =VLOOKUP(A51,Sheet1!$A$2:$G$148,7,FALSE) -> 0.1 | F51: =IF(ISNA(E51),20,IF(E51=0,20,(1-E51/D51)*100)) -> 28.571429 | G51: 100 | H51: 0 | I51: 0 | J51: 0 | K51: 0 | L51: 0 | M51: 0 | N51: 0 | O51: 0 | P51: 0 | Q51: 0 | R51: 0 | S51: 0 | T51: 0 | U51: 0 | V51: 0 | W51: 0 | X51: No | Y51: 0 | Z51: 0 | AA51: 0 | AB51: 0 | AC51: No | AD51: No | AE51: No | AF51: =IF(AND(M51=0,V51=0),"Most preferable",IF(OR(M51>20,V51>20),"Least preferable","Less preferable")) -> Most preferable | AG51: =IF(AND(M51=0,V51=0),"Most preferable",IF(OR(M51>F51,V51>F51),"Least preferable","Less preferable")) -> Most preferable | AH51: =IF(OR((M51)>F51,V51>F51),"Yes","No") -> No | AI51: No | AJ51: No | AK51: N/A | AL51: N/A | AM51: N/A | AN51: N/A
A52: Land at Worsham Farm (West), Bexhill | B52: Bexhill | C52: BEX0194 | D52: 1.7 | E52: =VLOOKUP(A52,Sheet1!$A$2:$G$148,7,FALSE) -> 1.2 | F52: =IF(ISNA(E52),20,IF(E52=0,20,(1-E52/D52)*100)) -> 29.411765 | G52: 100 | H52: 0 | I52: 0 | J52: 0 | K52: 0 | L52: 0 | M52: 0 | N52: 0 | O52: 0 | P52: 0 | Q52: 0 | R52: 0.3369559 | S52: 0.18413562 | T52: 0.13319697 | U52: 1.3718818 | V52: 0.3369559 | W52: 0.25010569 | X52: Yes | Y52: 0 | Z52: 0 | AA52: 0 | AB52: 0 | AC52: No | AD52: No | AE52: No | AF52: =IF(AND(M52=0,V52=0),"Most preferable",IF(OR(M52>20,V52>20),"Least preferable","Less preferable")) -> Less preferable | AG52: =IF(AND(M52=0,V52=0),"Most preferable",IF(OR(M52>F52,V52>F52),"Least preferable","Less preferable")) -> Less preferable | AH52: =IF(OR((M52)>F52,V52>F52),"Yes","No") -> No | AI52: No | AJ52: No | AK52: N/A | AL52: N/A | AM52: N/A | AN52: N/A
A53: Land at Worsham Farm (East), Bexhill | B53: Bexhill | C53: BEX0197 | D53: 22.84 | E53: =VLOOKUP(A53,Sheet1!$A$2:$G$148,7,FALSE) -> 0 | F53: =IF(ISNA(E53),20,IF(E53=0,20,(1-E53/D53)*100)) -> 20 | G53: 98.240239 | H53: 0.29113798 | I53: 1.4686234 | J53: 0 | K53: 1.0234856 | L53: 1.0234856 | M53: 2.3773442 | N53: 0 | O53: 0 | P53: 0 | Q53: 0 | R53: 1.5354685 | S53: 0.72233718 | T53: 0.47018692 | U53: 2.8954804 | V53: 1.2183451 | W53: 0.78386716 | X53: Yes | Y53: 0 | Z53: 0 | AA53: 0 | AB53: 0 | AC53: Yes | AD53: No | AE53: No | AF53: =IF(AND(M53=0,V53=0),"Most preferable",IF(OR(M53>20,V53>20),"Least preferable","Less preferable")) -> Less preferable | AG53: =IF(AND(M53=0,V53=0),"Most preferable",IF(OR(M53>F53,V53>F53),"Least preferable","Less preferable")) -> Less preferable | AH53: =IF(OR((M53)>F53,V53>F53),"Yes","No") -> No | AI53: No | AJ53: Yes | AK53: N/A | AL53: N/A | AM53: No | AN53: Yes
A54: Rear of 11 Endwell Road, Bexhill | B54: Bexhill | C54: BEX0201 | D54: 0.04 | E54: =VLOOKUP(A54,Sheet1!$A$2:$G$148,7,FALSE) -> 0.03 | F54: =IF(ISNA(E54),20,IF(E54=0,20,(1-E54/D54)*100)) -> 25 | G54: 100 | H54: 0 | I54: 0 | J54: 0 | K54: 0 | L54: 0 | M54: 0 | N54: 0 | O54: 0 | P54: 0 | Q54: 0 | R54: 0 | S54: 0 | T54: 0 | U54: 0 | V54: 0 | W54: 0 | X54: No | Y54: 0 | Z54: 0 | AA54: 0 | AB54: 1 | AC54: No | AD54: No | AE54: No | AF54: =IF(AND(M54=0,V54=0),"Most preferable",IF(OR(M54>20,V54>20),"Least preferable","Less preferable")) -> Most preferable | AG54: =IF(AND(M54=0,V54=0),"Most preferable",IF(OR(M54>F54,V54>F54),"Least preferable","Less preferable")) -> Most preferable | AH54: =IF(OR((M54)>F54,V54>F54),"Yes","No") -> No | AI54: No | AJ54: No | AK54: N/A | AL54: N/A | AM54: N/A | AN54: N/A
A55: Land north of Barnhorn Manor Caravan Park, Bexhill | B55: Bexhill | C55: BEX0215 | D55: 1 | E55: =VLOOKUP(A55,Sheet1!$A$2:$G$148,7,FALSE) -> 0.5 | F55: =IF(ISNA(E55),20,IF(E55=0,20,(1-E55/D55)*100)) -> 50 | G55: 100 | H55: 0 | I55: 0 | J55: 0 | K55: 0 | L55: 0 | M55: 0 | N55: 0 | O55: 0 | P55: 0 | Q55: 0 | R55: 2.8371297 | S55: 2.2005278 | T55: 1.0173159 | U55: 4.2750503 | V55: 2.7971875 | W55: 2.4381725 | X55: No | Y55: 0 | Z55: 0 | AA55: 0 | AB55: 0 | AC55: No | AD55: No | AE55: No | AF55: =IF(AND(M55=0,V55=0),"Most preferable",IF(OR(M55>20,V55>20),"Least preferable","Less preferable")) -> Less preferable | AG55: =IF(AND(M55=0,V55=0),"Most preferable",IF(OR(M55>F55,V55>F55),"Least preferable","Less preferable")) -> Less preferable | AH55: =IF(OR((M55)>F55,V55>F55),"Yes","No") -> No | AI55: No | AJ55: No | AK55: N/A | AL55: N/A | AM55: N/A | AN55: N/A
A56: Beeches Farm and land north of Barnhorn Road, Bexhill | B56: Bexhill | C56: BEX0219 | D56: 29.71 | E56: =VLOOKUP(A56,Sheet1!$A$2:$G$148,7,FALSE) -> 15 | F56: =IF(ISNA(E56),20,IF(E56=0,20,(1-E56/D56)*100)) -> 49.511949 | G56: 100 | H56: 0 | I56: 0 | J56: 0 | K56: 0 | L56: 0 | M56: 11.053169 | N56: 0 | O56: 0 | P56: 0.70864735 | Q56: 4.0770916 | R56: 0.31341894 | S56: 0.067633476 | T56: 0.0054622816 | U56: 0.92863875 | V56: 0.2258917 | W56: 0.10407162 | X56: Yes | Y56: 0 | Z56: 0 | AA56: 0 | AB56: 4 | AC56: No | AD56: No | AE56: No | AF56: =IF(AND(M56=0,V56=0),"Most preferable",IF(OR(M56>20,V56>20),"Least preferable","Less preferable")) -> Less preferable | AG56: =IF(AND(M56=0,V56=0),"Most preferable",IF(OR(M56>F56,V56>F56),"Least preferable","Less preferable")) -> Less preferable | AH56: =IF(OR((M56)>F56,V56>F56),"Yes","No") -> No | AI56: No | AJ56: No | AK56: Yes | AL56: East Sussex Coastal Model - Eastbourne | AM56: Yes | AN56: No
A57: Land west of Ninfield Road, Bexhill | B57: Bexhill | C57: BEX0220 | D57: 28.02 | E57: =VLOOKUP(A57,Sheet1!$A$2:$G$148,7,FALSE) -> 13.6 | F57: =IF(ISNA(E57),20,IF(E57=0,20,(1-E57/D57)*100)) -> 51.463241 | G57: 100 | H57: 0 | I57: 0 | J57: 0 | K57: 0 | L57: 0 | M57: 0 | N57: 0 | O57: 0 | P57: 0 | Q57: 0 | R57: 1.6312228 | S57: 0.65580756 | T57: 0.38589866 | U57: 3.1265566 | V57: 1.3346026 | W57: 0.72599993 | X57: No | Y57: 0 | Z57: 0 | AA57: 0 | AB57: 16 | AC57: No | AD57: No | AE57: No | AF57: =IF(AND(M57=0,V57=0),"Most preferable",IF(OR(M57>20,V57>20),"Least preferable","Less preferable")) -> Less preferable | AG57: =IF(AND(M57=0,V57=0),"Most preferable",IF(OR(M57>F57,V57>F57),"Least preferable","Less preferable")) -> Less preferable | AH57: =IF(OR((M57)>F57,V57>F57),"Yes","No") -> No | AI57: No | AJ57: No | AK57: N/A | AL57: N/A | AM57: N/A | AN57: N/A
... A60: Former Bexhill High School Site, Bexhill | B60: Bexhill | C60: BEX0235 | D60: 1.65 | E60: =VLOOKUP(A60,Sheet1!$A$2:$G$148,7,FALSE) -> 1 | F60: =IF(ISNA(E60),20,IF(E60=0,20,(1-E60/D60)*100)) -> 39.393939 | G60: 91.361125 | H60: 8.6388748 | I60: 0 | J60: 0 | K60: 0 | L60: 0 | M60: 8.9626757 | N60: 0 | O60: 0 | P60: 0 | Q60: 0 | R60: 8.1354756 | S60: 6.5700662 | T60: 2.1815313 | U60: 10.074315 | V60: 8.0086739 | W60: 6.8096386 | X60: No | Y60: 0 | Z60: 0 | AA60: 0 | AB60: 6 | AC60: No | AD60: No | AE60: No | AF60: =IF(AND(M60=0,V60=0),"Most preferable",IF(OR(M60>20,V60>20),"Least preferable","Less preferable")) -> Less preferable | AG60: =IF(AND(M60=0,V60=0),"Most preferable",IF(OR(M60>F60,V60>F60),"Least preferable","Less preferable")) -> Less preferable | AH60: =IF(OR((M60)>F60,V60>F60),"Yes","No") -> No | AI60: No | AJ60: No | AK60: N/A | AL60: N/A | AM60: No | AN60: Yes
A61: Land north of Rosewood Park, Bexhill | B61: Bexhill | C61: BEX0237 | D61: 24.09 | E61: =VLOOKUP(A61,Sheet1!$A$2:$G$148,7,FALSE) -> 18 | F61: =IF(ISNA(E61),20,IF(E61=0,20,(1-E61/D61)*100)) -> 25.280199 | G61: 86.163876 | H61: 1.810735 | I61: 12.025389 | J61: 3.5505733 | K61: 10.132318 | L61: 11.382601 | M61: 39.911872 | N61: 6.0711055 | O61: 6.3583608 | P61: 14.212298 | Q61: 21.090392 | R61: 8.6058126 | S61: 5.0139855 | T61: 3.1698718 | U61: 11.125008 | V61: 8.1527775 | W61: 5.6120843 | X61: Yes | Y61: 0 | Z61: 0 | AA61: 0 | AB61: 1 | AC61: No | AD61: Yes | AE61: Yes | AF61: =IF(AND(M61=0,V61=0),"Most preferable",IF(OR(M61>20,V61>20),"Least preferable","Less preferable")) -> Least preferable | AG61: =IF(AND(M61=0,V61=0),"Most preferable",IF(OR(M61>F61,V61>F61),"Least preferable","Less preferable")) -> Least preferable | AH61: =IF(OR((M61)>F61,V61>F61),"Yes","No") -> Yes | AI61: N/A | AJ61: N/A | AK61: Yes | AL61: Picknell Green Stream Model and East Sussex Coastal Model - Eastbourne | AM61: No | AN61: No | AO61: No | AP61: No. A site specific flood risk assessment was undertaken to support a recent planning application and accepted.
A62: Land south of Terminus Road, Bexhill | B62: Bexhill | C62: BEX0238 | D62: 0.19 | E62: =VLOOKUP(A62,Sheet1!$A$2:$G$148,7,FALSE) -> 0.16 | F62: =IF(ISNA(E62),20,IF(E62=0,20,(1-E62/D62)*100)) -> 15.789474 | G62: 100 | H62: 0 | I62: 0 | J62: 0 | K62: 0 | L62: 0 | M62: 0 | N62: 0 | O62: 0 | P62: 0 | Q62: 0 | R62: 24.485871 | S62: 21.071078 | T62: 18.634896 | U62: 28.527701 | V62: 23.629718 | W62: 21.922146 | X62: Yes | Y62: 0 | Z62: 0 | AA62: 0 | AB62: 0 | AC62: No | AD62: No | AE62: No | AF62: =IF(AND(M62=0,V62=0),"Most preferable",IF(OR(M62>20,V62>20),"Least preferable","Less preferable")) -> Least preferable | AG62: =IF(AND(M62=0,V62=0),"Most preferable",IF(OR(M62>F62,V62>F62),"Least preferable","Less preferable")) -> Least preferable | AH62: =IF(OR((M62)>F62,V62>F62),"Yes","No") -> Yes | AI62: N/A | AJ62: N/A | AK62: N/A | AL62: N/A | AM62: N/A | AN62: N/A | AO62: Yes | AP62: Yes
A63: Land south of Sandhurst Lane, Bexhill | B63: Bexhill | C63: BEX0239 | D63: 1.47 | E63: =VLOOKUP(A63,Sheet1!$A$2:$G$148,7,FALSE) -> 0.7 | F63: =IF(ISNA(E63),20,IF(E63=0,20,(1-E63/D63)*100)) -> 52.380952 | G63: 100 | H63: 0 | I63: 0 | J63: 0 | K63: 0 | L63: 0 | M63: 0.12530185 | N63: 0 | O63: 0 | P63: 0 | Q63: 0 | R63: 4.0708309 | S63: 1.8903701 | T63: 1.1583522 | U63: 7.2798635 | V63: 3.8423239 | W63: 1.9718858 | X63: Yes | Y63: 0 | Z63: 0 | AA63: 0 | AB63: 1 | AC63: No | AD63: No | AE63: No | AF63: =IF(AND(M63=0,V63=0),"Most preferable",IF(OR(M63>20,V63>20),"Least preferable","Less preferable")) -> Less preferable | AG63: =IF(AND(M63=0,V63=0),"Most preferable",IF(OR(M63>F63,V63>F63),"Least preferable","Less preferable")) -> Less preferable | AH63: =IF(OR((M63)>F63,V63>F63),"Yes","No") -> No | AI63: No | AJ63: No | AK63: N/A | AL63: N/A | AM63: N/A | AN63: N/A
A64: Land at Northeye and adjoining land, Bexhill | B64: Bexhill | C64: BEX0240 | D64: 19.21 | E64: =VLOOKUP(A64,Sheet1!$A$2:$G$148,7,FALSE) -> 9.5 | F64: =IF(ISNA(E64),20,IF(E64=0,20,(1-E64/D64)*100)) -> 50.54659 | G64: 85.020338 | H64: 1.6790011 | I64: 13.300661 | J64: 0 | K64: 3.6399 | L64: 3.6614272 | M64: 34.342322 | N64: 0 | O64: 0 | P64: 21.605872 | Q64: 25.162505 | R64: 4.0752335 | S64: 2.3752823 | T64: 1.4646552 | U64: 6.7437184 | V64: 3.8358021 | W64: 2.7271852 | X64: Yes | Y64: 0 | Z64: 0.15337823 | AA64: 0 | AB64: 1 | AC64: No | AD64: Yes | AE64: Yes | AF64: =IF(AND(M64=0,V64=0),"Most preferable",IF(OR(M64>20,V64>20),"Least preferable","Less preferable")) -> Least preferable | AG64: =IF(AND(M64=0,V64=0),"Most preferable",IF(OR(M64>F64,V64>F64),"Least preferable","Less preferable")) -> Less preferable | AH64: =IF(OR((M64)>F64,V64>F64),"Yes","No") -> No | AI64: N/A | AJ64: N/A | AK64: Yes | AL64: East Sussex Coastal Model - Eastbourne | AM64: Yes | AN64: No | AO64: Yes | AP64: Yes
A65: Land at Kiteye Farm, Bexhill | B65: Bexhill | C65: BEX0241 | D65: 18.26 | E65: =VLOOKUP(A65,Sheet1!$A$2:$G$148,7,FALSE) -> 12 | F65: =IF(ISNA(E65),20,IF(E65=0,20,(1-E65/D65)*100)) -> 34.282585 | G65: 97.196536 | H65: 0.99853272 | I65: 1.8049312 | J65: 0 | K65: 0.93551382 | L65: 1.1899956 | M65: 3.0205519 | N65: 0 | O65: 0 | P65: 0 | Q65: 0 | R65: 2.4187449 | S65: 1.6640778 | T65: 1.3644561 | U65: 3.9857644 | V65: 2.2091024 | W65: 1.7655406 | X65: Yes | Y65: 0 | Z65: 0 | AA65: 0 | AB65: 13 | AC65: No | AD65: No | AE65: No | AF65: =IF(AND(M65=0,V65=0),"Most preferable",IF(OR(M65>20,V65>20),"Least preferable","Less preferable")) -> Less preferable | AG65: =IF(AND(M65=0,V65=0),"Most preferable",IF(OR(M65>F65,V65>F65),"Least preferable","Less preferable")) -> Less preferable | AH65: =IF(OR((M65)>F65,V65>F65),"Yes","No") -> No | AI65: No | AJ65: No | AK65: N/A | AL65: N/A | AM65: No | AN65: Yes
A66: Land east of Watermill Lane, Bexhill | B66: Bexhill | C66: BEX0242 | D66: 10.86 | E66: =VLOOKUP(A66,Sheet1!$A$2:$G$148,7,FALSE) -> 5.5 | F66: =IF(ISNA(E66),20,IF(E66=0,20,(1-E66/D66)*100)) -> 49.355433 | G66: 83.711946 | H66: 2.3681372 | I66: 13.919917 | J66: 0 | K66: 8.0972741 | L66: 8.5251833 | M66: 16.647781 | N66: 0 | O66: 0 | P66: 0 | Q66: 0 | R66: 2.4386373 | S66: 1.7254669 | T66: 1.5883181 | U66: 4.2093586 | V66: 2.3134518 | W66: 1.7901175 | X66: Yes | Y66: 0 | Z66: 0 | AA66: 0 | AB66: 11 | AC66: No | AD66: No | AE66: No | AF66: =IF(AND(M66=0,V66=0),"Most preferable",IF(OR(M66>20,V66>20),"Least preferable","Less preferable")) -> Less preferable | AG66: =IF(AND(M66=0,V66=0),"Most preferable",IF(OR(M66>F66,V66>F66),"Least preferable","Less preferable")) -> Less preferable | AH66: =IF(OR((M66)>F66,V66>F66),"Yes","No") -> No | AI66: No | AJ66: No | AK66: N/A | AL66: N/A | AM66: No | AN66: Yes
A67: Land north of Haven Brook Avenue (east), Bexhill | B67: Bexhill | C67: BEX0243 | D67: 11.6 | E67: =VLOOKUP(A67,Sheet1!$A$2:$G$148,7,FALSE) -> 5.75 | F67: =IF(ISNA(E67),20,IF(E67=0,20,(1-E67/D67)*100)) -> 50.431034 | G67: 99.922861 | H67: 0.07713904 | I67: 0 | J67: 0 | K67: 0 | L67: 0 | M67: 0.16399855 | N67: 0 | O67: 0 | P67: 0 | Q67: 0 | R67: 1.4480491 | S67: 0.42796403 | T67: 0.31713368 | U67: 2.8669293 | V67: 1.261142 | W67: 0.67967603 | X67: Yes | Y67: 0 | Z67: 0 | AA67: 0 | AB67: 1 | AC67: Yes | AD67: No | AE67: No | AF67: =IF(AND(M67=0,V67=0),"Most preferable",IF(OR(M67>20,V67>20),"Least preferable","Less preferable")) -> Less preferable | AG67: =IF(AND(M67=0,V67=0),"Most preferable",IF(OR(M67>F67,V67>F67),"Least preferable","Less preferable")) -> Less preferable | AH67: =IF(OR((M67)>F67,V67>F67),"Yes","No") -> No | AI67: No | AJ67: Yes | AK67: N/A | AL67: N/A | AM67: No | AN67: Yes
A68: Land north of Haven Brook Avenue (west), Bexhill | B68: Bexhill | C68: BEX0244 | D68: 4.74 | E68: =VLOOKUP(A68,Sheet1!$A$2:$G$148,7,FALSE) -> 2.5 | F68: =IF(ISNA(E68),20,IF(E68=0,20,(1-E68/D68)*100)) -> 47.257384 | G68: 100 | H68: 0 | I68: 0 | J68: 0 | K68: 0 | L68: 0 | M68: 0 | N68: 0 | O68: 0 | P68: 0 | Q68: 0 | R68: 0 | S68: 0 | T68: 0 | U68: 0.0051305424 | V68: 0 | W68: 0 | X68: No | Y68: 0 | Z68: 0 | AA68: 0 | AB68: 2 | AC68: No | AD68: No | AE68: No | AF68: =IF(AND(M68=0,V68=0),"Most preferable",IF(OR(M68>20,V68>20),"Least preferable","Less preferable")) -> Most preferable | AG68: =IF(AND(M68=0,V68=0),"Most preferable",IF(OR(M68>F68,V68>F68),"Least preferable","Less preferable")) -> Most preferable | AH68: =IF(OR((M68)>F68,V68>F68),"Yes","No") -> No | AI68: No | AJ68: No | AK68: N/A | AL68: N/A | AM68: N/A | AN68: N/A
A69: Land west of Ninfield Road roundabout, Bexhill | B69: Bexhill | C69: BEX0245 | D69: 4.14 | E69: =VLOOKUP(A69,Sheet1!$A$2:$G$148,7,FALSE) -> 2 | F69: =IF(ISNA(E69),20,IF(E69=0,20,(1-E69/D69)*100)) -> 51.690821 | G69: 100 | H69: 0 | I69: 0 | J69: 0 | K69: 0 | L69: 0 | M69: 0 | N69: 0 | O69: 0 | P69: 0 | Q69: 0 | R69: 5.587894 | S69: 3.832231 | T69: 3.1698752 | U69: 6.9608213 | V69: 5.4369738 | W69: 4.2470437 | X69: No | Y69: 0 | Z69: 0 | AA69: 0 | AB69: 11 | AC69: No | AD69: No | AE69: No | AF69: =IF(AND(M69=0,V69=0),"Most preferable",IF(OR(M69>20,V69>20),"Least preferable","Less preferable")) -> Less preferable | AG69: =IF(AND(M69=0,V69=0),"Most preferable",IF(OR(M69>F69,V69>F69),"Least preferable","Less preferable")) -> Less preferable | AH69: =IF(OR((M69)>F69,V69>F69),"Yes","No") -> No | AI69: No | AJ69: No | AK69: N/A | AL69: N/A | AM69: N/A | AN69: N/A
A70: Bexhill Enterprise Park - Escarpment Site B, south of Glovers End, Bexhill | B70: Bexhill | C70: BEX0246 | D70: 1.46 | E70: =VLOOKUP(A70,Sheet1!$A$2:$G$148,7,FALSE) -> 0 | F70: =IF(ISNA(E70),20,IF(E70=0,20,(1-E70/D70)*100)) -> 20 | G70: 100 | H70: 0 | I70: 0 | J70: 0 | K70: 0 | L70: 0 | M70: 0 | N70: 0 | O70: 0 | P70: 0 | Q70: 0 | R70: 2.6081762 | S70: 1.3442508 | T70: 1.1796487 | U70: 3.019659 | V70: 1.7831898 | W70: 1.508853 | X70: Yes | Y70: 0 | Z70: 0 | AA70: 0 | AB70: 0 | AC70: No | AD70: No | AE70: No | AF70: =IF(AND(M70=0,V70=0),"Most preferable",IF(OR(M70>20,V70>20),"Least preferable","Less preferable")) -> Less preferable | AG70: =IF(AND(M70=0,V70=0),"Most preferable",IF(OR(M70>F70,V70>F70),"Least preferable","Less preferable")) -> Less preferable | AH70: =IF(OR((M70)>F70,V70>F70),"Yes","No") -> No | AI70: No | AJ70: No | AK70: N/A | AL70: N/A | AM70: N/A | AN70: N/A
A71: Land west of Bexhill Innovation Park, Glovers End, Bexhill | B71: Bexhill | C71: BEX0247 | D71: 1.59 | E71: =VLOOKUP(A71,Sheet1!$A$2:$G$148,7,FALSE) -> 0 | F71: =IF(ISNA(E71),20,IF(E71=0,20,(1-E71/D71)*100)) -> 20 | G71: 100 | H71: 0 | I71: 0 | J71: 0 | K71: 0 | L71: 0 | M71: 0 | N71: 0 | O71: 0 | P71: 0 | Q71: 0 | R71: 3.1933843 | S71: 1.8436011 | T71: 1.6321247 | U71: 3.7864105 | V71: 2.7916305 | W71: 2.0193683 | X71: No | Y71: 0 | Z71: 0 | AA71: 0 | AB71: 0 | AC71: No | AD71: No | AE71: No | AF71: =IF(AND(M71=0,V71=0),"Most preferable",IF(OR(M71>20,V71>20),"Least preferable","Less preferable")) -> Less preferable | AG71: =IF(AND(M71=0,V71=0),"Most preferable",IF(OR(M71>F71,V71>F71),"Least preferable","Less preferable")) -> Less preferable | AH71: =IF(OR((M71)>F71,V71>F71),"Yes","No") -> No | AI71: No | AJ71: No | AK71: N/A | AL71: N/A | AM71: N/A | AN71: N/A
A72: Land west of A28, Northiam Road, Broad Oak | B72: Brede | C72: BRE0002 | D72: 1.47 | E72: =VLOOKUP(A72,Sheet1!$A$2:$G$148,7,FALSE) -> 1.53 | F72: =IF(ISNA(E72),20,IF(E72=0,20,(1-E72/D72)*100)) -> -4.0816327 | G72: 100 | H72: 0 | I72: 0 | J72: 0 | K72: 0 | L72: 0 | M72: 0 | N72: 0 | O72: 0 | P72: 0 | Q72: 0 | R72: 2.6442375 | S72: 1.4649778 | T72: 0 | U72: 9.8364406 | V72: 2.2414651 | W72: 1.6201355 | X72: No | Y72: 0 | Z72: 0 | AA72: 0 | AB72: 0 | AC72: No | AD72: No | AE72: No | AF72: =IF(AND(M72=0,V72=0),"Most preferable",IF(OR(M72>20,V72>20),"Least preferable","Less preferable")) -> Less preferable | AG72: =IF(AND(M72=0,V72=0),"Most preferable",IF(OR(M72>F72,V72>F72),"Least preferable","Less preferable")) -> Least preferable | AH72: =IF(OR((M72)>F72,V72>F72),"Yes","No") -> Yes | AI72: No | AJ72: No | AK72: N/A | AL72: N/A | AM72: N/A | AN72: N/A | AP72: No. A site specific flood risk assessment was undertaken to support a recent planning application and accepted.
A73: Land west of Tillingham View, Broad Oak | B73: Brede | C73: BRE0060 | D73: 4.3 | E73: =VLOOKUP(A73,Sheet1!$A$2:$G$148,7,FALSE) -> 2 | F73: =IF(ISNA(E73),20,IF(E73=0,20,(1-E73/D73)*100)) -> 53.488372 | G73: 100 | H73: 0 | I73: 0 | J73: 0 | K73: 0 | L73: 0 | M73: 0 | N73: 0 | O73: 0 | P73: 0 | Q73: 0 | R73: 1.6001255 | S73: 0.34477863 | T73: 0.26788348 | U73: 4.1582084 | V73: 0.8748506 | W73: 0.40057572 | X73: No | Y73: 0 | Z73: 0 | AA73: 0 | AB73: 0 | AC73: No | AD73: No | AE73: No | AF73: =IF(AND(M73=0,V73=0),"Most preferable",IF(OR(M73>20,V73>20),"Least preferable","Less preferable")) -> Less preferable | AG73: =IF(AND(M73=0,V73=0),"Most preferable",IF(OR(M73>F73,V73>F73),"Least preferable","Less preferable")) -> Less preferable | AH73: =IF(OR((M73)>F73,V73>F73),"Yes","No") -> No | AI73: No | AJ73: No | AK73: N/A | AL73: N/A | AM73: N/A | AN73: N/A
A74: Land at Broad Oak Lodge, Chitcombe Road, Broad Oak | B74: Brede | C74: BRE0061 | D74: 1.8 | E74: =VLOOKUP(A74,Sheet1!$A$2:$G$148,7,FALSE) -> 0.6 | F74: =IF(ISNA(E74),20,IF(E74=0,20,(1-E74/D74)*100)) -> 66.666667 | G74: 100 | H74: 0 | I74: 0 | J74: 0 | K74: 0 | L74: 0 | M74: 0 | N74: 0 | O74: 0 | P74: 0 | Q74: 0 | R74: 2.5481279 | S74: 2.1926353 | T74: 2.0265365 | U74: 2.877314 | V74: 2.4008625 | W74: 2.2605077 | X74: No | Y74: 0 | Z74: 0 | AA74: 0 | AB74: 0 | AC74: No | AD74: No | AE74: No | AF74: =IF(AND(M74=0,V74=0),"Most preferable",IF(OR(M74>20,V74>20),"Least preferable","Less preferable")) -> Less preferable | AG74: =IF(AND(M74=0,V74=0),"Most preferable",IF(OR(M74>F74,V74>F74),"Least preferable","Less preferable")) -> Less preferable | AH74: =IF(OR((M74)>F74,V74>F74),"Yes","No") -> No | AI74: No | AJ74: No | AK74: N/A | AL74: N/A | AM74: N/A | AN74: N/A
A75: Coldharbour Farm Estate, Coldharbour Lane, Brightling | B75: Brightling | C75: BRI0001 | D75: 0.97 | E75: =VLOOKUP(A75,Sheet1!$A$2:$G$148,7,FALSE) -> 0.18 | F75: =IF(ISNA(E75),20,IF(E75=0,20,(1-E75/D75)*100)) -> 81.443299 | G75: 100 | H75: 0 | I75: 0 | J75: 0 | K75: 0 | L75: 0 | M75: 0 | N75: 0 | O75: 0 | P75: 0 | Q75: 0 | R75: 2.7092871 | S75: 2.0057785 | T75: 0.97092955 | U75: 2.9976874 | V75: 2.4609234 | W75: 2.0885665 | X75: No | Y75: 0 | Z75: 0 | AA75: 0 | AB75: 2 | AC75: No | AD75: No | AE75: No | AF75: =IF(AND(M75=0,V75=0),"Most preferable",IF(OR(M75>20,V75>20),"Least preferable","Less preferable")) -> Less preferable | AG75: =IF(AND(M75=0,V75=0),"Most preferable",IF(OR(M75>F75,V75>F75),"Least preferable","Less preferable")) -> Less preferable | AH75: =IF(OR((M75)>F75,V75>F75),"Yes","No") -> No | AI75: No | AJ75: No | AK75: N/A | AL75: N/A | AM75: N/A | AN75: N/A
A76: Land at 101 Shrub Lane, Burwash | B76: Burwash | C76: BUR0010 | D76: 0.18 | E76: =VLOOKUP(A76,Sheet1!$A$2:$G$148,7,FALSE) -> 0.18 | F76: =IF(ISNA(E76),20,IF(E76=0,20,(1-E76/D76)*100)) -> 0 | G76: 100 | H76: 0 | I76: 0 | J76: 0 | K76: 0 | L76: 0 | M76: 0 | N76: 0 | O76: 0 | P76: 0 | Q76: 0 | R76: 0.034563571 | S76: 0 | T76: 0 | U76: 0.1599178 | V76: 0 | W76: 0 | X76: No | Y76: 0 | Z76: 0 | AA76: 0 | AB76: 2 | AC76: No | AD76: No | AE76: No | AF76: =IF(AND(M76=0,V76=0),"Most preferable",IF(OR(M76>20,V76>20),"Least preferable","Less preferable")) -> Most preferable | AG76: =IF(AND(M76=0,V76=0),"Most preferable",IF(OR(M76>F76,V76>F76),"Least preferable","Less preferable")) -> Most preferable | AH76: =IF(OR((M76)>F76,V76>F76),"Yes","No") -> No | AI76: No | AJ76: No | AK76: N/A | AL76: N/A | AM76: N/A | AN76: N/A
A77: Land south of Heathfield Road, Burwash Common | B77: Burwash | C77: BUR0027 | D77: 0.36 | E77: =VLOOKUP(A77,Sheet1!$A$2:$G$148,7,FALSE) -> 0.2 | F77: =IF(ISNA(E77),20,IF(E77=0,20,(1-E77/D77)*100)) -> 44.444444 | G77: 100 | H77: 0 | I77: 0 | J77: 0 | K77: 0 | L77: 0 | M77: 0 | N77: 0 | O77: 0 | P77: 0 | Q77: 0 | R77: 2.4180872 | S77: 2.1509266 | T77: 0 | U77: 2.7705136 | V77: 2.1941634 | W77: 2.1509265 | X77: No | Y77: 0 | Z77: 0 | AA77: 0 | AB77: 4 | AC77: No | AD77: No | AE77: No | AF77: =IF(AND(M77=0,V77=0),"Most preferable",IF(OR(M77>20,V77>20),"Least preferable","Less preferable")) -> Less preferable | AG77: =IF(AND(M77=0,V77=0),"Most preferable",IF(OR(M77>F77,V77>F77),"Least preferable","Less preferable")) -> Less preferable | AH77: =IF(OR((M77)>F77,V77>F77),"Yes","No") -> No | AI77: No | AJ77: No | AK77: N/A | AL77: N/A | AM77: N/A | AN77: N/A
A78: Land east of Shrub Lane (north), Burwash | B78: Burwash | C78: BUR0031 | D78: 0.59 | E78: =VLOOKUP(A78,Sheet1!$A$2:$G$148,7,FALSE) -> 0.59 | F78: =IF(ISNA(E78),20,IF(E78=0,20,(1-E78/D78)*100)) -> 0 | G78: 100 | H78: 0 | I78: 0 | J78: 0 | K78: 0 | L78: 0 | M78: 0 | N78: 0 | O78: 0 | P78: 0 | Q78: 0 | R78: 0.00014921818 | S78: 0 | T78: 0 | U78: 0.2087019 | V78: 0.00014921818 | W78: 0.00014921818 | X78: No | Y78: 0 | Z78: 0 | AA78: 0 | AB78: 2 | AC78: No | AD78: No | AE78: No | AF78: =IF(AND(M78=0,V78=0),"Most preferable",IF(OR(M78>20,V78>20),"Least preferable","Less preferable")) -> Less preferable | AG78: =IF(AND(M78=0,V78=0),"Most preferable",IF(OR(M78>F78,V78>F78),"Least preferable","Less preferable")) -> Least preferable | AH78: =IF(OR((M78)>F78,V78>F78),"Yes","No") -> Yes | AI78: No | AJ78: No | AK78: N/A | AL78: N/A | AM78: N/A | AN78: N/A | AP78: Originally identified due to a 100% developable area (incorrect). However, consultant advised that flood risk to both sites is extremely low (less than 1%) and therefore they would still be easily developable.
A79: Land east of Shrub Lane (south), Burwash | B79: Burwash | C79: BUR0032 | D79: 0.32 | E79: =VLOOKUP(A79,Sheet1!$A$2:$G$148,7,FALSE) -> 0.32 | F79: =IF(ISNA(E79),20,IF(E79=0,20,(1-E79/D79)*100)) -> 0 | G79: 100 | H79: 0 | I79: 0 | J79: 0 | K79: 0 | L79: 0 | M79: 0 | N79: 0 | O79: 0 | P79: 0 | Q79: 0 | R79: 0.00068981061 | S79: 0 | T79: 0 | U79: 0.01035315 | V79: 0.00068981061 | W79: 0 | X79: No | Y79: 0 | Z79: 0 | AA79: 0 | AB79: 1 | AC79: No | AD79: No | AE79: No | AF79: =IF(AND(M79=0,V79=0),"Most preferable",IF(OR(M79>20,V79>20),"Least preferable","Less preferable")) -> Less preferable | AG79: =IF(AND(M79=0,V79=0),"Most preferable",IF(OR(M79>F79,V79>F79),"Least preferable","Less preferable")) -> Least preferable | AH79: =IF(OR((M79)>F79,V79>F79),"Yes","No") -> Yes | AI79: No | AJ79: No | AK79: N/A | AL79: N/A | AM79: N/A | AN79: N/A | AP79: Originally identified due to a 100% developable area (incorrect). However,consultant advised that flood risk to both sites is extremely low (less than 1%) and therefore they would still be easily developable.
A80: Old Orchard Nursery, Heathfield Road, Burwash Common | B80: Burwash | C80: BUR0039 | D80: 0.32 | E80: =VLOOKUP(A80,Sheet1!$A$2:$G$148,7,FALSE) -> 0.3 | F80: =IF(ISNA(E80),20,IF(E80=0,20,(1-E80/D80)*100)) -> 6.25 | G80: 100 | H80: 0 | I80: 0 | J80: 0 | K80: 0 | L80: 0 | M80: 0 | N80: 0 | O80: 0 | P80: 0 | Q80: 0 | R80: 0 | S80: 0 | T80: 0 | U80: 0 | V80: 0 | W80: 0 | X80: No | Y80: 0 | Z80: 0 | AA80: 0 | AB80: 2 | AC80: No | AD80: No | AE80: No | AF80: =IF(AND(M80=0,V80=0),"Most preferable",IF(OR(M80>20,V80>20),"Least preferable","Less preferable")) -> Most preferable | AG80: =IF(AND(M80=0,V80=0),"Most preferable",IF(OR(M80>F80,V80>F80),"Least preferable","Less preferable")) -> Most preferable | AH80: =IF(OR((M80)>F80,V80>F80),"Yes","No") -> No | AI80: No | AJ80: No | AK80: N/A | AL80: N/A | AM80: N/A | AN80: N/A
A81: Land north of Shrub Lane, Burwash | B81: Burwash | C81: BUR0042 | D81: 4.63 | E81: =VLOOKUP(A81,Sheet1!$A$2:$G$148,7,FALSE) -> 1.1 | F81: =IF(ISNA(E81),20,IF(E81=0,20,(1-E81/D81)*100)) -> 76.241901 | G81: 100 | H81: 0 | I81: 0 | J81: 0 | K81: 0 | L81: 0 | M81: 0 | N81: 0 | O81: 0 | P81: 0 | Q81: 0 | R81: 5.3848825 | S81: 3.9067588 | T81: 3.4556805 | U81: 7.177679 | V81: 5.2874156 | W81: 4.2506326 | X81: Yes | Y81: 0 | Z81: 0 | AA81: 0 | AB81: 2 | AC81: No | AD81: No | AE81: No | AF81: =IF(AND(M81=0,V81=0),"Most preferable",IF(OR(M81>20,V81>20),"Least preferable","Less preferable")) -> Less preferable | AG81: =IF(AND(M81=0,V81=0),"Most preferable",IF(OR(M81>F81,V81>F81),"Least preferable","Less preferable")) -> Less preferable | AH81: =IF(OR((M81)>F81,V81>F81),"Yes","No") -> No | AI81: No | AJ81: No | AK81: N/A | AL81: N/A | AM81: N/A | AN81: N/A
A82: Bexhill Urban Area | B82: Bexhill | C82: BX1 | D82: 133.85 | E82: =VLOOKUP(A82,Sheet1!$A$2:$G$148,7,FALSE) -> #N/A | F82: =IF(ISNA(E82),20,IF(E82=0,20,(1-E82/D82)*100)) -> 20 | G82: 92.807698 | H82: 1.4794411 | I82: 5.7128611 | J82: 0.11556171 | K82: 5.8633994 | L82: 11.031842 | M82: 12.425549 | N82: 0 | O82: 0 | P82: 6.8567618 | Q82: 8.5325481 | R82: 14.407705 | S82: 7.7433236 | T82: 4.4862479 | U82: 23.489355 | V82: 13.614344 | W82: 9.0001331 | X82: Yes | Y82: 0 | Z82: 0 | AA82: 0 | AB82: 261 | AC82: No | AD82: Yes | AE82: Yes | AF82: =IF(AND(M82=0,V82=0),"Most preferable",IF(OR(M82>20,V82>20),"Least preferable","Less preferable")) -> Less preferable | AG82: =IF(AND(M82=0,V82=0),"Most preferable",IF(OR(M82>F82,V82>F82),"Least preferable","Less preferable")) -> Less preferable | AH82: =IF(OR((M82)>F82,V82>F82),"Yes","No") -> No | AI82: No | AJ82: No | AK82: Yes | AL82: East Sussex Coastal Model - Combe Haven | AM82: No | AN82: No | AP82: No, this is not a site allocation policy.
A83: Bexhill Cultural Area | B83: Bexhill | C83: BX2 | D83: 7.85 | E83: =VLOOKUP(A83,Sheet1!$A$2:$G$148,7,FALSE) -> #N/A | F83: =IF(ISNA(E83),20,IF(E83=0,20,(1-E83/D83)*100)) -> 20 | G83: 66.412099 | H83: 0.086578941 | I83: 33.501322 | J83: 9.4859054 | K83: 32.863531 | L83: 39.430391 | M83: 42.356064 | N83: 0 | O83: 0 | P83: 16.159611 | Q83: 20.921617 | R83: 7.5198016 | S83: 3.3911792 | T83: 1.8805436 | U83: 12.06539 | V83: 7.1677367 | W83: 3.830852 | X83: Yes | Y83: 0 | Z83: 0 | AA83: 0 | AB83: 50 | AC83: No | AD83: Yes | AE83: Yes | AF83: =IF(AND(M83=0,V83=0),"Most preferable",IF(OR(M83>20,V83>20),"Least preferable","Less preferable")) -> Least preferable | AG83: =IF(AND(M83=0,V83=0),"Most preferable",IF(OR(M83>F83,V83>F83),"Least preferable","Less preferable")) -> Least preferable | AH83: =IF(OR((M83)>F83,V83>F83),"Yes","No") -> Yes | AI83: N/A | AJ83: N/A | AK83: Yes | AL83: East Sussex Coastal Model - Combe Haven | AM83: No | AN83: No | AO83: No | AP83: No, this is not a site allocation policy.
A84: London Road - Sackville Road Enhancement Area, Bexhill | B84: Bexhill | C84: BX3 | D84: 5.11 | E84: =VLOOKUP(A84,Sheet1!$A$2:$G$148,7,FALSE) -> #N/A | F84: =IF(ISNA(E84),20,IF(E84=0,20,(1-E84/D84)*100)) -> 20 | G84: 99.77954 | H84: 0.22045994 | I84: 0 | J84: 0 | K84: 0 | L84: 0 | M84: 1.791031 | N84: 0 | O84: 0 | P84: 0 | Q84: 0 | R84: 23.142434 | S84: 11.090831 | T84: 7.3083733 | U84: 33.290581 | V84: 21.946056 | W84: 12.750599 | X84: Yes | Y84: 0 | Z84: 0 | AA84: 0 | AB84: 38 | AC84: No | AD84: No | AE84: No | AF84: =IF(AND(M84=0,V84=0),"Most preferable",IF(OR(M84>20,V84>20),"Least preferable","Less preferable")) -> Least preferable | AG84: =IF(AND(M84=0,V84=0),"Most preferable",IF(OR(M84>F84,V84>F84),"Least preferable","Less preferable")) -> Least preferable | AH84: =IF(OR((M84)>F84,V84>F84),"Yes","No") -> Yes | AI84: N/A | AJ84: N/A | AK84: N/A | AL84: N/A | AM84: No | AN84: No | AO84: Yes | AP84: No, this is not a site allocation policy.
A85: Land at the Former Putting Green Site, Old Lydd Road, Camber | B85: Camber | C85: CAM0001 | D85: 0.21 | E85: =VLOOKUP(A85,Sheet1!$A$2:$G$148,7,FALSE) -> 0.2 | F85: =IF(ISNA(E85),20,IF(E85=0,20,(1-E85/D85)*100)) -> 4.7619048 | G85: 100 | H85: 0 | I85: 0 | J85: 0 | K85: 0 | L85: 100 | M85: 100 | N85: 0 | O85: 0 | P85: 0 | Q85: 0 | R85: 1.1070623 | S85: 0 | T85: 0 | U85: 2.7062527 | V85: 0.63947567 | W85: 0.019832071 | X85: No | Y85: 0 | Z85: 0 | AA85: 0 | AB85: 6 | AC85: Yes | AD85: Yes | AE85: Yes | AF85: =IF(AND(M85=0,V85=0),"Most preferable",IF(OR(M85>20,V85>20),"Least preferable","Less preferable")) -> Least preferable | AG85: =IF(AND(M85=0,V85=0),"Most preferable",IF(OR(M85>F85,V85>F85),"Least preferable","Less preferable")) -> Least preferable | AH85: =IF(OR((M85)>F85,V85>F85),"Yes","No") -> Yes | AI85: N/A | AJ85: N/A | AK85: N/A | AL85: N/A | AM85: N/A | AN85: N/A | AO85: No | AP85: Yes. Consultant advised that while a site specific FRA was undertaken in 2022, this did not consider climate change effects and therefore further assessment is required.
A86: Land at the Central Car Park, Old Lydd Road, Camber | B86: Camber | C86: CAM0002 | D86: 0.72 | E86: =VLOOKUP(A86,Sheet1!$A$2:$G$148,7,FALSE) -> 0.6 | F86: =IF(ISNA(E86),20,IF(E86=0,20,(1-E86/D86)*100)) -> 16.666667 | G86: 45.596709 | H86: 4.5992383 | I86: 49.804053 | J86: 0.054654855 | K86: 32.742062 | L86: 100 | M86: 100 | N86: 0 | O86: 0 | P86: 0 | Q86: 0 | R86: 7.861793 | S86: 5.5412496 | T86: 4.2113496 | U86: 9.2972323 | V86: 7.0650653 | W86: 6.039962 | X86: No | Y86: 0 | Z86: 0 | AA86: 0 | AB86: 3 | AC86: Yes | AD86: Yes | AE86: Yes | AF86: =IF(AND(M86=0,V86=0),"Most preferable",IF(OR(M86>20,V86>20),"Least preferable","Less preferable")) -> Least preferable | AG86: =IF(AND(M86=0,V86=0),"Most preferable",IF(OR(M86>F86,V86>F86),"Least preferable","Less preferable")) -> Least preferable | AH86: =IF(OR((M86)>F86,V86>F86),"Yes","No") -> Yes | AI86: N/A | AJ86: N/A | AK86: Yes | AL86: Romney Marsh Model | AM86: Yes | AN86: No | AO86: No | AP86: Yes
A87: Lydd Road Garage, Lydd Road, Camber | B87: Camber | C87: CAM0004 | D87: 0.13 | E87: =VLOOKUP(A87,Sheet1!$A$2:$G$148,7,FALSE) -> 0.13 | F87: =IF(ISNA(E87),20,IF(E87=0,20,(1-E87/D87)*100)) -> 0 | G87: 0 | H87: 0 | I87: 100 | J87: 0 | K87: 0 | L87: 100 | M87: 100 | N87: 0 | O87: 0 | P87: 0 | Q87: 0 | R87: 15.212288 | S87: 0 | T87: 0 | U87: 65.571526 | V87: 3.8068644 | W87: 0 | X87: No | Y87: 0 | Z87: 0 | AA87: 0 | AB87: 1 | AC87: Yes | AD87: Yes | AE87: Yes | AF87: =IF(AND(M87=0,V87=0),"Most preferable",IF(OR(M87>20,V87>20),"Least preferable","Less preferable")) -> Least preferable | AG87: =IF(AND(M87=0,V87=0),"Most preferable",IF(OR(M87>F87,V87>F87),"Least preferable","Less preferable")) -> Least preferable | AH87: =IF(OR((M87)>F87,V87>F87),"Yes","No") -> Yes | AI87: N/A | AJ87: N/A | AK87: N/A | AL87: N/A | AM87: Yes | AN87: No | AO87: No | AP87: Yes
A88: Land west of B2204, Catsfield | B88: Catsfield | C88: CAT0001 | D88: 1.66 | E88: =VLOOKUP(A88,Sheet1!$A$2:$G$148,7,FALSE) -> 0.83 | F88: =IF(ISNA(E88),20,IF(E88=0,20,(1-E88/D88)*100)) -> 50 | G88: 100 | H88: 0 | I88: 0 | J88: 0 | K88: 0 | L88: 0 | M88: 0 | N88: 0 | O88: 0 | P88: 0 | Q88: 0 | R88: 1.9700978 | S88: 0.55066907 | T88: 0 | U88: 4.8712908 | V88: 1.6079546 | W88: 0.71466805 | X88: No | Y88: 0 | Z88: 0 | AA88: 0 | AB88: 2 | AC88: No | AD88: No | AE88: No | AF88: =IF(AND(M88=0,V88=0),"Most preferable",IF(OR(M88>20,V88>20),"Least preferable","Less preferable")) -> Less preferable | AG88: =IF(AND(M88=0,V88=0),"Most preferable",IF(OR(M88>F88,V88>F88),"Least preferable","Less preferable")) -> Less preferable | AH88: =IF(OR((M88)>F88,V88>F88),"Yes","No") -> No | AI88: No | AJ88: No | AK88: N/A | AL88: N/A | AM88: N/A | AN88: N/A
A89: Land south of Church Road, Catsfield | B89: Catsfield | C89: CAT0014 | D89: 3.41 | E89: =VLOOKUP(A89,Sheet1!$A$2:$G$148,7,FALSE) -> 1 | F89: =IF(ISNA(E89),20,IF(E89=0,20,(1-E89/D89)*100)) -> 70.674487 | G89: 100 | H89: 0 | I89: 0 | J89: 0 | K89: 0 | L89: 0 | M89: 0 | N89: 0 | O89: 0 | P89: 0 | Q89: 0 | R89: 12.917198 | S89: 6.6424431 | T89: 4.4051304 | U89: 27.177828 | V89: 12.085637 | W89: 7.6744555 | X89: Yes | Y89: 0 | Z89: 0 | AA89: 0 | AB89: 8 | AC89: No | AD89: No | AE89: No | AF89: =IF(AND(M89=0,V89=0),"Most preferable",IF(OR(M89>20,V89>20),"Least preferable","Less preferable")) -> Less preferable | AG89: =IF(AND(M89=0,V89=0),"Most preferable",IF(OR(M89>F89,V89>F89),"Least preferable","Less preferable")) -> Less preferable | AH89: =IF(OR((M89)>F89,V89>F89),"Yes","No") -> No | AI89: No | AJ89: No | AK89: N/A | AL89: N/A | AM89: N/A | AN89: N/A
A90: Land south of Wilton House Equestrian Centre, Catsfield | B90: Catsfield | C90: CAT0016 | D90: 1.23 | E90: =VLOOKUP(A90,Sheet1!$A$2:$G$148,7,FALSE) -> 0.6 | F90: =IF(ISNA(E90),20,IF(E90=0,20,(1-E90/D90)*100)) -> 51.219512 | G90: 100 | H90: 0 | I90: 0 | J90: 0 | K90: 0 | L90: 0 | M90: 0 | N90: 0 | O90: 0 | P90: 0 | Q90: 0 | R90: 3.6227203 | S90: 0.6370125 | T90: 0.61058723 | U90: 6.7436048 | V90: 3.4023386 | W90: 2.003409 | X90: Yes | Y90: 0 | Z90: 0 | AA90: 0 | AB90: 0 | AC90: No | AD90: No | AE90: No | AF90: =IF(AND(M90=0,V90=0),"Most preferable",IF(OR(M90>20,V90>20),"Least preferable","Less preferable")) -> Less preferable | AG90: =IF(AND(M90=0,V90=0),"Most preferable",IF(OR(M90>F90,V90>F90),"Least preferable","Less preferable")) -> Less preferable | AH90: =IF(OR((M90)>F90,V90>F90),"Yes","No") -> No | AI90: No | AJ90: No | AK90: N/A | AL90: N/A | AM90: N/A | AN90: N/A
A91: Land adjacent to Station Car Park, Crowhurst | B91: Crowhurst | C91: CRO0003 | D91: 0.08 | E91: =VLOOKUP(A91,Sheet1!$A$2:$G$148,7,FALSE) -> 0.08 | F91: =IF(ISNA(E91),20,IF(E91=0,20,(1-E91/D91)*100)) -> 0 | G91: 100 | H91: 0 | I91: 0 | J91: 0 | K91: 0 | L91: 0 | M91: 0 | N91: 0 | O91: 0 | P91: 0 | Q91: 0 | R91: 0 | S91: 0 | T91: 0 | U91: 0 | V91: 0 | W91: 0 | X91: No | Y91: 0 | Z91: 0 | AA91: 0 | AB91: 0 | AC91: No | AD91: No | AE91: No | AF91: =IF(AND(M91=0,V91=0),"Most preferable",IF(OR(M91>20,V91>20),"Least preferable","Less preferable")) -> Most preferable | AG91: =IF(AND(M91=0,V91=0),"Most preferable",IF(OR(M91>F91,V91>F91),"Least preferable","Less preferable")) -> Most preferable | AH91: =IF(OR((M91)>F91,V91>F91),"Yes","No") -> No | AI91: No | AJ91: No | AK91: N/A | AL91: N/A | AM91: N/A | AN91: N/A
A92: Land south of Forewood Rise, Crowhurst | B92: Crowhurst | C92: CRO0010 | D92: 1.03 | E92: =VLOOKUP(A92,Sheet1!$A$2:$G$148,7,FALSE) -> 0.52 | F92: =IF(ISNA(E92),20,IF(E92=0,20,(1-E92/D92)*100)) -> 49.514563 | G92: 100 | H92: 0 | I92: 0 | J92: 0 | K92: 0 | L92: 0 | M92: 0 | N92: 0 | O92: 0 | P92: 0 | Q92: 0 | R92: 0.11223688 | S92: 0.0096308912 | T92: 0.0070627701 | U92: 0.30510946 | V92: 0.073462897 | W92: 0.0096308912 | X92: No | Y92: 0 | Z92: 0 | AA92: 0 | AB92: 1 | AC92: No | AD92: No | AE92: No | AF92: =IF(AND(M92=0,V92=0),"Most preferable",IF(OR(M92>20,V92>20),"Least preferable","Less preferable")) -> Less preferable | AG92: =IF(AND(M92=0,V92=0),"Most preferable",IF(OR(M92>F92,V92>F92),"Least preferable","Less preferable")) -> Less preferable | AH92: =IF(OR((M92)>F92,V92>F92),"Yes","No") -> No | AI92: No | AJ92: No | AK92: N/A | AL92: N/A | AM92: N/A | AN92: N/A
A93: Land at Station Road and Forewood Lane, Crowhurst | B93: Crowhurst | C93: CRO0038 | D93: 1.41 | E93: =VLOOKUP(A93,Sheet1!$A$2:$G$148,7,FALSE) -> 0.71 | F93: =IF(ISNA(E93),20,IF(E93=0,20,(1-E93/D93)*100)) -> 49.64539 | G93: 100 | H93: 0 | I93: 0 | J93: 0 | K93: 0 | L93: 0 | M93: 0 | N93: 0 | O93: 0 | P93: 0 | Q93: 0 | R93: 0 | S93: 0 | T93: 0 | U93: 0.028406341 | V93: 0 | W93: 0 | X93: Yes | Y93: 0 | Z93: 0 | AA93: 0 | AB93: 2 | AC93: No | AD93: No | AE93: No | AF93: =IF(AND(M93=0,V93=0),"Most preferable",IF(OR(M93>20,V93>20),"Least preferable","Less preferable")) -> Most preferable | AG93: =IF(AND(M93=0,V93=0),"Most preferable",IF(OR(M93>F93,V93>F93),"Least preferable","Less preferable")) -> Most preferable | AH93: =IF(OR((M93)>F93,V93>F93),"Yes","No") -> No | AI93: No | AJ93: No | AK93: N/A | AL93: N/A | AM93: N/A | AN93: N/A
A94: Land at Church Lane, Etchingham | B94: Etchingham | C94: ETC0016 | D94: 0.24 | E94: =VLOOKUP(A94,Sheet1!$A$2:$G$148,7,FALSE) -> 0.15 | F94: =IF(ISNA(E94),20,IF(E94=0,20,(1-E94/D94)*100)) -> 37.5 | G94: 75.731952 | H94: 12.631165 | I94: 11.636883 | J94: 22.428908 | K94: 0 | L94: 9.0810257 | M94: 26.666745 | N94: 30.02146 | O94: 31.114782 | P94: 0 | Q94: 0 | R94: 0.092402016 | S94: 0.078786739 | T94: 0.070112771 | U94: 0.45461839 | V94: 0.078786747 | W94: 0.078786747 | X94: No | Y94: 0 | Z94: 20.8063 | AA94: 21.516872 | AB94: 5 | AC94: No | AD94: Yes | AE94: Yes | AF94: =IF(AND(M94=0,V94=0),"Most preferable",IF(OR(M94>20,V94>20),"Least preferable","Less preferable")) -> Least preferable | AG94: =IF(AND(M94=0,V94=0),"Most preferable",IF(OR(M94>F94,V94>F94),"Least preferable","Less preferable")) -> Less preferable | AH94: =IF(OR((M94)>F94,V94>F94),"Yes","No") -> No | AI94: N/A | AJ94: N/A | AK94: Yes | AL94: River Rother Model | AM94: Yes | AN94: No | AO94: No | AP94: No. Consultant advised that flood risk area can be accommodated in undeveloped portion of site.
A95: Croft Field, Etchi+A85+A98 | B95: Etchingham | C95: ETC0024 | D95: 3.05 | E95: =VLOOKUP(A95,Sheet1!$A$2:$G$148,7,FALSE) -> 1.53 | F95: =IF(ISNA(E95),20,IF(E95=0,20,(1-E95/D95)*100)) -> 49.836066 | G95: 100 | H95: 0 | I95: 0 | J95: 0 | K95: 0 | L95: 0 | M95: 0 | N95: 0 | O95: 0 | P95: 0 | Q95: 0 | R95: 0.99818104 | S95: 0.27563264 | T95: 0.27563264 | U95: 1.5948111 | V95: 0.93259245 | W95: 0.27563263 | X95: No | Y95: 0 | Z95: 0 | AA95: 0 | AB95: 0 | AC95: No | AD95: No | AE95: No | AF95: =IF(AND(M95=0,V95=0),"Most preferable",IF(OR(M95>20,V95>20),"Least preferable","Less preferable")) -> Less preferable | AG95: =IF(AND(M95=0,V95=0),"Most preferable",IF(OR(M95>F95,V95>F95),"Least preferable","Less preferable")) -> Less preferable | AH95: =IF(OR((M95)>F95,V95>F95),"Yes","No") -> No | AI95: No | AJ95: No | AK95: N/A | AL95: N/A | AM95: N/A | AN95: N/A
A96: Land at Oxenbridge Lane, Etchingham | B96: Etchingham | C96: ETC0026 | D96: 0.62 | E96: =VLOOKUP(A96,Sheet1!$A$2:$G$148,7,FALSE) -> 0.23 | F96: =IF(ISNA(E96),20,IF(E96=0,20,(1-E96/D96)*100)) -> 62.903226 | G96: 39.449122 | H96: 53.466549 | I96: 7.0843286 | J96: 5.4644694 | K96: 4.952784 | L96: 6.4380943 | M96: 60.550878 | N96: 7.4844859 | O96: 9.3020194 | P96: 0 | Q96: 0 | R96: 0 | S96: 0 | T96: 0 | U96: 0.14714023 | V96: 0 | W96: 0 | X96: Yes | Y96: 0 | Z96: 0 | AA96: 60.550878 | AB96: 2 | AC96: No | AD96: No | AE96: Yes | AF96: =IF(AND(M96=0,V96=0),"Most preferable",IF(OR(M96>20,V96>20),"Least preferable","Less preferable")) -> Least preferable | AG96: =IF(AND(M96=0,V96=0),"Most preferable",IF(OR(M96>F96,V96>F96),"Least preferable","Less preferable")) -> Less preferable | AH96: =IF(OR((M96)>F96,V96>F96),"Yes","No") -> No | AI96: N/A | AJ96: N/A | AK96: Yes | AL96: River Rother Model | AM96: No | AN96: No | AO96: No | AP96: No. Consultant advised that flood risk area can be accommodated in undeveloped portion of site.
A97: Land east of Hop Gardens, Northiam Road, Staplecross | B97: Ewhurst | C97: EWH0009 | D97: 0.55 | E97: =VLOOKUP(A97,Sheet1!$A$2:$G$148,7,FALSE) -> 0.25 | F97: =IF(ISNA(E97),20,IF(E97=0,20,(1-E97/D97)*100)) -> 54.545455 | G97: 100 | H97: 0 | I97: 0 | J97: 0 | K97: 0 | L97: 0 | M97: 0 | N97: 0 | O97: 0 | P97: 0 | Q97: 0 | R97: 0 | S97: 0 | T97: 0 | U97: 0 | V97: 0 | W97: 0 | X97: No | Y97: 0 | Z97: 0 | AA97: 0 | AB97: 3 | AC97: No | AD97: No | AE97: No | AF97: =IF(AND(M97=0,V97=0),"Most preferable",IF(OR(M97>20,V97>20),"Least preferable","Less preferable")) -> Most preferable | AG97: =IF(AND(M97=0,V97=0),"Most preferable",IF(OR(M97>F97,V97>F97),"Least preferable","Less preferable")) -> Most preferable | AH97: =IF(OR((M97)>F97,V97>F97),"Yes","No") -> No | AI97: No | AJ97: No | AK97: N/A | AL97: N/A | AM97: N/A | AN97: N/A
A98: Land east of Stockwood Meadow, Northiam Road, Staplecross | B98: Ewhurst | C98: EWH0010 | D98: 1.06 | E98: =VLOOKUP(A98,Sheet1!$A$2:$G$148,7,FALSE) -> 0.7 | F98: =IF(ISNA(E98),20,IF(E98=0,20,(1-E98/D98)*100)) -> 33.962264 | G98: 100 | H98: 0 | I98: 0 | J98: 0 | K98: 0 | L98: 0 | M98: 0 | N98: 0 | O98: 0 | P98: 0 | Q98: 0 | R98: 5.3001928 | S98: 4.1505968 | T98: 3.6388823 | U98: 6.9873369 | V98: 5.0576117 | W98: 4.3495583 | X98: No | Y98: 0 | Z98: 0 | AA98: 0 | AB98: 2 | AC98: No | AD98: No | AE98: No | AF98: =IF(AND(M98=0,V98=0),"Most preferable",IF(OR(M98>20,V98>20),"Least preferable","Less preferable")) -> Less preferable | AG98: =IF(AND(M98=0,V98=0),"Most preferable",IF(OR(M98>F98,V98>F98),"Least preferable","Less preferable")) -> Less preferable | AH98: =IF(OR((M98)>F98,V98>F98),"Yes","No") -> No | AI98: No | AJ98: No | AK98: N/A | AL98: N/A | AM98: N/A | AN98: N/A
A99: Land east of Waites Lane, Fairlight Cove | B99: Fairlight | C99: FAI0001 | D99: 3.24 | E99: =VLOOKUP(A99,Sheet1!$A$2:$G$148,7,FALSE) -> 0.97 | F99: =IF(ISNA(E99),20,IF(E99=0,20,(1-E99/D99)*100)) -> 70.061728 | G99: 100 | H99: 0 | I99: 0 | J99: 0 | K99: 0 | L99: 0 | M99: 0 | N99: 0 | O99: 0 | P99: 0 | Q99: 0 | R99: 5.1581169 | S99: 3.6934562 | T99: 3.2819696 | U99: 6.7042783 | V99: 4.9122141 | W99: 4.0214388 | X99: Yes | Y99: 0 | Z99: 0 | AA99: 0 | AB99: 3 | AC99: No | AD99: No | AE99: No | AF99: =IF(AND(M99=0,V99=0),"Most preferable",IF(OR(M99>20,V99>20),"Least preferable","Less preferable")) -> Less preferable | AG99: =IF(AND(M99=0,V99=0),"Most preferable",IF(OR(M99>F99,V99>F99),"Least preferable","Less preferable")) -> Less preferable | AH99: =IF(OR((M99)>F99,V99>F99),"Yes","No") -> No | AI99: No | AJ99: No | AK99: N/A | AL99: N/A | AM99: N/A | AN99: N/A
A100: Rock Lane Urban Fringe Management Area, Hastings Fringes | B100: Guestling | C100: GU6 | D100: 32.81 | E100: =VLOOKUP(A100,Sheet1!$A$2:$G$148,7,FALSE) -> #N/A | F100: =IF(ISNA(E100),20,IF(E100=0,20,(1-E100/D100)*100)) -> 20 | G100: 100 | H100: 0 | I100: 0 | J100: 0 | K100: 0 | L100: 0 | M100: 0 | N100: 0 | O100: 0 | P100: 0 | Q100: 0 | R100: 5.2031313 | S100: 3.3472487 | T100: 2.4407123 | U100: 9.0644432 | V100: 4.764575 | W100: 3.75294 | X100: Yes | Y100: 0 | Z100: 0 | AA100: 0 | AB100: 9 | AC100: No | AD100: No | AE100: No | AF100: =IF(AND(M100=0,V100=0),"Most preferable",IF(OR(M100>20,V100>20),"Least preferable","Less preferable")) -> Less preferable | AG100: =IF(AND(M100=0,V100=0),"Most preferable",IF(OR(M100>F100,V100>F100),"Least preferable","Less preferable")) -> Less preferable | AH100: =IF(OR((M100)>F100,V100>F100),"Yes","No") -> No | AI100: No | AJ100: No | AK100: N/A | AL100: N/A | AM100: N/A | AN100: N/A
A101: Wild Meadows, Chapel Lane, Guestling Green | B101: Guestling | C101: GUE0012 | D101: 1.09 | E101: =VLOOKUP(A101,Sheet1!$A$2:$G$148,7,FALSE) -> 0.55 | F101: =IF(ISNA(E101),20,IF(E101=0,20,(1-E101/D101)*100)) -> 49.541284 | G101: 100 | H101: 0 | I101: 0 | J101: 0 | K101: 0 | L101: 0 | M101: 0 | N101: 0 | O101: 0 | P101: 0 | Q101: 0 | R101: 2.4666419 | S101: 1.3572714 | T101: 0.99044126 | U101: 2.7966557 | V101: 2.4210786 | W101: 2.3110296 | X101: No | Y101: 0 | Z101: 0 | AA101: 0 | AB101: 1 | AC101: No | AD101: No | AE101: No | AF101: =IF(AND(M101=0,V101=0),"Most preferable",IF(OR(M101>20,V101>20),"Least preferable","Less preferable")) -> Less preferable | AG101: =IF(AND(M101=0,V101=0),"Most preferable",IF(OR(M101>F101,V101>F101),"Least preferable","Less preferable")) -> Less preferable | AH101: =IF(OR((M101)>F101,V101>F101),"Yes","No") -> No | AI101: No | AJ101: No | AK101: N/A | AL101: N/A | AM101: N/A | AN101: N/A
A102: Former Guestling Highways Depot, Guestling Green | B102: Guestling | C102: GUE0013 | D102: 0.44 | E102: =VLOOKUP(A102,Sheet1!$A$2:$G$148,7,FALSE) -> 0.23 | F102: =IF(ISNA(E102),20,IF(E102=0,20,(1-E102/D102)*100)) -> 47.727273 | G102: 100 | H102: 0 | I102: 0 | J102: 0 | K102: 0 | L102: 0 | M102: 0 | N102: 0 | O102: 0 | P102: 0 | Q102: 0 | R102: 4.1613359 | S102: 0.47387331 | T102: 0.15889624 | U102: 6.8411071 | V102: 1.189742 | W102: 0.64262299 | X102: Yes | Y102: 0 | Z102: 0 | AA102: 0 | AB102: 2 | AC102: No | AD102: No | AE102: No | AF102: =IF(AND(M102=0,V102=0),"Most preferable",IF(OR(M102>20,V102>20),"Least preferable","Less preferable")) -> Less preferable | AG102: =IF(AND(M102=0,V102=0),"Most preferable",IF(OR(M102>F102,V102>F102),"Least preferable","Less preferable")) -> Less preferable | AH102: =IF(OR((M102)>F102,V102>F102),"Yes","No") -> No | AI102: No | AJ102: No | AK102: N/A | AL102: N/A | AM102: N/A | AN102: N/A
A103: Field at Halfhouse, Butchers Lane, Three Oaks | B103: Guestling | C103: GUE0024 | D103: 0.8 | E103: =VLOOKUP(A103,Sheet1!$A$2:$G$148,7,FALSE) -> 0.36 | F103: =IF(ISNA(E103),20,IF(E103=0,20,(1-E103/D103)*100)) -> 55 | G103: 100 | H103: 0 | I103: 0 | J103: 0 | K103: 0 | L103: 0 | M103: 0 | N103: 0 | O103: 0 | P103: 0 | Q103: 0 | R103: 0.020351689 | S103: 0 | T103: 0 | U103: 0.020351689 | V103: 0.0055525145 | W103: 0.0026506516 | X103: No | Y103: 0 | Z103: 0 | AA103: 0 | AB103: 0 | AC103: No | AD103: No | AE103: No | AF103: =IF(AND(M103=0,V103=0),"Most preferable",IF(OR(M103>20,V103>20),"Least preferable","Less preferable")) -> Less preferable | AG103: =IF(AND(M103=0,V103=0),"Most preferable",IF(OR(M103>F103,V103>F103),"Least preferable","Less preferable")) -> Less preferable | AH103: =IF(OR((M103)>F103,V103>F103),"Yes","No") -> No | AI103: No | AJ103: No | AK103: N/A | AL103: N/A | AM103: N/A | AN103: N/A
A104: Land adjacent to Fir Tree Cottage, Netherfield Hill | B104: Battle | C104: GYP0001 | D104: 0.38 | E104: =VLOOKUP(A104,Sheet1!$A$2:$G$148,7,FALSE) -> #N/A | F104: =IF(ISNA(E104),20,IF(E104=0,20,(1-E104/D104)*100)) -> 20 | G104: 100 | H104: 0 | I104: 0 | J104: 0 | K104: 0 | L104: 0 | M104: 0 | N104: 0 | O104: 0 | P104: 0 | Q104: 0 | R104: 13.370144 | S104: 12.029489 | T104: 10.252081 | U104: 14.678398 | V104: 13.053076 | W104: 12.240872 | X104: No | Y104: 0 | Z104: 0 | AA104: 0 | AB104: 2 | AC104: No | AD104: No | AE104: No | AF104: =IF(AND(M104=0,V104=0),"Most preferable",IF(OR(M104>20,V104>20),"Least preferable","Less preferable")) -> Less preferable | AG104: =IF(AND(M104=0,V104=0),"Most preferable",IF(OR(M104>F104,V104>F104),"Least preferable","Less preferable")) -> Less preferable | AH104: =IF(OR((M104)>F104,V104>F104),"Yes","No") -> No | AI104: No | AJ104: No | AK104: N/A | AL104: N/A | AM104: N/A | AN104: N/A
A105: Land north of Broom Hill, Flimwell | B105: Ticehurst | C105: GYP0002 | D105: 2.91 | E105: =VLOOKUP(A105,Sheet1!$A$2:$G$148,7,FALSE) -> #N/A | F105: =IF(ISNA(E105),20,IF(E105=0,20,(1-E105/D105)*100)) -> 20 | G105: 100 | H105: 0 | I105: 0 | J105: 0 | K105: 0 | L105: 0 | M105: 0 | N105: 0 | O105: 0 | P105: 0 | Q105: 0 | R105: 0.12698115 | S105: 0.11060502 | T105: 0.078621012 | U105: 0.30825992 | V105: 0.12698115 | W105: 0.11060502 | X105: No | Y105: 0 | Z105: 0 | AA105: 0 | AB105: 0 | AC105: No | AD105: No | AE105: No | AF105: =IF(AND(M105=0,V105=0),"Most preferable",IF(OR(M105>20,V105>20),"Least preferable","Less preferable")) -> Less preferable | AG105: =IF(AND(M105=0,V105=0),"Most preferable",IF(OR(M105>F105,V105>F105),"Least preferable","Less preferable")) -> Less preferable | AH105: =IF(OR((M105)>F105,V105>F105),"Yes","No") -> No | AI105: No | AJ105: No | AK105: N/A | AL105: N/A | AM105: N/A | AN105: N/A
A106: The Hollies, The Mount, Flimwell TN5 7QP | B106: Ticehurst | C106: GYP0003 | D106: 0.23 | E106: =VLOOKUP(A106,Sheet1!$A$2:$G$148,7,FALSE) -> #N/A | F106: =IF(ISNA(E106),20,IF(E106=0,20,(1-E106/D106)*100)) -> 20 | G106: 100 | H106: 0 | I106: 0 | J106: 0 | K106: 0 | L106: 0 | M106: 0 | N106: 0 | O106: 0 | P106: 0 | Q106: 0 | R106: 0 | S106: 0 | T106: 0 | U106: 3.0661008 | V106: 0 | W106: 0 | X106: No | Y106: 0 | Z106: 0 | AA106: 0 | AB106: 0 | AC106: No | AD106: No | AE106: No | AF106: =IF(AND(M106=0,V106=0),"Most preferable",IF(OR(M106>20,V106>20),"Least preferable","Less preferable")) -> Most preferable | AG106: =IF(AND(M106=0,V106=0),"Most preferable",IF(OR(M106>F106,V106>F106),"Least preferable","Less preferable")) -> Most preferable | AH106: =IF(OR((M106)>F106,V106>F106),"Yes","No") -> No | AI106: No | AJ106: No | AK106: N/A | AL106: N/A | AM106: N/A | AN106: N/A
A107: Land adjacent to High Views, Loose Farm Lane, Battle | B107: Battle | C107: GYP0004 | D107: 0.05 | E107: =VLOOKUP(A107,Sheet1!$A$2:$G$148,7,FALSE) -> #N/A | F107: =IF(ISNA(E107),20,IF(E107=0,20,(1-E107/D107)*100)) -> 20 | G107: 100 | H107: 0 | I107: 0 | J107: 0 | K107: 0 | L107: 0 | M107: 0 | N107: 0 | O107: 0 | P107: 0 | Q107: 0 | R107: 0 | S107: 0 | T107: 0 | U107: 0 | V107: 0 | W107: 0 | X107: No | Y107: 0 | Z107: 0 | AA107: 0 | AB107: 0 | AC107: No | AD107: No | AE107: No | AF107: =IF(AND(M107=0,V107=0),"Most preferable",IF(OR(M107>20,V107>20),"Least preferable","Less preferable")) -> Most preferable | AG107: =IF(AND(M107=0,V107=0),"Most preferable",IF(OR(M107>F107,V107>F107),"Least preferable","Less preferable")) -> Most preferable | AH107: =IF(OR((M107)>F107,V107>F107),"Yes","No") -> No | AI107: No | AJ107: No | AK107: N/A | AL107: N/A | AM107: N/A | AN107: N/A
A108: Land at North Bexhill, Watermill Lane, Bexhill | B108: Bexhill NE | C108: GYP0005 | D108: 0.52 | E108: =VLOOKUP(A108,Sheet1!$A$2:$G$148,7,FALSE) -> #N/A | F108: =IF(ISNA(E108),20,IF(E108=0,20,(1-E108/D108)*100)) -> 20 | G108: 100 | H108: 0 | I108: 0 | J108: 0 | K108: 0 | L108: 0 | M108: 0 | N108: 0 | O108: 0 | P108: 0 | Q108: 0 | R108: 0 | S108: 0 | T108: 0 | U108: 0 | V108: 0 | W108: 0 | X108: No | Y108: 0 | Z108: 0 | AA108: 0 | AB108: 3 | AC108: No | AD108: No | AE108: No | AF108: =IF(AND(M108=0,V108=0),"Most preferable",IF(OR(M108>20,V108>20),"Least preferable","Less preferable")) -> Most preferable | AG108: =IF(AND(M108=0,V108=0),"Most preferable",IF(OR(M108>F108,V108>F108),"Least preferable","Less preferable")) -> Most preferable | AH108: =IF(OR((M108)>F108,V108>F108),"Yes","No") -> No | AI108: No | AJ108: No | AK108: N/A | AL108: N/A | AM108: N/A | AN108: N/A
... A118: Land at The Lodge, London Road, Hurst Green | B118: Hurst Green | C118: HUG0043 | D118: 9.52 | E118: =VLOOKUP(A118,Sheet1!$A$2:$G$148,7,FALSE) -> 4.8 | F118: =IF(ISNA(E118),20,IF(E118=0,20,(1-E118/D118)*100)) -> 49.579832 | G118: 100 | H118: 0 | I118: 0 | J118: 0 | K118: 0 | L118: 0 | M118: 0 | N118: 0 | O118: 0 | P118: 0 | Q118: 0 | R118: 4.63859 | S118: 3.6484331 | T118: 3.3289848 | U118: 6.2079783 | V118: 4.4746626 | W118: 3.7409049 | X118: Yes | Y118: 0 | Z118: 0 | AA118: 0 | AB118: 2 | AC118: No | AD118: No | AE118: No | AF118: =IF(AND(M118=0,V118=0),"Most preferable",IF(OR(M118>20,V118>20),"Least preferable","Less preferable")) -> Less preferable | AG118: =IF(AND(M118=0,V118=0),"Most preferable",IF(OR(M118>F118,V118>F118),"Least preferable","Less preferable")) -> Less preferable | AH118: =IF(OR((M118)>F118,V118>F118),"Yes","No") -> No | AI118: No | AJ118: No | AK118: N/A | AL118: N/A | AM118: N/A | AN118: N/A
A119: Land at Stoneworks Cottages, Rye Harbour | B119: Icklesham | C119: ICK0003 | D119: 1.58 | E119: =VLOOKUP(A119,Sheet1!$A$2:$G$148,7,FALSE) -> #N/A | F119: =IF(ISNA(E119),20,IF(E119=0,20,(1-E119/D119)*100)) -> 20 | G119: 4.715282 | H119: 4.4154543 | I119: 90.869264 | J119: 0 | K119: 0 | L119: 97.290379 | M119: 100 | N119: 0 | O119: 0 | P119: 0 | Q119: 0 | R119: 3.8927477 | S119: 1.1374913 | T119: 0.85943786 | U119: 5.6741621 | V119: 2.8310892 | W119: 1.2638792 | X119: No | Y119: 0 | Z119: 4.9628657 | AA119: 0 | AB119: 0 | AC119: Yes | AD119: Yes | AE119: Yes | AF119: =IF(AND(M119=0,V119=0),"Most preferable",IF(OR(M119>20,V119>20),"Least preferable","Less preferable")) -> Least preferable | AG119: =IF(AND(M119=0,V119=0),"Most preferable",IF(OR(M119>F119,V119>F119),"Least preferable","Less preferable")) -> Least preferable | AH119: =IF(OR((M119)>F119,V119>F119),"Yes","No") -> Yes | AI119: N/A | AJ119: N/A | AK119: N/A | AL119: N/A | AM119: Yes | AN119: No | AO119: No | AP119: Yes
...

Sheet Sheet1
A1: Site Address | B1: Regulation 18 Local Plan Policy Reference (2026) | C1: Parish | D1: Proposed Allocation Type | E1: Proposed Quantum of Development | F1: Size of site | G1: Size of indicative built area | H1: Proposed Density (dph) | I1: Assumed use class | J1: Developable area (estimated) | K1: Site Identification | L1: Brownfield/ Greenfield | M1: Environmental constraints
A2: Land adjacent to Orchard Close, Icklesham | B2: IK2 | D2: Residential | E2: 32 dwellings | F2: 2.36 | G2: 0.94 | H2: 35 | K2: New HELAA site | L2: GF | M2: Within High Weald National Landscape
A3: 17-19 Tower Street, Rye | B3: RY8 | C3: Rye | D3: Residential | E3: 6 dwellings | F3: 0.1 | G3: 0.03 | H3: 40 | K3: Planning permission | L3: BF
A4: 2a Sackville Road, Bexhill | B4: BX12 | C4: Bexhill | D4: Mixed-use | E4: (a) 6 dwellings (b) 95 sqm retail floorspace | F4: 0.03 | G4: 0.03 | H4: 200 | K4: Previous planning permission | L4: BF
A5: 30 Dorset Road, Bexhill | B5: BX10 | C5: Bexhill | D5: Residential | E5: 8 dwellings | F5: 0.08 | G5: 0.06 | H5: 120 | K5: Planning permission | L5: BF
A6: 81 Cooden Drive, Bexhill | B6: BX17 | C6: Bexhill | D6: Residential | E6: 6 dwellings | F6: 0.14 | G6: 0.1 | H6: 60 | K6: Planning permission | L6: BF
A7: Battle Market Square, Battle | B7: BT11 | C7: Battle | D7: Mixed-use | E7: 52 dwellings and retention of existing retail floorspace | F7: 1 | G7: 0.8 | H7: 65 | K7: New HELAA site | L7: BF | M7: Within High Weald National Landscape
A8: Beech Farm, Battle | B8: BT3 | C8: Battle | D8: Non-resi | E8: 1895 sqm employment floorspace | F8: 0.91 | G8: 0.2 | H8: NA | I8: E(g), B2, B8 | J8: 0.2 | K8: Planning permission | L8: GF | M8: Within High Weald National Landscape
A9: Beeches Farm and land north of Barnhorn Road, Bexhill | B9: BX27 | C9: Bexhill | D9: Mixed-use | E9: (a) 540 dwellings (b) primary school (c) local shops (d) community uses | F9: 29.7 | G9: 15 | H9: 40 | K9: New HELAA site | L9: GF | M9: Nearby Ramsar/ SAC/ SSSI (Pevensey Levels)
A10: Bexhill Enterprise Park - Escarpment Site B, south of Glovers End, Bexhill | B10: BX48 | C10: Bexhill | D10: Non-resi | E10: 5,275 sqm employment floorspace | F10: 14.24 | H10: NA | I10: E(g), B2, B8 | J10: =14.24*70% -> 9.968 | K10: Extant planning permission plus adjoining land | L10: GF
A11: Brackendale, Rock Lane, Hastings Fringes | B11: GU2 | C11: Guestling | D11: Residential | E11: 20 dwellings | F11: 1 | G11: 0.5 | H11: 40 | K11: New HELAA site | L11: Mixed | M11: Within High Weald National Landscape
A12: Cedar Farm, London Road, Ticehurst | B12: FW3 | C12: Ticehurst | D12: Non-resi | E12: 1,650 sqm employment floorspace | F12: 2.26 | G12: 0.75 | H12: NA | I12: E(g), B2, B8 | J12: 0.75 | K12: New HELAA site | L12: BF | M12: Within High Weald National Landscape
A13: Cemetery Lodge, 250 Turkey Road, Bexhill | B13: BX43 | C13: Bexhill | D13: Residential | E13: 6 dwellings | F13: 0.07 | G13: 0.07 | H13: 80 | K13: Planning permission | L13: BF
A14: Coldharbour Farm Estate, Coldharbour Lane, Brightling | B14: BRI1 | C14: Brightling | D14: Non-resi | E14: 1861 sqm employment floorspace | F14: 0.97 | G14: 0.18 | H14: NA | I14: E(g), B2, B8 | J14: 0.18 | K14: Planning permission | L14: BF | M14: Within High Weald National Landscape
A15: Croft Field, Etchi+A85+A98 | B15: EC3 | C15: Etchingham | E15: 55 dwellings | F15: 3.05 | G15: 1.53 | H15: 35 | K15: New HELAA site | L15: GF | M15: Within High Weald National Landscape
A16: Culverwells, Land north of Station Road, Robertsbridge | B16: RB5 | C16: Salehurst & Robertsbridge | D16: Mixed-use | E16: (a) 21 dwellings (b) doctor's surgery | F16: 1.94 | G16: 1.46 | H16: 15 | K16: Planning permission | L16: BF | M16: Within High Weald National Landscape
A17: Egmont Farm, Northiam | B17: NR2 | C17: Northiam | D17: Residential | E17: 25 dwellings | F17: 1.61 | G17: 1 | H17: 25 | K17: New HELAA site | L17: Mixed | M17: Within High Weald National Landscape
A18: Eversley Road Car Park, Eversley Road, Bexhill | B18: BX13 | C18: Bexhill | D18: Residential | E18: 10 dwellings | F18: 0.07 | G18: 0.05 | H18: 200 | K18: New HELAA site | L18: BF
A19: Field at Halfhouse, Butchers Lane, Three Oaks | B19: GU6 | E19: 12 dwellings | F19: 0.8 | G19: 0.36 | H19: 35 | M19: Within High Weald National Landscape
A20: Former Bexhill High School Site, Bexhill | B20: BX8 | C20: Bexhill | D20: Residential | E20: 80 dwellings | F20: 1.65 | G20: 1 | H20: 80 | K20: Existing DaSA allocation but for increased dwellings/ smaller site | L20: BF
A21: Former Council Depot, Cyprus Place, Rye | B21: RY6 | C21: Rye | D21: Residential | E21: 7 dwellings | F21: 0.08 | G21: 0.08 | H21: 40 | K21: New HELAA site | L21: BF
A22: Former Guestling Highways Depot, Guestling Green | B22: GU5 | C22: Guestling | D22: Residential | E22: 8 dwellings | F22: 0.39 | G22: 0.23 | H22: 35 | K22: New HELAA site | L22: GF | M22: Within High Weald National Landscape
A23: Former Lower School site, Rye | B23: RY9 | C23: Rye | D23: Residential | E23: 88 dwellings | F23: 0.76 | G23: 0.65 | H23: 130 | K23: Previous planning permission/ extant NP allocation (increased density) | L23: BF | M23: Within Flood Zone 3
A24: Former Sidley Sports Ground, Bexhill | B24: BX41 | C24: Bexhill | D24: Residential | E24: 50 dwellings | F24: 1.94 | G24: 0.9 | H24: 60 | K24: Existing site allocation (DaSA) but for alternative use (sports pitches) | L24: BF
A25: Former Tilling Green School, Rye | B25: RY1 | C25: Rye | D25: Residential | E25: 25 dwellings | F25: 0.92 | G25: 0.5 | H25: 40 | K25: Extant Neighbourhood Plan allocation | L25: BF | M25: Within Flood Zone 3
A26: Freshfields Farm, Westfield Lane, Westfield | B26: WS5 | C26: Westfield | D26: Non-resi | E26: 2000 sqm employment floorspace | H26: NA | I26: E(g), B2, B8 | J26: 0.5 | K26: New HELAA site | L26: BF | M26: Within High Weald National Landscape
A27: Gorses Car Park and Open Space, The Gorses, Bexhill | B27: BX19 | C27: Bexhill | D27: Residential | E27: 10 dwellings | F27: 0.39 | G27: 0.06 | H27: 166 | K27: New HELAA site | L27: BF
A28: Grove Farm, Robertsbridge | B28: RB2 | C28: Salehurst & Robertsbridge | D28: Residential | E28: 32 dwellings | F28: 1.7 | G28: 1.23 | H28: 26 | K28: Planning permission | L28: Mixed | M28: Within High Weald National Landscape
A29: Hawkhurst Road, Flimwell | B29: FW2a | C29: Ticehurst | D29: Mixed-use | E29: (a) 114 dwellings (b) 1,650 sqm employment floorspace (c) new community use facility or building (d) convenience retail unit | F29: 3.25 | G29: 2 | H29: 35 | K29: New HELAA site | L29: GF | M29: Within High Weald National Landscape
A30: Hodson's Mill, Northbridge Street, Robertsbridge | B30: RB6a | C30: Salehurst & Robertsbridge | D30: Mixed-use | E30: (a) 96 dwellings (b) 1,200 sqm of Class E floorspace | F30: 3.96 | G30: 2.41 | H30: 40 | K30: Extant Neighbourhood Plan allocation/ previous planning permission | L30: Mixed | M30: Within High Weald National Landscape
A31: Land adjacent to 1 Loose Farm Cottages, Battle | B31: BT8 | C31: Battle | D31: Residential | E31: 5 dwellings | F31: 0.17 | G31: 0.11 | H31: 35 | K31: New HELAA site | L31: GF | M31: Within High Weald National Landscape
A32: Land adjacent to 276 Turkey Road, Bexhill | B32: BX42 | C32: Bexhill | D32: Residential | E32: 30 dwellings | F32: 1.15 | G32: 0.75 | H32: 40 | K32: Existing DaSA allocation | L32: GF
A33: Land adjacent to Bexhill Town Hall, Bexhill | B33: BX6 | C33: Bexhill | D33: Mixed-use | E33: 36 dwellings and retention of office use | F33: 0.59 | G33: 0.1 | H33: 200 | K33: New HELAA site | L33: BF | M33: Adjacent listed building
A34: Land adjacent to Little Sherwood Industry Park, Icklesham | B34: IK1 | E34: 26 dwellings | F34: 1.7 | G34: 0.77 | H34: 35 | K34: New HELAA site | L34: GF | M34: Within High Weald National Landscape
A35: Land adjacent to St John the Baptist Church, Sedlescombe | B35: SD4 | C35: Sedlescombe | D35: Residential | E35: 17 dwellings | F35: 1.16 | G35: 0.46 | H35: 35 | K35: Extant Neighbourhood Plan allocation | L35: GF | M35: Within High Weald National Landscape
A36: Land adjacent to Station Car Park, Crowhurst | B36: CR3 | C36: Crowhurst | D36: Residential | E36: 6 dwellings | F36: 0.08 | G36: 0.08 | H36: 75 | K36: Existing NP allocation | L36: GF | M36: Within High Weald National Landscape
A37: Land adjoining Little Brans, Battle | B37: BT10 | C37: Battle | D37: Residential | E37: 65 dwellings | F37: 5.75 | G37: 2.29 | H37: 35 | K37: New HELAA site | L37: GF | M37: Within High Weald National Landscape
A38: Land at 101 Shrub Lane, Burwash | B38: BW2 | C38: Burwash | D38: Residential | E38: 6 dwellings | F38: 0.18 | G38: 0.18 | H38: 36 | K38: New HELAA site | L38: GF | M38: Within High Weald National Landscape
A39: Land at Almonry Farm, Battle | B39: BT7 | C39: Battle | D39: Residential | E39: 80 dwellings | F39: 4.8 | G39: 2.4 | H39: 35 | K39: New HELAA site | L39: GF | M39: Within High Weald National Landscape
A40: Land at Barnhorn Green, Bexhill | B40: BX25 | C40: Bexhill | D40: Mixed-use | E40: (a) medical centre (b) 2025 sqm employment floorspace | F40: 1.58 | K40: Planning permission | L40: GF
A41: Land at Breadsell, Battle | B41: BT2 | C41: Battle | D41: Residential | E41: 145 dwellings | F41: 6.95 | G41: 4.17 | H41: 35 | K41: New HELAA site | L41: GF | M41: Adjacent to High Weald National Landscape
A42: Land at Broad Oak Lodge, Chitcombe Road, Broad Oak | B42: BR3 | C42: Brede | D42: Residential | E42: 20 dwellings | F42: 2.24 | G42: 0.6 | H42: 35 | K42: New HELAA site | L42: GF | M42: Within High Weald National Landscape
A43: Land at Caldbec House, Battle | B43: BT4 | C43: Battle | D43: Residential | E43: 5 dwellings | F43: 0.47 | G43: 0.15 | H43: 40 | K43: Battle NP allocation | L43: GF | M43: Within High Weald National Landscape
A44: Land at Church Hill Farm, North of Village Hall, Sedlescombe | B44: SD2 | C44: Sedlescombe | D44: Residential | E44: 12 dwellings | F44: 0.82 | G44: 0.32 | H44: 35 | K44: Extant Neighbourhood Plan allocation | L44: GF | M44: Within High Weald National Landscape
A45: Land at Church Hill Farm, Sedlescombe | B45: SD6 | C45: Sedlescombe | D45: Residential | E45: 10 dwellings | F45: 0.46 | G45: 0.32 | H45: 35 | K45: Extant Neighbourhood Plan allocation | L45: GF | M45: Within High Weald National Landscape
A46: Land at Church Lane, Etchingham | B46: EC2 | C46: Etchingham | E46: 5 dwellings | F46: 0.24 | G46: 0.15 | H46: 35 | K46: New HELAA site | L46: GF | M46: Within High Weald National Landscape
A47: Land at Felon's Field, Sedlescombe | B47: SD9 | C47: Sedlescombe | D47: Non-resi | E47: 3000 sqm employment floorspace | F47: 2.27 | G47: 1.02 | H47: NA | I47: E(g), B2, B8 | J47: 1.02 | K47: Existing DaSA allocation | L47: GF | M47: Within High Weald National Landscape
A48: Land at Freezeland Farm, Freezeland Lane, Bexhill | B48: BX40 | C48: Bexhill | D48: Residential | E48: 5 dwellings | F48: 0.5 | G48: 0.25 | H48: 30 | K48: Planning permission | L48: GF
A49: Land at Gate Cottage, Sedlescombe | B49: SD5 | C49: Sedlescombe | D49: Residential | E49: 5 dwellings | F49: 0.39 | G49: 0.23 | H49: 35 | K49: Extant Neighbourhood Plan allocation | L49: GF | M49: Within High Weald National Landscape
A50: Land at Grove Farm (Phase 2), Robertsbridge | B50: RB3 | C50: Salehurst & Robertsbridge | D50: Residential | E50: 70 dwellings | F50: 4.04 | G50: 2 | H50: 35 | K50: New HELAA site | L50: GF | M50: Within High Weald National Landscape
A51: Land at Kiteye Farm, Bexhill | B51: BX31 | C51: Bexhill | D51: Residential | E51: 300 dwellings | F51: 18 | G51: 12 | H51: 25 | K51: Existing DaSA allocation plus adjoining land comprising new HELAA site | L51: GF
A52: Land at Levetts Wood and Oaktree Farm, Bexhill | B52: BX35 | C52: Bexhill | D52: Non-resi | E52: 25,605 sqm | F52: 10.1 | H52: NA | I52: E(g), B2, B8 | J52: 0.1 | K52: Existing DaSA allocation | L52: GF
A53: Land at Lymden Lane, Stonegate | B53: SG1 | C53: Ticehurst | D53: Residential | E53: 5 dwellings | F53: 0.12 | G53: 0.12 | H53: 42 | K53: New HELAA site | L53: GF | M53: Within High Weald National Landscape
A54: Land at Michael Tyler Furniture, Woodlands Way, Hastings Fringes | B54: WS1 | C54: Westfield | D54: Residential | E54: 40 dwellings | F54: 0.94 | G54: 0.66 | H54: 60 | K54: Existing DaSA allocation | L54: BF | M54: Adjacent to High Weald National Landscape
A55: Land at Moor Farm, Westfield | B55: WS3 | C55: Westfield | D55: Residential | E55: 50 dwellings | F55: 2.86 | G55: 1.43 | H55: 35 | K55: New HELAA site | L55: GF | M55: Within High Weald National Landscape
A56: Land at Northeye and adjoining land, Bexhill | B56: BX28 | C56: Bexhill | D56: Mixed-use | E56: (a) 384 dwellings (b) community uses | F56: 19.21 | G56: 9.5 | H56: 40 | K56: Existing DaSA allocation plus adjoining land comprising two new HELAA sites | L56: Mixed | M56: Nearby Ramsar/ SAC/ SSSI (Pevensey Levels)
A57: Land at Oxenbridge Lane, Etchingham | B57: EC1 | C57: Etchingham | E57: 10 dwellings | F57: 0.62 | G57: 0.23 | H57: 35 | K57: New HELAA site | L57: GF | M57: Within High Weald National Landscape
A58: Land at Pippins, Main Street, Peasmarsh | B58: PE2 | C58: Peasmarsh | D58: Residential | E58: 45 dwellings | F58: 3.21 | G58: 1.3 | H58: 35 | K58: Planning permission | L58: GF | M58: Within High Weald National Landscape
A59: Land at Sedlescombe Sawmills, Sedlescombe | B59: SD3 | C59: Sedlescombe | D59: Mixed-use | E59: 8 dwellings and 1115 sqm employment floorspace | F59: 1.16 | G59: 0.69 | H59: 30 | K59: Extant Neighbourhood Plan allocation | L59: BF | M59: Within High Weald National Landscape
A60: Land at Sidley Car Park, Ninfield Road, Bexhill | B60: BX50 | C60: Bexhill | D60: Residential | E60: 10 dwellings | F60: 0.33 | G60: 0.1 | H60: 100 | K60: New HELAA site | L60: BF
A61: Land at Station Road and Forewood Lane, Crowhurst | B61: CR1 | C61: Crowhurst | D61: Residential | E61: 25 dwellings | F61: 1.41 | G61: 0.71 | H61: 35 | K61: Existing NP allocation plus adjoining land | L61: GF | M61: Within High Weald National Landscape
A62: Land at Steellands Farm, Field Rise, Ticehurst | B62: TC1 | C62: Ticehurst | D62: Residential | E62: 54 dwellings | F62: 3.89 | G62: 1.8 | H62: 30 | K62: New HELAA site | L62: GF | M62: Within High Weald National Landscape
A63: Land at Street Field, Main Street, Iden | B63: ID2 | C63: Iden | D63: Residential | E63: 10 dwellings | F63: 0.35 | G63: 0.3 | H63: 35 | K63: New HELAA site | L63: GF | M63: Within High Weald National Landscape
A64: Land at Sunningdale, Sedlescombe | B64: SD1 | C64: Sedlescombe | D64: Residential | E64: 8 dwellings | F64: 0.47 | G64: 0.32 | H64: 35 | K64: Extant Neighbourhood Plan allocation | L64: GF | M64: Within High Weald National Landscape
A65: Land at Sunny Rise, Battle | B65: BT6 | C65: Battle | D65: Residential | E65: 10 dwellings | F65: 0.58 | G65: 0.35 | H65: 35 | K65: Previous Local Plan (2006) allocation | L65: GF | M65: Within High Weald National Landscape
A66: Land at the Central Car Park, Old Lydd Road, Camber | B66: CM2 | C66: Camber | D66: Non-resi | E66: 0.6 hectares | F66: 0.6 | G66: 0.6 | H66: NA | I66: Class E | J66: 0.6 | K66: Existing DaSA allocation | L66: BF | M66: Adjacent to SSSI, partly within Flood Zone 3
A67: Land at the Former Putting Green Site, Old Lydd Road, Camber | B67: CM1 | C67: Camber | D67: Residential | E67: 10 dwellings | F67: 0.2 | G67: 0.2 | H67: 50 | K67: Planning permission | L67: BF | M67: Adjacent to SSSI
A68: Land at The Lodge, London Road, Hurst Green | B68: HG4 | C68: Hurst Green | D68: Mixed-use | E68: (a) 150 dwellings (b) A mix of uses that may include community, employment, leisure or retail | F68: 9.52 | G68: 4.8 | H68: 35 | K68: New HELAA site | L68: Mixed | M68: Within High Weald National Landscape
A69: Land at Worsham Farm (East), Bexhill | B69: BX45 | C69: Bexhill | D69: Mixed-use | E69: (a) 354 dwellings (b) primary school (c) sports pitches (d) community building € public open space | F69: 22.8 | H69: 34 | K69: Planning permission | L69: GF
A70: Land at Worsham Farm (West), Bexhill | B70: BX46 | C70: Bexhill | D70: Mixed-use | E70: (a) 66 dwellings (b) 540 sqm retail floorspace | F70: 1.67 | G70: 1.2 | H70: 55 | K70: Previous planning permission | L70: GF
A71: Land between Saltcote and The Steps, Playden | B71: PL2 | C71: Playden | D71: Residential | E71: 14 dwellings | F71: 0.59 | G71: 0.4 | H71: 35 | K71: New HELAA site | L71: GF
A72: Land east of Bardown Road, Stonegate | B72: SG2 | C72: Ticehurst | D72: Residential | E72: 20 dwellings | F72: 1.25 | G72: 0.63 | H72: 35 | K72: New HELAA site | L72: GF | M72: Within High Weald National Landscape
A73: Land east of Beaney’s Lane, Hastings Fringes | B73: WS2 | C73: Westfield | D73: Residential | E73: 70 dwellings | F73: 7.6 | G73: 2.3 | H73: 40 | K73: New HELAA site | L73: GF | M73: Within High Weald National Landscape
A74: Land east of Coronation Gardens, Battle | B74: BT9 | C74: Battle | D74: Residential | E74: 75 dwellings | F74: 4.58 | G74: 2.29 | H74: 35 | K74: New HELAA site | L74: GF | M74: Within High Weald National Landscape
A75: Land East of Hobbs Lane, Beckley Four Oaks | B75: BC2 | C75: Beckley | D75: Residential | E75: 20 dwellings | F75: 0.71 | G75: 0.5 | H75: 40 | K75: Existing DaSA allocation (increased density) | L75: Mixed | M75: Within High Weald National Landscape
A76: Land east of Hop Gardens, Northiam Road, Staplecross | B76: SC2 | C76: Ewhurst | D76: Residential | E76: 8 dwellings | F76: 0.55 | G76: 0.25 | H76: 35 | K76: New HELAA site | L76: GF | M76: Within High Weald National Landscape
A77: Land east of Orchard Way, Peasmarsh | B77: PE4 | C77: Peasmarsh | D77: Residential | E77: 7 dwellings | F77: 0.2 | G77: 0.15 | H77: 35 | K77: Extant Neighbourhood Plan allocation | L77: GF | M77: Within High Weald National Landscape
A78: Land east of Sandhurst Lane, Bexhill | B78: BX24 | C78: Bexhill | D78: Residential | E78: 68 dwellings | F78: 3.34 | G78: 1.7 | H78: 40 | K78: New HELAA site | L78: GF
A79: Land east of Shrub Lane (north), Burwash | B79: BW3 | C79: Burwash | D79: Residential | E79: 15 dwellings | F79: 0.59 | G79: 0.59 | H79: 25 | K79: New HELAA site | L79: GF | M79: Within High Weald National Landscape
A80: Land east of Shrub Lane (south), Burwash | B80: BW4 | C80: Burwash | D80: Residential | E80: 8 dwellings | F80: 0.32 | G80: 0.32 | H80: 25 | K80: New HELAA site | L80: GF | M80: Within High Weald National Landscape
A81: Land east of Stockwood Meadow, Northiam Road, Staplecross | B81: SC1 | C81: Ewhurst | D81: Residential | E81: 25 dwellings | F81: 1.06 | G81: 0.7 | H81: 25 | K81: New HELAA site | L81: GF | M81: Within High Weald National Landscape
A82: Land east of Waites Lane, Fairlight Cove | B82: FA1 | C82: Fairlight | D82: Residential | E82: 35 dwellings | F82: 3.24 | G82: 0.97 | H82: 35 | K82: Existing DaSA allocation | L82: GF | M82: Within High Weald National Landscape
A83: Land east of Watermill Lane, Bexhill | B83: BX34 | C83: Bexhill | D83: Residential | E83: 170 dwellings | F83: 9.85 | G83: 5.5 | H83: 31 | K83: Existing DaSA allocation plus adjoining land | L83: GF
A84: Land north of A265, Ivyhouse Lane, Hastings Fringes | B84: GU1 | C84: Guestling | D84: Non-resi | E84: 3300 sqm employment floorspace | H84: NA | I84: E(g), B2, B8 | J84: 0.83 | K84: Existing DaSA allocation (increased density) | L84: GF | M84: Within High Weald National Landscape
A85: Land north of Barnhorn Manor Caravan Park, Bexhill | B85: BX21 | C85: Bexhill | D85: Residential | E85: 20 dwellings | F85: 1 | G85: 0.5 | H85: 40 | K85: New HELAA site | L85: GF | M85: Adjacent to Listed Building
A86: Land north of Brede Lane, Sedlescombe | B86: SD11 | C86: Sedlescombe | D86: Residential | E86: 38 dwellings | F86: 2.76 | G86: 1.1 | H86: 35 | K86: New HELAA site | L86: GF | M86: Within High Weald National Landscape
A87: Land north of Broadoak Lane, Bexhill | B87: BX15 | C87: Bexhill | D87: Residential | E87: 35 dwellings | F87: 1.26 | G87: 1 | H87: 35 | K87: New HELAA site | L87: GF
A88: Land north of Gorselands, Sedlescombe | B88: SD10 | C88: Sedlescombe | D88: Residential | E88: 15 dwellings | F88: 2.62 | G88: 0.52 | H88: 35 | K88: New HELAA site | L88: GF | M88: Within High Weald National Landscape
A89: Land north of Haven Brook Avenue (east), Bexhill | B89: BX36 | C89: Bexhill | D89: Residential | E89: 230 dwellings | F89: 11.5 | G89: 5.75 | H89: 40 | K89: New HELAA site | L89: GF
A90: Land north of Haven Brook Avenue (west), Bexhill | B90: BX37 | C90: Bexhill | D90: Mixed-use | E90: (a) 100 dwellings, or (b) 45 dwellings and primary school | F90: 4.73 | G90: 2.5 | H90: 40 | K90: New HELAA site | L90: GF
A91: Land north of Rosewood Park, Bexhill | B91: BX23 | C91: Bexhill | D91: Mixed-use | E91: (a) 340 dwellings (b) retail or community facilities | F91: 25 | G91: 18 | H91: 35 | K91: Planning permission | L91: GF
A92: Land north of Shrub Lane, Burwash | B92: BW1 | C92: Burwash | D92: Residential | E92: 35 dwellings | F92: 4.63 | G92: 1.1 | H92: 35 | K92: Previous planning application | L92: GF | M92: Within High Weald National Landscape
A93: Land off Spindlewood Drive, Bexhill | B93: BX20 | C93: Bexhill | D93: Residential | E93: 146 dwellings | F93: 7.3 | G93: 3.4 | H93: 43 | K93: Planning permission/ DaSA allocation | L93: GF
A94: Land on east side of Cottage Lane, Westfield | B94: WS4 | C94: Westfield | D94: Residential | E94: 20 dwellings | F94: 1.19 | G94: 0.6 | H94: 35 | K94: Planning permission | L94: GF | M94: Within High Weald National Landscape
A95: Land rear of Fruitfields, High Street, Flimwell | B95: FW1 | C95: Ticehurst | D95: Residential | E95: 32 dwellings | F95: 2.3 | G95: 0.9 | H95: 35 | K95: New HELAA site | L95: GF | M95: Within High Weald National Landscape
A96: Land South and West of Buddens Green, Beckley Four Oaks | B96: BC1 | C96: Beckley | D96: Residential | E96: 20 dwellings | F96: 1.49 | G96: 0.75 | H96: 26 | K96: Existing DaSA allocation plus adjoining land | L96: GF | M96: Within High Weald National Landscape
A97: Land south of Barnhorn Road, Bexhill | B97: BX22 | C97: Bexhill | D97: Mixed-use | E97: (a) 400 dwellings (b) 3000 sqm employment floorspace (c) community uses | F97: 24 | G97: 12 | H97: 40 | K97: New HELAA site | L97: GF | M97: Nearby Ramsar/ SAC/ SSSI (Pevensey Levels)
A98: Land south of Church Road, Catsfield | B98: CT3 | C98: Catsfield | D98: Residential | E98: 35 dwellings | F98: 3.11 | G98: 1 | H98: 35 | K98: New HELAA site | L98: GF | M98: Nearby High Weald National Landscape
A99: Land south of Elmsmead, Iden | B99: ID1 | C99: Iden | D99: Residential | E99: 15 dwellings | F99: 0.5 | G99: 0.5 | H99: 35 | K99: Planning permission | L99: GF | M99: Within High Weald National Landscape
A100: Land south of Forewood Rise, Crowhurst | B100: CR2 | C100: Crowhurst | D100: Residential | E100: 18 dwellings | F100: 1.03 | G100: 0.52 | H100: 35 | K100: Existing NP allocation (increased density) | L100: GF | M100: Within High Weald National Landscape
...
