Workbook

Sheet Level 2 Scoping 
A1: SFRA Site Screening | AH1: Description | AI1: Number of sites | AJ1: Detailed Level 2 site summary required
AH2: 0% of the site is at risk from a certain source (surface water, fluvial and coastal) | AI2: =COUNTIF(AF13:AF170,"Most preferable") -> 36 | AJ2: No
AH3: >20% the site is at risk from a certain source (surface water, fluvial and coastal) | AI3: =COUNTIF(AF13:AF170,"Less preferable") -> 90 | AJ3: No
AH4: If greater than 20% of the site is at risk from a certain source (surface water, fluvial and coastal) | AI4: =COUNTIF(AF13:AF170,"Least preferable") -> 32 | AJ4: Yes
A8: Proportion of site shown to be at risk (%)
A10: Site Context | G10: Fluvial and Tidal Flood Zones | K10: NaFRA2 Proxy's (where no detailed modelling is available) | N10: Detailed modelling | R10: Flood Map for Planning - Surface Water Spatial Planning extents - Present Day | U10: Flood Map for Planning - Surface Water Spatial Planning extents - Climate Change | X10: Watercourse | Y10: EA Reservoir Flood Extent | AA10: Historic Flooding | AC10: JBA Groundwater Flood Map | AD10: Flood Alert and Warning Areas | AF10: Level 2 Scoping
G11: Flood Map for Planning | J11: Fluvial and Tidal models | K11: River and Sea present day 3.3% AEP | L11: Rivers and Sea 3.3% AEP - Climate Change | M11: Flood Map for Planning - Flood Zones plus Climate Change | N11: Fluvial models | P11: Tidal models
A12: Site Name/ Address | B12: Parish | C12: Site ID | D12: Area (ha) | E12: Size of indicative built area | F12: Undeveloped proportion | G12: % in Flood Zone 1 | H12: % in Flood Zone 2 | I12: % in Flood Zone 3a | J12: % in FZ3b | K12: % in defended 3.3% AEP | L12: % in defended 3.3% AEP - Climate Change | M12: % in Flood Zones plus Climate Change (2070 to 2125) | N12: % in FZ3a + Central CC | O12: % in FZ3a + Higher Central CC | P12: % in FZ3a + Higher Central CC | Q12: % in FZ3a + Upper End CC | R12: % in 0.1% AEP - 1 in 1000 (low) | S12: % in 1% AEP - 1 in 100 (medium) | T12: % in 3.33% AEP - 1 in 30 (high) | U12: % in 0.1% AEP - 1 in 1000 (low) | V12: % in 1% AEP - 1 in 100 (medium) | W12: % in 3.33% AEP - 1 in 30 (high) | X12: Is the site within 20m of a watercourse? (Y/N) | Y12: % in Dry Day | Z12: % in Wet Day | AA12: EA Historic Flood Map | AB12: Number of East Sussex County Council recorded flood incidents within 50m | AC12: Are groundwater emergence levels in the site within 0.5m of the surface? (Y/N) | AD12: Site located in a Flood Alert Area | AE12: Site located in a Flood Warning Area | AF12: Preferability (20%) | AG12: Preferability (undeveloped proportion) | AH12: Will require a detailed site summary assessment at the Level 2 stage if taken forward | AI12: Recommendations will be required in the main Level 2 SFRA report to address the reservoir flood risk | AJ12: Recommendations will be required in the main Level 2 SFRA report to address the groundwater flood risk | AK12: Site located withn model | AL12: Model Name | AM12: Does the site benefit from defences? | AN12: Is additional modelling required? | AO12: Is safe access and egress possible? | AP12: For least preferable sites - Level 2 SFRA required, if not why?
A13: Land at Sunny Rise, Battle | B13: Battle | C13: BAT0002 | D13: 0.58 | E13: =VLOOKUP(A13,Sheet1!$A$2:$G$148,7,FALSE) -> 0.35 | F13: =IF(ISNA(E13),20,IF(E13=0,20,(1-E13/D13)*100)) -> 39.655172 | G13: 100 | H13: 0 | I13: 0 | J13: 0 | K13: 0 | L13: 0 | M13: 0 | N13: 0 | O13: 0 | P13: 0 | Q13: 0 | R13: 2.7336135 | S13: 0 | T13: 0 | U13: 12.096629 | V13: 2.0159948 | W13: 0 | X13: No | Y13: 0 | Z13: 0 | AA13: 0 | AB13: 0 | AC13: No | AD13: No | AE13: No | AF13: =IF(AND(M13=0,V13=0),"Most preferable",IF(OR(M13>20,V13>20),"Least preferable","Less preferable")) -> Less preferable | AG13: =IF(AND(M13=0,V13=0),"Most preferable",IF(OR(M13>F13,V13>F13),"Least preferable","Less preferable")) -> Less preferable | AH13: =IF(OR((M13)>F13,V13>F13),"Yes","No") -> No | AI13: No | AJ13: No | AK13: N/A | AL13: N/A | AM13: N/A | AN13: N/A
A14: Land adjoining Little Brans, Battle | B14: Battle | C14: BAT0069 | D14: 5.08 | E14: =VLOOKUP(A14,Sheet1!$A$2:$G$148,7,FALSE) -> 2.29 | F14: =IF(ISNA(E14),20,IF(E14=0,20,(1-E14/D14)*100)) -> 54.92126 | G14: 100 | H14: 0 | I14: 0 | J14: 0 | K14: 0 | L14: 0 | M14: 0 | N14: 0 | O14: 0 | P14: 0 | Q14: 0 | R14: 8.0975725 | S14: 3.4203 | T14: 1.517001 | U14: 14.393931 | V14: 7.147306 | W14: 4.5001999 | X14: Yes | Y14: 0 | Z14: 0 | AA14: 0 | AB14: 3 | AC14: No | AD14: No | AE14: No | AF14: =IF(AND(M14=0,V14=0),"Most preferable",IF(OR(M14>20,V14>20),"Least preferable","Less preferable")) -> Less preferable | AG14: =IF(AND(M14=0,V14=0),"Most preferable",IF(OR(M14>F14,V14>F14),"Least preferable","Less preferable")) -> Less preferable | AH14: =IF(OR((M14)>F14,V14>F14),"Yes","No") -> No | AI14: No | AJ14: No | AK14: N/A | AL14: N/A | AM14: N/A | AN14: N/A
A15: Beech Farm, Battle | B15: Battle | C15: BAT0070 | D15: 0.91 | E15: =VLOOKUP(A15,Sheet1!$A$2:$G$148,7,FALSE) -> 0.2 | F15: =IF(ISNA(E15),20,IF(E15=0,20,(1-E15/D15)*100)) -> 78.021978 | G15: 100 | H15: 0 | I15: 0 | J15: 0 | K15: 0 | L15: 0 | M15: 0 | N15: 0 | O15: 0 | P15: 0 | Q15: 0 | R15: 0.10010126 | S15: 0 | T15: 0 | U15: 1.6520973 | V15: 0.060338582 | W15: 0.036607271 | X15: No | Y15: 0 | Z15: 0 | AA15: 0 | AB15: 0 | AC15: No | AD15: No | AE15: No | AF15: =IF(AND(M15=0,V15=0),"Most preferable",IF(OR(M15>20,V15>20),"Least preferable","Less preferable")) -> Less preferable | AG15: =IF(AND(M15=0,V15=0),"Most preferable",IF(OR(M15>F15,V15>F15),"Least preferable","Less preferable")) -> Less preferable | AH15: =IF(OR((M15)>F15,V15>F15),"Yes","No") -> No | AI15: No | AJ15: No | AK15: N/A | AL15: N/A | AM15: N/A | AN15: N/A
A16: Land adjacent to 1 Loose Farm Cottages, Battle | B16: Battle | C16: BAT0083 | D16: 0.79 | E16: =VLOOKUP(A16,Sheet1!$A$2:$G$148,7,FALSE) -> 0.11 | F16: =IF(ISNA(E16),20,IF(E16=0,20,(1-E16/D16)*100)) -> 86.075949 | G16: 100 | H16: 0 | I16: 0 | J16: 0 | K16: 0 | L16: 0 | M16: 0 | N16: 0 | O16: 0 | P16: 0 | Q16: 0 | R16: 0 | S16: 0 | T16: 0 | U16: 0 | V16: 0 | W16: 0 | X16: No | Y16: 0 | Z16: 0 | AA16: 0 | AB16: 0 | AC16: No | AD16: No | AE16: No | AF16: =IF(AND(M16=0,V16=0),"Most preferable",IF(OR(M16>20,V16>20),"Least preferable","Less preferable")) -> Most preferable | AG16: =IF(AND(M16=0,V16=0),"Most preferable",IF(OR(M16>F16,V16>F16),"Least preferable","Less preferable")) -> Most preferable | AH16: =IF(OR((M16)>F16,V16>F16),"Yes","No") -> No | AI16: No | AJ16: No | AK16: N/A | AL16: N/A | AM16: N/A | AN16: N/A
A17: Swallow Barn, Netherfield | B17: Battle | C17: BAT0088 | D17: 0.43 | E17: =VLOOKUP(A17,Sheet1!$A$2:$G$148,7,FALSE) -> 0.28 | F17: =IF(ISNA(E17),20,IF(E17=0,20,(1-E17/D17)*100)) -> 34.883721 | G17: 100 | H17: 0 | I17: 0 | J17: 0 | K17: 0 | L17: 0 | M17: 0 | N17: 0 | O17: 0 | P17: 0 | Q17: 0 | R17: 0 | S17: 0 | T17: 0 | U17: 0 | V17: 0 | W17: 0 | X17: No | Y17: 0 | Z17: 0 | AA17: 0 | AB17: 4 | AC17: No | AD17: No | AE17: No | AF17: =IF(AND(M17=0,V17=0),"Most preferable",IF(OR(M17>20,V17>20),"Least preferable","Less preferable")) -> Most preferable | AG17: =IF(AND(M17=0,V17=0),"Most preferable",IF(OR(M17>F17,V17>F17),"Least preferable","Less preferable")) -> Most preferable | AH17: =IF(OR((M17)>F17,V17>F17),"Yes","No") -> No | AI17: No | AJ17: No | AK17: N/A | AL17: N/A | AM17: N/A | AN17: N/A
A18: Battle Market Square, Battle | B18: Battle | C18: BAT0097 | D18: 0.87 | E18: =VLOOKUP(A18,Sheet1!$A$2:$G$148,7,FALSE) -> 0.8 | F18: =IF(ISNA(E18),20,IF(E18=0,20,(1-E18/D18)*100)) -> 8.045977 | G18: 100 | H18: 0 | I18: 0 | J18: 0 | K18: 0 | L18: 0 | M18: 0 | N18: 0 | O18: 0 | P18: 0 | Q18: 0 | R18: 2.6865485 | S18: 0.27009317 | T18: 0.083052352 | U18: 5.3832599 | V18: 2.2413088 | W18: 0.36235077 | X18: No | Y18: 0 | Z18: 0 | AA18: 0 | AB18: 6 | AC18: No | AD18: No | AE18: No | AF18: =IF(AND(M18=0,V18=0),"Most preferable",IF(OR(M18>20,V18>20),"Least preferable","Less preferable")) -> Less preferable | AG18: =IF(AND(M18=0,V18=0),"Most preferable",IF(OR(M18>F18,V18>F18),"Least preferable","Less preferable")) -> Less preferable | AH18: =IF(OR((M18)>F18,V18>F18),"Yes","No") -> No | AI18: No | AJ18: No | AK18: N/A | AL18: N/A | AM18: N/A | AN18: N/A
A19: White House Poultry Farm, Netherfield | B19: Battle | C19: BAT0108 | D19: 0.98 | E19: =VLOOKUP(A19,Sheet1!$A$2:$G$148,7,FALSE) -> 0.68 | F19: =IF(ISNA(E19),20,IF(E19=0,20,(1-E19/D19)*100)) -> 30.612245 | G19: 100 | H19: 0 | I19: 0 | J19: 0 | K19: 0 | L19: 0 | M19: 0 | N19: 0 | O19: 0 | P19: 0 | Q19: 0 | R19: 0.0018047551 | S19: 0 | T19: 0 | U19: 0.0018047551 | V19: 0.0018047551 | W19: 0 | X19: Yes | Y19: 0 | Z19: 0 | AA19: 0 | AB19: 0 | AC19: No | AD19: No | AE19: No | AF19: =IF(AND(M19=0,V19=0),"Most preferable",IF(OR(M19>20,V19>20),"Least preferable","Less preferable")) -> Less preferable | AG19: =IF(AND(M19=0,V19=0),"Most preferable",IF(OR(M19>F19,V19>F19),"Least preferable","Less preferable")) -> Less preferable | AH19: =IF(OR((M19)>F19,V19>F19),"Yes","No") -> No | AI19: No | AJ19: No | AK19: N/A | AL19: N/A | AM19: N/A | AN19: N/A
A20: Land at Caldbec House, Battle | B20: Battle | C20: BAT0109 | D20: 0.47 | E20: =VLOOKUP(A20,Sheet1!$A$2:$G$148,7,FALSE) -> 0.15 | F20: =IF(ISNA(E20),20,IF(E20=0,20,(1-E20/D20)*100)) -> 68.085106 | G20: 100 | H20: 0 | I20: 0 | J20: 0 | K20: 0 | L20: 0 | M20: 0 | N20: 0 | O20: 0 | P20: 0 | Q20: 0 | R20: 0 | S20: 0 | T20: 0 | U20: 0 | V20: 0 | W20: 0 | X20: No | Y20: 0 | Z20: 0 | AA20: 0 | AB20: 0 | AC20: No | AD20: No | AE20: No | AF20: =IF(AND(M20=0,V20=0),"Most preferable",IF(OR(M20>20,V20>20),"Least preferable","Less preferable")) -> Most preferable | AG20: =IF(AND(M20=0,V20=0),"Most preferable",IF(OR(M20>F20,V20>F20),"Least preferable","Less preferable")) -> Most preferable | AH20: =IF(OR((M20)>F20,V20>F20),"Yes","No") -> No | AI20: No | AJ20: No | AK20: N/A | AL20: N/A | AM20: N/A | AN20: N/A
A21: Land east of Coronation Gardens, Battle | B21: Battle | C21: BAT0121 | D21: 4.56 | E21: =VLOOKUP(A21,Sheet1!$A$2:$G$148,7,FALSE) -> 2.29 | F21: =IF(ISNA(E21),20,IF(E21=0,20,(1-E21/D21)*100)) -> 49.780702 | G21: 100 | H21: 0 | I21: 0 | J21: 0 | K21: 0 | L21: 0 | M21: 0 | N21: 0 | O21: 0 | P21: 0 | Q21: 0 | R21: 2.8173484 | S21: 2.5513323 | T21: 2.4364949 | U21: 3.162158 | V21: 2.7718939 | W21: 2.6094256 | X21: Yes | Y21: 0 | Z21: 0 | AA21: 0 | AB21: 1 | AC21: No | AD21: No | AE21: No | AF21: =IF(AND(M21=0,V21=0),"Most preferable",IF(OR(M21>20,V21>20),"Least preferable","Less preferable")) -> Less preferable | AG21: =IF(AND(M21=0,V21=0),"Most preferable",IF(OR(M21>F21,V21>F21),"Least preferable","Less preferable")) -> Less preferable | AH21: =IF(OR((M21)>F21,V21>F21),"Yes","No") -> No | AI21: No | AJ21: No | AK21: N/A | AL21: N/A | AM21: N/A | AN21: N/A
A22: Land at Almonry Farm, Battle | B22: Battle | C22: BAT0127 | D22: 4.8 | E22: =VLOOKUP(A22,Sheet1!$A$2:$G$148,7,FALSE) -> 2.4 | F22: =IF(ISNA(E22),20,IF(E22=0,20,(1-E22/D22)*100)) -> 50 | G22: 100 | H22: 0 | I22: 0 | J22: 0 | K22: 0 | L22: 0 | M22: 0 | N22: 0 | O22: 0 | P22: 0 | Q22: 0 | R22: 2.2172305 | S22: 0.94482541 | T22: 0.57778779 | U22: 4.183733 | V22: 1.8492659 | W22: 1.0699348 | X22: Yes | Y22: 0 | Z22: 0 | AA22: 0 | AB22: 18 | AC22: No | AD22: No | AE22: No | AF22: =IF(AND(M22=0,V22=0),"Most preferable",IF(OR(M22>20,V22>20),"Least preferable","Less preferable")) -> Less preferable | AG22: =IF(AND(M22=0,V22=0),"Most preferable",IF(OR(M22>F22,V22>F22),"Least preferable","Less preferable")) -> Less preferable | AH22: =IF(OR((M22)>F22,V22>F22),"Yes","No") -> No | AI22: No | AJ22: No | AK22: N/A | AL22: N/A | AM22: N/A | AN22: N/A
A23: Land south of Hastings Road, Battle | B23: Battle | C23: BAT0128 | D23: 10.26 | E23: =VLOOKUP(A23,Sheet1!$A$2:$G$148,7,FALSE) -> 5.54 | F23: =IF(ISNA(E23),20,IF(E23=0,20,(1-E23/D23)*100)) -> 46.003899 | G23: 100 | H23: 0 | I23: 0 | J23: 0 | K23: 0 | L23: 0 | M23: 0 | N23: 0 | O23: 0 | P23: 0 | Q23: 0 | R23: 2.1178311 | S23: 0.80181016 | T23: 0.60780063 | U23: 4.0440549 | V23: 1.9603713 | W23: 1.0370569 | X23: Yes | Y23: 0 | Z23: 0 | AA23: 0 | AB23: 1 | AC23: No | AD23: No | AE23: No | AF23: =IF(AND(M23=0,V23=0),"Most preferable",IF(OR(M23>20,V23>20),"Least preferable","Less preferable")) -> Less preferable | AG23: =IF(AND(M23=0,V23=0),"Most preferable",IF(OR(M23>F23,V23>F23),"Least preferable","Less preferable")) -> Less preferable | AH23: =IF(OR((M23)>F23,V23>F23),"Yes","No") -> No | AI23: No | AJ23: No | AK23: N/A | AL23: N/A | AM23: N/A | AN23: N/A
A24: Rutherfords Business Park, Marley Lane, Battle | B24: Battle | C24: BAT0129 | D24: 2.79 | E24: =VLOOKUP(A24,Sheet1!$A$2:$G$148,7,FALSE) -> 1.39 | F24: =IF(ISNA(E24),20,IF(E24=0,20,(1-E24/D24)*100)) -> 50.179211 | G24: 100 | H24: 0 | I24: 0 | J24: 0 | K24: 0 | L24: 0 | M24: 0 | N24: 0 | O24: 0 | P24: 0 | Q24: 0 | R24: 3.0475122 | S24: 0.53573744 | T24: 0.31510196 | U24: 6.4422154 | V24: 2.021992 | W24: 0.70824531 | X24: Yes | Y24: 0 | Z24: 0 | AA24: 0 | AB24: 1 | AC24: No | AD24: No | AE24: No | AF24: =IF(AND(M24=0,V24=0),"Most preferable",IF(OR(M24>20,V24>20),"Least preferable","Less preferable")) -> Less preferable | AG24: =IF(AND(M24=0,V24=0),"Most preferable",IF(OR(M24>F24,V24>F24),"Least preferable","Less preferable")) -> Less preferable | AH24: =IF(OR((M24)>F24,V24>F24),"Yes","No") -> No | AI24: No | AJ24: No | AK24: N/A | AL24: N/A | AM24: N/A | AN24: N/A
... A29: Land adjacent to 276 Turkey Road, Bexhill | B29: Bexhill | C29: BEX0005 | D29: 1.15 | E29: =VLOOKUP(A29,Sheet1!$A$2:$G$148,7,FALSE) -> 0.75 | F29: =IF(ISNA(E29),20,IF(E29=0,20,(1-E29/D29)*100)) -> 34.782609 | G29: 100 | H29: 0 | I29: 0 | J29: 0 | K29: 0 | L29: 0 | M29: 0 | N29: 0 | O29: 0 | P29: 0 | Q29: 0 | R29: 7.4611493 | S29: 2.3581706 | T29: 0 | U29: 24.947342 | V29: 6.383262 | W29: 2.5980415 | X29: No | Y29: 0 | Z29: 0 | AA29: 0 | AB29: 5 | AC29: No | AD29: No | AE29: No | AF29: =IF(AND(M29=0,V29=0),"Most preferable",IF(OR(M29>20,V29>20),"Least preferable","Less preferable")) -> Less preferable | AG29: =IF(AND(M29=0,V29=0),"Most preferable",IF(OR(M29>F29,V29>F29),"Least preferable","Less preferable")) -> Less preferable | AH29: =IF(OR((M29)>F29,V29>F29),"Yes","No") -> No | AI29: No | AJ29: No | AK29: N/A | AL29: N/A | AM29: N/A | AN29: N/A
A30: Land off Spindlewood Drive, Bexhill | B30: Bexhill | C30: BEX0006 | D30: 9.36 | E30: =VLOOKUP(A30,Sheet1!$A$2:$G$148,7,FALSE) -> 3.4 | F30: =IF(ISNA(E30),20,IF(E30=0,20,(1-E30/D30)*100)) -> 63.675214 | G30: 91.849621 | H30: 2.4475649 | I30: 5.7028141 | J30: 0 | K30: 1.0437221 | L30: 1.0701056 | M30: 23.924117 | N30: 0 | O30: 0 | P30: 11.564016 | Q30: 14.787767 | R30: 6.1842409 | S30: 2.950743 | T30: 1.3960639 | U30: 9.2123485 | V30: 5.5675901 | W30: 3.6361438 | X30: Yes | Y30: 0 | Z30: 0.081626475 | AA30: 0 | AB30: 2 | AC30: No | AD30: Yes | AE30: Yes | AF30: =IF(AND(M30=0,V30=0),"Most preferable",IF(OR(M30>20,V30>20),"Least preferable","Less preferable")) -> Least preferable | AG30: =IF(AND(M30=0,V30=0),"Most preferable",IF(OR(M30>F30,V30>F30),"Least preferable","Less preferable")) -> Less preferable | AH30: =IF(OR((M30)>F30,V30>F30),"Yes","No") -> No | AI30: N/A | AJ30: N/A | AK30: Yes | AL30: East Sussex Coastal Model - Eastbourne | AM30: No | AN30: Yes | AO30: Yes | AP30: No. Agreed with consultant that flood risk area can be accommodated in undeveloped portion of site.
A31: Land south-east of Beeching Road, Bexhill | B31: Bexhill | C31: BEX0008 | D31: 2.81 | E31: =VLOOKUP(A31,Sheet1!$A$2:$G$148,7,FALSE) -> 2 | F31: =IF(ISNA(E31),20,IF(E31=0,20,(1-E31/D31)*100)) -> 28.825623 | G31: 100 | H31: 0 | I31: 0 | J31: 0 | K31: 0 | L31: 0 | M31: 0 | N31: 0 | O31: 0 | P31: 0 | Q31: 0 | R31: 44.112679 | S31: 22.292787 | T31: 12.693923 | U31: 67.525686 | V31: 42.547376 | W31: 26.957472 | X31: Yes | Y31: 0 | Z31: 0 | AA31: 0 | AB31: 3 | AC31: No | AD31: No | AE31: No | AF31: =IF(AND(M31=0,V31=0),"Most preferable",IF(OR(M31>20,V31>20),"Least preferable","Less preferable")) -> Least preferable | AG31: =IF(AND(M31=0,V31=0),"Most preferable",IF(OR(M31>F31,V31>F31),"Least preferable","Less preferable")) -> Least preferable | AH31: =IF(OR((M31)>F31,V31>F31),"Yes","No") -> Yes | AI31: N/A | AJ31: N/A | AK31: N/A | AL31: N/A | AM31: N/A | AN31: N/A | AO31: Yes | AP31: Yes
A32: 2a Sackville Road, Bexhill | B32: Bexhill | C32: BEX0011 | D32: 0.03 | E32: =VLOOKUP(A32,Sheet1!$A$2:$G$148,7,FALSE) -> 0.03 | F32: =IF(ISNA(E32),20,IF(E32=0,20,(1-E32/D32)*100)) -> 0 | G32: 100 | H32: 0 | I32: 0 | J32: 0 | K32: 0 | L32: 0 | M32: 0 | N32: 0 | O32: 0 | P32: 0 | Q32: 0 | R32: 73.585663 | S32: 72.044363 | T32: 65.2851 | U32: 79.12883 | V32: 73.585663 | W32: 72.044363 | X32: No | Y32: 0 | Z32: 0 | AA32: 0 | AB32: 7 | AC32: No | AD32: No | AE32: No | AF32: =IF(AND(M32=0,V32=0),"Most preferable",IF(OR(M32>20,V32>20),"Least preferable","Less preferable")) -> Least preferable | AG32: =IF(AND(M32=0,V32=0),"Most preferable",IF(OR(M32>F32,V32>F32),"Least preferable","Less preferable")) -> Least preferable | AH32: =IF(OR((M32)>F32,V32>F32),"Yes","No") -> Yes | AI32: N/A | AJ32: N/A | AK32: N/A | AL32: N/A | AM32: N/A | AN32: N/A | AO32: No | AP32: Yes
A33: Land at Levetts Wood and Oaktree Farm, Bexhill | B33: Bexhill | C33: BEX0017 | D33: 9.33 | E33: =VLOOKUP(A33,Sheet1!$A$2:$G$148,7,FALSE) -> 0 | F33: =IF(ISNA(E33),20,IF(E33=0,20,(1-E33/D33)*100)) -> 20 | G33: 99.575145 | H33: 0.23601936 | I33: 0.18883526 | J33: 0 | K33: 0.075771407 | L33: 0.11103666 | M33: 0.67855244 | N33: 0 | O33: 0 | P33: 0 | Q33: 0 | R33: 3.9955188 | S33: 2.4924278 | T33: 1.8003367 | U33: 5.2179354 | V33: 3.8094269 | W33: 2.7048719 | X33: Yes | Y33: 0 | Z33: 0 | AA33: 0 | AB33: 0 | AC33: No | AD33: No | AE33: No | AF33: =IF(AND(M33=0,V33=0),"Most preferable",IF(OR(M33>20,V33>20),"Least preferable","Less preferable")) -> Less preferable | AG33: =IF(AND(M33=0,V33=0),"Most preferable",IF(OR(M33>F33,V33>F33),"Least preferable","Less preferable")) -> Less preferable | AH33: =IF(OR((M33)>F33,V33>F33),"Yes","No") -> No | AI33: No | AJ33: No | AK33: N/A | AL33: N/A | AM33: No | AN33: Yes
A34: Land at Barnhorn Green, Bexhill | B34: Bexhill | C34: BEX0021 | D34: 1.58 | E34: =VLOOKUP(A34,Sheet1!$A$2:$G$148,7,FALSE) -> 0 | F34: =IF(ISNA(E34),20,IF(E34=0,20,(1-E34/D34)*100)) -> 20 | G34: 100 | H34: 0 | I34: 0 | J34: 0 | K34: 0 | L34: 0 | M34: 0 | N34: 0 | O34: 0 | P34: 0 | Q34: 0 | R34: 0 | S34: 0 | T34: 0 | U34: 0 | V34: 0 | W34: 0 | X34: No | Y34: 0 | Z34: 0 | AA34: 0 | AB34: 0 | AC34: No | AD34: No | AE34: No | AF34: =IF(AND(M34=0,V34=0),"Most preferable",IF(OR(M34>20,V34>20),"Least preferable","Less preferable")) -> Most preferable | AG34: =IF(AND(M34=0,V34=0),"Most preferable",IF(OR(M34>F34,V34>F34),"Least preferable","Less preferable")) -> Most preferable | AH34: =IF(OR((M34)>F34,V34>F34),"Yes","No") -> No | AI34: No | AJ34: No | AK34: N/A | AL34: N/A | AM34: N/A | AN34: N/A
A35: Land at Freezeland Farm, Freezeland Lane, Bexhill | B35: Bexhill | C35: BEX0028 | D35: 0.5 | E35: =VLOOKUP(A35,Sheet1!$A$2:$G$148,7,FALSE) -> 0.25 | F35: =IF(ISNA(E35),20,IF(E35=0,20,(1-E35/D35)*100)) -> 50 | G35: 100 | H35: 0 | I35: 0 | J35: 0 | K35: 0 | L35: 0 | M35: 0 | N35: 0 | O35: 0 | P35: 0 | Q35: 0 | R35: 0 | S35: 0 | T35: 0 | U35: 0 | V35: 0 | W35: 0 | X35: No | Y35: 0 | Z35: 0 | AA35: 0 | AB35: 1 | AC35: No | AD35: No | AE35: No | AF35: =IF(AND(M35=0,V35=0),"Most preferable",IF(OR(M35>20,V35>20),"Least preferable","Less preferable")) -> Most preferable | AG35: =IF(AND(M35=0,V35=0),"Most preferable",IF(OR(M35>F35,V35>F35),"Least preferable","Less preferable")) -> Most preferable | AH35: =IF(OR((M35)>F35,V35>F35),"Yes","No") -> No | AI35: No | AJ35: No | AK35: N/A | AL35: N/A | AM35: N/A | AN35: N/A
A36: 30 Dorset Road, Bexhill | B36: Bexhill | C36: BEX0031 | D36: 0.08 | E36: =VLOOKUP(A36,Sheet1!$A$2:$G$148,7,FALSE) -> 0.06 | F36: =IF(ISNA(E36),20,IF(E36=0,20,(1-E36/D36)*100)) -> 25 | G36: 100 | H36: 0 | I36: 0 | J36: 0 | K36: 0 | L36: 0 | M36: 0 | N36: 0 | O36: 0 | P36: 0 | Q36: 0 | R36: 0 | S36: 0 | T36: 0 | U36: 0 | V36: 0 | W36: 0 | X36: No | Y36: 0 | Z36: 0 | AA36: 0 | AB36: 5 | AC36: No | AD36: No | AE36: No | AF36: =IF(AND(M36=0,V36=0),"Most preferable",IF(OR(M36>20,V36>20),"Least preferable","Less preferable")) -> Most preferable | AG36: =IF(AND(M36=0,V36=0),"Most preferable",IF(OR(M36>F36,V36>F36),"Least preferable","Less preferable")) -> Most preferable | AH36: =IF(OR((M36)>F36,V36>F36),"Yes","No") -> No | AI36: No | AJ36: No | AK36: N/A | AL36: N/A | AM36: N/A | AN36: N/A
A37: Former Sidley Sports Ground, Bexhill | B37: Bexhill | C37: BEX0032 | D37: 1.95 | E37: =VLOOKUP(A37,Sheet1!$A$2:$G$148,7,FALSE) -> 0.9 | F37: =IF(ISNA(E37),20,IF(E37=0,20,(1-E37/D37)*100)) -> 53.846154 | G37: 100 | H37: 0 | I37: 0 | J37: 0 | K37: 0 | L37: 0 | M37: 0 | N37: 0 | O37: 0 | P37: 0 | Q37: 0 | R37: 1.4570583 | S37: 1.0671412 | T37: 0.82087787 | U37: 1.9085411 | V37: 1.4160144 | W37: 1.1287071 | X37: No | Y37: 0 | Z37: 0 | AA37: 0 | AB37: 4 | AC37: No | AD37: No | AE37: No | AF37: =IF(AND(M37=0,V37=0),"Most preferable",IF(OR(M37>20,V37>20),"Least preferable","Less preferable")) -> Less preferable | AG37: =IF(AND(M37=0,V37=0),"Most preferable",IF(OR(M37>F37,V37>F37),"Least preferable","Less preferable")) -> Less preferable | AH37: =IF(OR((M37)>F37,V37>F37),"Yes","No") -> No | AI37: No | AJ37: No | AK37: N/A | AL37: N/A | AM37: N/A | AN37: N/A
A38: Cemetery Lodge, 250 Turkey Road, Bexhill | B38: Bexhill | C38: BEX0071 | D38: 0.08 | E38: =VLOOKUP(A38,Sheet1!$A$2:$G$148,7,FALSE) -> 0.07 | F38: =IF(ISNA(E38),20,IF(E38=0,20,(1-E38/D38)*100)) -> 12.5 | G38: 100 | H38: 0 | I38: 0 | J38: 0 | K38: 0 | L38: 0 | M38: 0 | N38: 0 | O38: 0 | P38: 0 | Q38: 0 | R38: 0.0303323 | S38: 0 | T38: 0 | U38: 5.8626428 | V38: 0 | W38: 0 | X38: No | Y38: 0 | Z38: 0 | AA38: 0 | AB38: 5 | AC38: No | AD38: No | AE38: No | AF38: =IF(AND(M38=0,V38=0),"Most preferable",IF(OR(M38>20,V38>20),"Least preferable","Less preferable")) -> Most preferable | AG38: =IF(AND(M38=0,V38=0),"Most preferable",IF(OR(M38>F38,V38>F38),"Least preferable","Less preferable")) -> Most preferable | AH38: =IF(OR((M38)>F38,V38>F38),"Yes","No") -> No | AI38: No | AJ38: No | AK38: N/A | AL38: N/A | AM38: N/A | AN38: N/A
A39: Land adjacent to Bexhill Town Hall, Bexhill | B39: Bexhill | C39: BEX0077 | D39: 0.59 | E39: =VLOOKUP(A39,Sheet1!$A$2:$G$148,7,FALSE) -> 0.1 | F39: =IF(ISNA(E39),20,IF(E39=0,20,(1-E39/D39)*100)) -> 83.050847 | G39: 100 | H39: 0 | I39: 0 | J39: 0 | K39: 0 | L39: 0 | M39: 0 | N39: 0 | O39: 0 | P39: 0 | Q39: 0 | R39: 9.7496908 | S39: 7.7188887 | T39: 5.9072382 | U39: 32.822903 | V39: 9.5433713 | W39: 8.0592699 | X39: No | Y39: 0 | Z39: 0 | AA39: 0 | AB39: 4 | AC39: No | AD39: No | AE39: No | AF39: =IF(AND(M39=0,V39=0),"Most preferable",IF(OR(M39>20,V39>20),"Least preferable","Less preferable")) -> Less preferable | AG39: =IF(AND(M39=0,V39=0),"Most preferable",IF(OR(M39>F39,V39>F39),"Least preferable","Less preferable")) -> Less preferable | AH39: =IF(OR((M39)>F39,V39>F39),"Yes","No") -> No | AI39: No | AJ39: No | AK39: N/A | AL39: N/A | AM39: N/A | AN39: N/A
A40: Sainsburys Site, 1 Buckhurst Place, Bexhill | B40: Bexhill | C40: BEX0078 | D40: 0.67 | E40: =VLOOKUP(A40,Sheet1!$A$2:$G$148,7,FALSE) -> 0.4 | F40: =IF(ISNA(E40),20,IF(E40=0,20,(1-E40/D40)*100)) -> 40.298507 | G40: 100 | H40: 0 | I40: 0 | J40: 0 | K40: 0 | L40: 0 | M40: 0 | N40: 0 | O40: 0 | P40: 0 | Q40: 0 | R40: 59.96425 | S40: 21.650694 | T40: 15.371883 | U40: 63.21162 | V40: 58.840037 | W40: 26.676276 | X40: No | Y40: 0 | Z40: 0 | AA40: 0 | AB40: 10 | AC40: No | AD40: No | AE40: No | AF40: =IF(AND(M40=0,V40=0),"Most preferable",IF(OR(M40>20,V40>20),"Least preferable","Less preferable")) -> Least preferable | AG40: =IF(AND(M40=0,V40=0),"Most preferable",IF(OR(M40>F40,V40>F40),"Least preferable","Less preferable")) -> Least preferable | AH40: =IF(OR((M40)>F40,V40>F40),"Yes","No") -> Yes | AI40: N/A | AJ40: N/A | AK40: N/A | AL40: N/A | AM40: N/A | AN40: N/A | AO40: Yes | AP40: Yes
A41: Land at Sidley Car Park, Ninfield Road, Bexhill | B41: Bexhill | C41: BEX0086 | D41: 0.33 | E41: =VLOOKUP(A41,Sheet1!$A$2:$G$148,7,FALSE) -> 0.1 | F41: =IF(ISNA(E41),20,IF(E41=0,20,(1-E41/D41)*100)) -> 69.69697 | G41: 100 | H41: 0 | I41: 0 | J41: 0 | K41: 0 | L41: 0 | M41: 0 | N41: 0 | O41: 0 | P41: 0 | Q41: 0 | R41: 12.231555 | S41: 7.762009 | T41: 4.4874116 | U41: 15.144385 | V41: 11.625148 | W41: 8.4896976 | X41: No | Y41: 0 | Z41: 0 | AA41: 0 | AB41: 5 | AC41: No | AD41: No | AE41: No | AF41: =IF(AND(M41=0,V41=0),"Most preferable",IF(OR(M41>20,V41>20),"Least preferable","Less preferable")) -> Less preferable | AG41: =IF(AND(M41=0,V41=0),"Most preferable",IF(OR(M41>F41,V41>F41),"Least preferable","Less preferable")) -> Less preferable | AH41: =IF(OR((M41)>F41,V41>F41),"Yes","No") -> No | AI41: No | AJ41: No | AK41: N/A | AL41: N/A | AM41: N/A | AN41: N/A
A42: Gorses Car Park and Open Space, The Gorses, Bexhill | B42: Bexhill | C42: BEX0089 | D42: 0.39 | E42: =VLOOKUP(A42,Sheet1!$A$2:$G$148,7,FALSE) -> 0.06 | F42: =IF(ISNA(E42),20,IF(E42=0,20,(1-E42/D42)*100)) -> 84.615385 | G42: 100 | H42: 0 | I42: 0 | J42: 0 | K42: 0 | L42: 0 | M42: 49.236203 | N42: 0 | O42: 0 | P42: 0 | Q42: 0 | R42: 11.100189 | S42: 0.020435441 | T42: 0 | U42: 22.122784 | V42: 9.5126102 | W42: 0.38431869 | X42: No | Y42: 0 | Z42: 0 | AA42: 0 | AB42: 0 | AC42: No | AD42: No | AE42: No | AF42: =IF(AND(M42=0,V42=0),"Most preferable",IF(OR(M42>20,V42>20),"Least preferable","Less preferable")) -> Least preferable | AG42: =IF(AND(M42=0,V42=0),"Most preferable",IF(OR(M42>F42,V42>F42),"Least preferable","Less preferable")) -> Less preferable | AH42: =IF(OR((M42)>F42,V42>F42),"Yes","No") -> No | AI42: N/A | AJ42: N/A | AK42: N/A | AL42: N/A | AM42: N/A | AN42: N/A | AO42: No | AP42: Yes. Developable area (car park) is at risk of flooding.
A43: Land west of Watermill Lane, Bexhill | B43: Bexhill | C43: BEX0115 | D43: 4.74 | E43: =VLOOKUP(A43,Sheet1!$A$2:$G$148,7,FALSE) -> 3 | F43: =IF(ISNA(E43),20,IF(E43=0,20,(1-E43/D43)*100)) -> 36.708861 | G43: 91.413738 | H43: 1.4899313 | I43: 7.0963303 | J43: 0 | K43: 2.3643625 | L43: 3.6891478 | M43: 8.7969053 | N43: 0 | O43: 0 | P43: 0 | Q43: 0 | R43: 1.6623045 | S43: 0.28735376 | T43: 0.00041731649 | U43: 3.6580059 | V43: 1.0045001 | W43: 0.31571791 | X43: Yes | Y43: 0 | Z43: 0 | AA43: 0 | AB43: 11 | AC43: No | AD43: No | AE43: No | AF43: =IF(AND(M43=0,V43=0),"Most preferable",IF(OR(M43>20,V43>20),"Least preferable","Less preferable")) -> Less preferable | AG43: =IF(AND(M43=0,V43=0),"Most preferable",IF(OR(M43>F43,V43>F43),"Least preferable","Less preferable")) -> Less preferable | AH43: =IF(OR((M43)>F43,V43>F43),"Yes","No") -> No | AI43: No | AJ43: No | AK43: N/A | AL43: N/A | AM43: No | AN43: Yes
A44: Land west of Fryatts Way, Bexhill | B44: Bexhill | C44: BEX0116 | D44: 11.56 | E44: =VLOOKUP(A44,Sheet1!$A$2:$G$148,7,FALSE) -> 11 | F44: =IF(ISNA(E44),20,IF(E44=0,20,(1-E44/D44)*100)) -> 4.8442907 | G44: 98.344883 | H44: 0.47728296 | I44: 1.1778336 | J44: 0.53089865 | K44: 0 | L44: 0 | M44: 1.6551165 | N44: 0.53089865 | O44: 0.53089865 | P44: 0 | Q44: 0 | R44: 4.7183367 | S44: 2.0510988 | T44: 1.1587569 | U44: 8.1520458 | V44: 4.3379069 | W44: 2.3178482 | X44: Yes | Y44: 0 | Z44: 0 | AA44: 0 | AB44: 1 | AC44: No | AD44: No | AE44: No | AF44: =IF(AND(M44=0,V44=0),"Most preferable",IF(OR(M44>20,V44>20),"Least preferable","Less preferable")) -> Less preferable | AG44: =IF(AND(M44=0,V44=0),"Most preferable",IF(OR(M44>F44,V44>F44),"Least preferable","Less preferable")) -> Less preferable | AH44: =IF(OR((M44)>F44,V44>F44),"Yes","No") -> No | AI44: No | AJ44: No | AK44: Yes | AL44: Picknell Green Stream | AM44: No | AN44: No
A45: Beeching Road Enhancement Area, Bexhill | B45: Bexhill | C45: BEX0141 | D45: 12.54 | E45: =VLOOKUP(A45,Sheet1!$A$2:$G$148,7,FALSE) -> #N/A | F45: =IF(ISNA(E45),20,IF(E45=0,20,(1-E45/D45)*100)) -> 20 | G45: 98.251207 | H45: 0.66677088 | I45: 1.0820226 | J45: 0 | K45: 1.0107083 | L45: 1.0107083 | M45: 2.0012602 | N45: 0 | O45: 0 | P45: 0 | Q45: 0 | R45: 23.001485 | S45: 10.675282 | T45: 6.0105162 | U45: 35.234746 | V45: 21.872544 | W45: 13.248972 | X45: Yes | Y45: 0 | Z45: 0 | AA45: 0 | AB45: 10 | AC45: No | AD45: No | AE45: No | AF45: =IF(AND(M45=0,V45=0),"Most preferable",IF(OR(M45>20,V45>20),"Least preferable","Less preferable")) -> Least preferable | AG45: =IF(AND(M45=0,V45=0),"Most preferable",IF(OR(M45>F45,V45>F45),"Least preferable","Less preferable")) -> Least preferable | AH45: =IF(OR((M45)>F45,V45>F45),"Yes","No") -> Yes | AI45: N/A | AJ45: N/A | AK45: N/A | AL45: N/A | AM45: No | AN45: Yes | AO45: Yes | AP45: No, this is not a site allocation policy.
A46: Eversley Road Car Park, Eversley Road, Bexhill | B46: Bexhill | C46: BEX0155 | D46: 0.07 | E46: =VLOOKUP(A46,Sheet1!$A$2:$G$148,7,FALSE) -> 0.05 | F46: =IF(ISNA(E46),20,IF(E46=0,20,(1-E46/D46)*100)) -> 28.571429 | G46: 100 | H46: 0 | I46: 0 | J46: 0 | K46: 0 | L46: 0 | M46: 0 | N46: 0 | O46: 0 | P46: 0 | Q46: 0 | R46: 0 | S46: 0 | T46: 0 | U46: 0.90515935 | V46: 0 | W46: 0 | X46: No | Y46: 0 | Z46: 0 | AA46: 0 | AB46: 4 | AC46: No | AD46: No | AE46: No | AF46: =IF(AND(M46=0,V46=0),"Most preferable",IF(OR(M46>20,V46>20),"Least preferable","Less preferable")) -> Most preferable | AG46: =IF(AND(M46=0,V46=0),"Most preferable",IF(OR(M46>F46,V46>F46),"Least preferable","Less preferable")) -> Most preferable | AH46: =IF(OR((M46)>F46,V46>F46),"Yes","No") -> No | AI46: No | AJ46: No | AK46: N/A | AL46: N/A | AM46: N/A | AN46: N/A
A47: Land west of Pages Lane, Bexhill | B47: Bexhill | C47: BEX0158 | D47: 1.22 | E47: =VLOOKUP(A47,Sheet1!$A$2:$G$148,7,FALSE) -> 0.7 | F47: =IF(ISNA(E47),20,IF(E47=0,20,(1-E47/D47)*100)) -> 42.622951 | G47: 100 | H47: 0 | I47: 0 | J47: 0 | K47: 0 | L47: 0 | M47: 0 | N47: 0 | O47: 0 | P47: 0 | Q47: 0 | R47: 4.9699354 | S47: 0.36475767 | T47: 0.094229299 | U47: 10.467647 | V47: 3.8398802 | W47: 0.40819369 | X47: No | Y47: 0 | Z47: 0 | AA47: 0 | AB47: 0 | AC47: No | AD47: No | AE47: No | AF47: =IF(AND(M47=0,V47=0),"Most preferable",IF(OR(M47>20,V47>20),"Least preferable","Less preferable")) -> Less preferable | AG47: =IF(AND(M47=0,V47=0),"Most preferable",IF(OR(M47>F47,V47>F47),"Least preferable","Less preferable")) -> Less preferable | AH47: =IF(OR((M47)>F47,V47>F47),"Yes","No") -> No | AI47: No | AJ47: No | AK47: N/A | AL47: N/A | AM47: N/A | AN47: N/A
A48: Land north of Broadoak Lane, Bexhill | B48: Bexhill | C48: BEX0161 | D48: 1.26 | E48: =VLOOKUP(A48,Sheet1!$A$2:$G$148,7,FALSE) -> 1 | F48: =IF(ISNA(E48),20,IF(E48=0,20,(1-E48/D48)*100)) -> 20.634921 | G48: 100 | H48: 0 | I48: 0 | J48: 0 | K48: 0 | L48: 0 | M48: 0 | N48: 0 | O48: 0 | P48: 0 | Q48: 0 | R48: 0 | S48: 0 | T48: 0 | U48: 0.22231616 | V48: 0 | W48: 0 | X48: Yes | Y48: 0 | Z48: 0 | AA48: 0 | AB48: 3 | AC48: No | AD48: No | AE48: No | AF48: =IF(AND(M48=0,V48=0),"Most preferable",IF(OR(M48>20,V48>20),"Least preferable","Less preferable")) -> Most preferable | AG48: =IF(AND(M48=0,V48=0),"Most preferable",IF(OR(M48>F48,V48>F48),"Least preferable","Less preferable")) -> Most preferable | AH48: =IF(OR((M48)>F48,V48>F48),"Yes","No") -> No | AI48: No | AJ48: No | AK48: N/A | AL48: N/A | AM48: N/A | AN48: N/A
...

Sheet Sheet1
A1: Site Address | B1: Regulation 18 Local Plan Policy Reference (2026) | C1: Parish | D1: Proposed Allocation Type | E1: Proposed Quantum of Development | F1: Size of site | G1: Size of indicative built area | H1: Proposed Density (dph) | I1: Assumed use class | J1: Developable area (estimated) | K1: Site Identification | L1: Brownfield/ Greenfield | M1: Environmental constraints
A2: Land adjacent to Orchard Close, Icklesham | B2: IK2 | D2: Residential | E2: 32 dwellings | F2: 2.36 | G2: 0.94 | H2: 35 | K2: New HELAA site | L2: GF | M2: Within High Weald National Landscape
A3: 17-19 Tower Street, Rye | B3: RY8 | C3: Rye | D3: Residential | E3: 6 dwellings | F3: 0.1 | G3: 0.03 | H3: 40 | K3: Planning permission | L3: BF
A4: 2a Sackville Road, Bexhill | B4: BX12 | C4: Bexhill | D4: Mixed-use | E4: (a) 6 dwellings (b) 95 sqm retail floorspace | F4: 0.03 | G4: 0.03 | H4: 200 | K4: Previous planning permission | L4: BF
A5: 30 Dorset Road, Bexhill | B5: BX10 | C5: Bexhill | D5: Residential | E5: 8 dwellings | F5: 0.08 | G5: 0.06 | H5: 120 | K5: Planning permission | L5: BF
A6: 81 Cooden Drive, Bexhill | B6: BX17 | C6: Bexhill | D6: Residential | E6: 6 dwellings | F6: 0.14 | G6: 0.1 | H6: 60 | K6: Planning permission | L6: BF
A7: Battle Market Square, Battle | B7: BT11 | C7: Battle | D7: Mixed-use | E7: 52 dwellings and retention of existing retail floorspace | F7: 1 | G7: 0.8 | H7: 65 | K7: New HELAA site | L7: BF | M7: Within High Weald National Landscape
A8: Beech Farm, Battle | B8: BT3 | C8: Battle | D8: Non-resi | E8: 1895 sqm employment floorspace | F8: 0.91 | G8: 0.2 | H8: NA | I8: E(g), B2, B8 | J8: 0.2 | K8: Planning permission | L8: GF | M8: Within High Weald National Landscape
A9: Beeches Farm and land north of Barnhorn Road, Bexhill | B9: BX27 | C9: Bexhill | D9: Mixed-use | E9: (a) 540 dwellings (b) primary school (c) local shops (d) community uses | F9: 29.7 | G9: 15 | H9: 40 | K9: New HELAA site | L9: GF | M9: Nearby Ramsar/ SAC/ SSSI (Pevensey Levels)
A10: Bexhill Enterprise Park - Escarpment Site B, south of Glovers End, Bexhill | B10: BX48 | C10: Bexhill | D10: Non-resi | E10: 5,275 sqm employment floorspace | F10: 14.24 | H10: NA | I10: E(g), B2, B8 | J10: =14.24*70% -> 9.968 | K10: Extant planning permission plus adjoining land | L10: GF
A11: Brackendale, Rock Lane, Hastings Fringes | B11: GU2 | C11: Guestling | D11: Residential | E11: 20 dwellings | F11: 1 | G11: 0.5 | H11: 40 | K11: New HELAA site | L11: Mixed | M11: Within High Weald National Landscape
A12: Cedar Farm, London Road, Ticehurst | B12: FW3 | C12: Ticehurst | D12: Non-resi | E12: 1,650 sqm employment floorspace | F12: 2.26 | G12: 0.75 | H12: NA | I12: E(g), B2, B8 | J12: 0.75 | K12: New HELAA site | L12: BF | M12: Within High Weald National Landscape
A13: Cemetery Lodge, 250 Turkey Road, Bexhill | B13: BX43 | C13: Bexhill | D13: Residential | E13: 6 dwellings | F13: 0.07 | G13: 0.07 | H13: 80 | K13: Planning permission | L13: BF
A14: Coldharbour Farm Estate, Coldharbour Lane, Brightling | B14: BRI1 | C14: Brightling | D14: Non-resi | E14: 1861 sqm employment floorspace | F14: 0.97 | G14: 0.18 | H14: NA | I14: E(g), B2, B8 | J14: 0.18 | K14: Planning permission | L14: BF | M14: Within High Weald National Landscape
A15: Croft Field, Etchi+A85+A98 | B15: EC3 | C15: Etchingham | E15: 55 dwellings | F15: 3.05 | G15: 1.53 | H15: 35 | K15: New HELAA site | L15: GF | M15: Within High Weald National Landscape
A16: Culverwells, Land north of Station Road, Robertsbridge | B16: RB5 | C16: Salehurst & Robertsbridge | D16: Mixed-use | E16: (a) 21 dwellings (b) doctor's surgery | F16: 1.94 | G16: 1.46 | H16: 15 | K16: Planning permission | L16: BF | M16: Within High Weald National Landscape
A17: Egmont Farm, Northiam | B17: NR2 | C17: Northiam | D17: Residential | E17: 25 dwellings | F17: 1.61 | G17: 1 | H17: 25 | K17: New HELAA site | L17: Mixed | M17: Within High Weald National Landscape
A18: Eversley Road Car Park, Eversley Road, Bexhill | B18: BX13 | C18: Bexhill | D18: Residential | E18: 10 dwellings | F18: 0.07 | G18: 0.05 | H18: 200 | K18: New HELAA site | L18: BF
A19: Field at Halfhouse, Butchers Lane, Three Oaks | B19: GU6 | E19: 12 dwellings | F19: 0.8 | G19: 0.36 | H19: 35 | M19: Within High Weald National Landscape
A20: Former Bexhill High School Site, Bexhill | B20: BX8 | C20: Bexhill | D20: Residential | E20: 80 dwellings | F20: 1.65 | G20: 1 | H20: 80 | K20: Existing DaSA allocation but for increased dwellings/ smaller site | L20: BF
A21: Former Council Depot, Cyprus Place, Rye | B21: RY6 | C21: Rye | D21: Residential | E21: 7 dwellings | F21: 0.08 | G21: 0.08 | H21: 40 | K21: New HELAA site | L21: BF
A22: Former Guestling Highways Depot, Guestling Green | B22: GU5 | C22: Guestling | D22: Residential | E22: 8 dwellings | F22: 0.39 | G22: 0.23 | H22: 35 | K22: New HELAA site | L22: GF | M22: Within High Weald National Landscape
A23: Former Lower School site, Rye | B23: RY9 | C23: Rye | D23: Residential | E23: 88 dwellings | F23: 0.76 | G23: 0.65 | H23: 130 | K23: Previous planning permission/ extant NP allocation (increased density) | L23: BF | M23: Within Flood Zone 3
A24: Former Sidley Sports Ground, Bexhill | B24: BX41 | C24: Bexhill | D24: Residential | E24: 50 dwellings | F24: 1.94 | G24: 0.9 | H24: 60 | K24: Existing site allocation (DaSA) but for alternative use (sports pitches) | L24: BF
A25: Former Tilling Green School, Rye | B25: RY1 | C25: Rye | D25: Residential | E25: 25 dwellings | F25: 0.92 | G25: 0.5 | H25: 40 | K25: Extant Neighbourhood Plan allocation | L25: BF | M25: Within Flood Zone 3
A26: Freshfields Farm, Westfield Lane, Westfield | B26: WS5 | C26: Westfield | D26: Non-resi | E26: 2000 sqm employment floorspace | H26: NA | I26: E(g), B2, B8 | J26: 0.5 | K26: New HELAA site | L26: BF | M26: Within High Weald National Landscape
A27: Gorses Car Park and Open Space, The Gorses, Bexhill | B27: BX19 | C27: Bexhill | D27: Residential | E27: 10 dwellings | F27: 0.39 | G27: 0.06 | H27: 166 | K27: New HELAA site | L27: BF
A28: Grove Farm, Robertsbridge | B28: RB2 | C28: Salehurst & Robertsbridge | D28: Residential | E28: 32 dwellings | F28: 1.7 | G28: 1.23 | H28: 26 | K28: Planning permission | L28: Mixed | M28: Within High Weald National Landscape
A29: Hawkhurst Road, Flimwell | B29: FW2a | C29: Ticehurst | D29: Mixed-use | E29: (a) 114 dwellings (b) 1,650 sqm employment floorspace (c) new community use facility or building (d) convenience retail unit | F29: 3.25 | G29: 2 | H29: 35 | K29: New HELAA site | L29: GF | M29: Within High Weald National Landscape
A30: Hodson's Mill, Northbridge Street, Robertsbridge | B30: RB6a | C30: Salehurst & Robertsbridge | D30: Mixed-use | E30: (a) 96 dwellings (b) 1,200 sqm of Class E floorspace | F30: 3.96 | G30: 2.41 | H30: 40 | K30: Extant Neighbourhood Plan allocation/ previous planning permission | L30: Mixed | M30: Within High Weald National Landscape
A31: Land adjacent to 1 Loose Farm Cottages, Battle | B31: BT8 | C31: Battle | D31: Residential | E31: 5 dwellings | F31: 0.17 | G31: 0.11 | H31: 35 | K31: New HELAA site | L31: GF | M31: Within High Weald National Landscape
A32: Land adjacent to 276 Turkey Road, Bexhill | B32: BX42 | C32: Bexhill | D32: Residential | E32: 30 dwellings | F32: 1.15 | G32: 0.75 | H32: 40 | K32: Existing DaSA allocation | L32: GF
A33: Land adjacent to Bexhill Town Hall, Bexhill | B33: BX6 | C33: Bexhill | D33: Mixed-use | E33: 36 dwellings and retention of office use | F33: 0.59 | G33: 0.1 | H33: 200 | K33: New HELAA site | L33: BF | M33: Adjacent listed building
A34: Land adjacent to Little Sherwood Industry Park, Icklesham | B34: IK1 | E34: 26 dwellings | F34: 1.7 | G34: 0.77 | H34: 35 | K34: New HELAA site | L34: GF | M34: Within High Weald National Landscape
A35: Land adjacent to St John the Baptist Church, Sedlescombe | B35: SD4 | C35: Sedlescombe | D35: Residential | E35: 17 dwellings | F35: 1.16 | G35: 0.46 | H35: 35 | K35: Extant Neighbourhood Plan allocation | L35: GF | M35: Within High Weald National Landscape
A36: Land adjacent to Station Car Park, Crowhurst | B36: CR3 | C36: Crowhurst | D36: Residential | E36: 6 dwellings | F36: 0.08 | G36: 0.08 | H36: 75 | K36: Existing NP allocation | L36: GF | M36: Within High Weald National Landscape
A37: Land adjoining Little Brans, Battle | B37: BT10 | C37: Battle | D37: Residential | E37: 65 dwellings | F37: 5.75 | G37: 2.29 | H37: 35 | K37: New HELAA site | L37: GF | M37: Within High Weald National Landscape
A38: Land at 101 Shrub Lane, Burwash | B38: BW2 | C38: Burwash | D38: Residential | E38: 6 dwellings | F38: 0.18 | G38: 0.18 | H38: 36 | K38: New HELAA site | L38: GF | M38: Within High Weald National Landscape
A39: Land at Almonry Farm, Battle | B39: BT7 | C39: Battle | D39: Residential | E39: 80 dwellings | F39: 4.8 | G39: 2.4 | H39: 35 | K39: New HELAA site | L39: GF | M39: Within High Weald National Landscape
A40: Land at Barnhorn Green, Bexhill | B40: BX25 | C40: Bexhill | D40: Mixed-use | E40: (a) medical centre (b) 2025 sqm employment floorspace | F40: 1.58 | K40: Planning permission | L40: GF
...
